{"text_format":"1","workbook":"xlsx","n_sheets":4,"sheets":["所得税源泉徴収簿","給料・手当等の支給金額の内訳","源泉徴収票","賞与の税額表"],"not_rendered":{"charts":0,"images":0,"macros":1,"external_links":0,"defined_names":2,"comments":0,"pivot_tables":0},"unopened":[],"bounds":{"document_bytes":16777216,"sheet_cells":100000,"rows_first":2000,"rows_last":500,"rows_between":2000,"halvings":0,"cell_chars":16384,"cell_head_chars":4096},"cells_cut":0,"cells_raw":0,"read":"whole","date_system":"1900"}

{"sheet":"所得税源泉徴収簿","index":0,"n_rows":121,"n_cols":84,"rows_kept":121,"cut":false,"hidden":false,"merged":[[11,1,15,1],[16,1,18,1],[19,1,21,1],[22,0,24,1],[10,0,21,0],[4,51,5,51],[4,48,5,48],[4,49,5,49],[4,50,5,50],[9,39,10,40],[9,41,10,45],[9,46,10,49],[23,35,24,37],[13,3,18,3],[19,11,21,14],[19,20,21,21],[19,22,21,25],[22,22,24,25],[19,26,21,28],[19,29,21,32],[22,4,24,4],[15,35,20,37],[15,38,20,40],[16,29,18,32],[6,33,8,48],[6,49,8,60],[9,33,14,38],[9,57,10,60],[11,39,14,40],[11,41,14,45],[11,46,14,49],[11,52,14,56],[11,57,14,60],[11,50,14,51],[15,57,24,59],[25,57,26,59],[15,50,20,56],[18,44,20,46],[18,47,20,49],[9,50,10,51],[27,57,28,59],[29,57,30,59],[31,57,32,59],[21,53,32,56],[9,52,10,56],[21,38,22,40],[21,41,22,43],[21,44,22,46],[21,47,22,49],[21,50,22,52],[23,38,24,40],[23,41,24,43],[23,44,24,46],[23,47,24,49],[23,50,24,52],[25,35,26,37],[25,38,26,40],[25,41,26,43],[25,44,26,46],[25,47,26,49],[25,50,26,52],[27,35,28,37],[27,38,28,40],[31,35,32,37],[31,38,32,40],[31,41,32,43],[27,41,28,43],[27,44,28,46],[27,47,28,49],[27,50,28,52],[29,41,30,43],[29,44,30,46],[29,47,30,49],[29,50,30,52],[105,15,109,19],[118,15,118,20],[118,21,118,23],[119,15,119,20],[119,21,119,23],[120,15,120,20],[120,21,120,23],[110,32,111,60],[115,15,115,20],[115,21,115,23],[116,15,116,20],[116,21,116,23],[117,15,117,20],[117,21,117,23],[107,52,109,52],[107,53,109,60],[104,52,106,52],[104,53,106,60],[101,53,103,60],[105,20,109,21],[105,22,109,22],[105,23,109,25],[105,26,109,28],[105,29,109,32],[107,37,109,51],[98,52,100,52],[99,29,101,32],[100,22,101,25],[101,39,103,51],[101,52,103,52],[96,29,98,32],[97,22,98,25],[98,37,103,38],[98,39,100,51],[95,52,97,52],[95,53,97,60],[102,23,102,24],[102,26,104,28],[102,29,104,32],[103,22,104,25],[104,34,109,36],[104,37,106,51],[96,3,98,3],[96,4,98,4],[102,3,104,3],[102,4,104,4],[102,5,104,5],[102,6,104,10],[102,11,104,14],[102,15,104,19],[102,20,104,21],[99,15,101,19],[99,20,101,21],[96,5,98,5],[96,6,98,10],[96,11,98,14],[99,23,99,24],[99,26,101,28],[96,26,98,28],[90,15,92,19],[90,20,92,21],[90,23,90,24],[90,26,92,28],[90,29,92,32],[91,22,92,25],[96,15,98,19],[96,20,98,21],[96,23,96,24],[93,11,95,14],[93,15,95,19],[93,20,95,21],[93,23,93,24],[90,2,109,2],[90,3,92,3],[90,4,92,4],[90,5,92,5],[90,6,92,10],[90,11,92,14],[93,3,95,3],[93,4,95,4],[93,5,95,5],[93,6,95,10],[99,3,101,3],[99,4,101,4],[99,5,101,5],[99,6,101,10],[99,11,101,14],[105,3,109,5],[105,6,109,6],[105,7,109,10],[105,11,109,11],[105,12,109,14],[85,20,89,21],[85,22,89,22],[85,23,89,25],[85,26,89,28],[85,29,89,32],[86,34,88,51],[82,34,85,51],[82,52,85,52],[82,53,82,60],[83,53,85,60],[86,52,88,52],[86,53,88,60],[89,34,103,36],[89,37,91,51],[89,52,91,52],[89,53,91,60],[92,37,94,51],[92,52,94,52],[92,53,94,60],[95,37,97,51],[93,26,95,28],[93,29,95,32],[94,22,95,25],[98,53,100,60],[85,3,89,5],[85,6,89,6],[85,7,89,10],[85,11,89,11],[85,12,89,14],[85,15,89,19],[79,53,81,60],[82,4,84,4],[82,5,84,5],[82,6,84,10],[82,11,84,14],[82,15,84,19],[82,20,84,21],[82,22,84,25],[82,26,84,28],[82,29,84,32],[79,20,81,21],[79,22,81,25],[79,26,81,28],[79,29,81,32],[79,34,81,51],[79,52,81,52],[79,3,84,3],[79,4,81,4],[79,5,81,5],[79,6,81,10],[79,11,81,14],[79,15,81,19],[76,22,78,25],[76,26,78,28],[76,29,78,32],[76,34,78,51],[76,52,78,52],[76,53,78,60],[76,4,78,4],[76,5,78,5],[76,6,78,10],[76,11,78,14],[76,15,78,19],[76,20,78,21],[73,15,75,19],[73,20,75,21],[73,22,75,25],[73,26,75,28],[73,29,75,32],[73,45,75,51],[72,34,75,43],[72,44,75,44],[72,45,72,51],[72,52,75,52],[72,53,75,60],[73,3,78,3],[73,4,75,4],[73,5,75,5],[73,6,75,10],[73,11,75,14],[69,44,71,44],[69,45,71,51],[70,4,72,4],[70,5,72,5],[70,6,72,10],[70,11,72,14],[70,15,72,19],[70,20,72,21],[70,22,72,25],[70,26,72,28],[66,44,68,44],[66,45,68,51],[67,3,72,3],[67,4,69,4],[67,5,69,5],[67,6,69,10],[67,11,69,14],[67,15,69,19],[67,20,69,21],[67,22,69,25],[64,15,66,19],[64,20,66,21],[64,22,66,25],[64,26,66,28],[64,29,66,32],[66,34,68,43],[67,26,69,28],[67,29,69,32],[69,34,71,43],[70,29,72,32],[61,3,66,3],[61,4,63,4],[61,5,63,5],[61,6,63,10],[61,11,63,14],[61,15,63,19],[64,4,66,4],[64,5,66,5],[64,6,66,10],[64,11,66,14],[58,15,60,19],[58,20,60,21],[58,22,60,25],[61,22,63,25],[58,26,60,28],[58,29,60,32],[58,52,60,60],[60,34,62,43],[60,44,62,44],[60,45,62,51],[61,20,63,21],[55,22,57,25],[55,26,57,28],[55,29,57,32],[56,52,57,52],[56,53,57,59],[56,60,57,60],[57,34,59,43],[57,44,59,44],[57,45,59,51],[61,26,63,28],[61,29,63,32],[61,52,62,52],[61,53,62,59],[61,60,62,60],[63,34,65,43],[63,44,65,44],[63,45,65,51],[55,3,60,3],[55,4,57,4],[55,5,57,5],[55,6,57,10],[55,11,57,14],[55,15,57,19],[58,4,60,4],[58,5,60,5],[58,6,60,10],[58,11,60,14],[49,20,51,21],[49,22,51,25],[49,26,51,28],[49,29,51,32],[49,52,50,60],[51,36,53,43],[51,44,53,44],[51,45,53,51],[51,52,52,52],[51,53,52,59],[52,20,54,21],[52,22,54,25],[52,26,54,28],[52,29,54,32],[53,52,55,60],[54,36,56,43],[54,44,56,44],[54,45,56,51],[55,20,57,21],[49,3,54,3],[49,4,51,4],[49,5,51,5],[49,6,51,10],[49,11,51,14],[49,15,51,19],[52,4,54,4],[52,5,54,5],[52,6,54,10],[52,11,54,14],[52,15,54,19],[47,53,48,59],[47,60,48,60],[48,34,56,35],[48,36,50,43],[48,44,50,44],[48,45,50,51],[51,60,52,60],[45,44,47,44],[45,45,47,51],[45,52,46,60],[46,26,48,28],[46,29,48,32],[43,5,45,5],[43,6,45,10],[43,11,45,14],[43,15,45,19],[43,20,45,21],[40,20,42,21],[40,22,42,25],[40,26,42,28],[40,29,42,32],[36,0,84,1],[36,34,38,43],[36,44,38,44],[37,3,42,3],[37,4,39,4],[37,5,39,5],[37,6,39,10],[34,4,36,4],[34,5,36,5],[34,6,36,10],[34,11,36,14],[34,15,36,19],[34,20,36,21],[37,11,39,14],[37,15,39,19],[37,20,39,21],[37,22,39,25],[37,26,39,28],[37,29,39,32],[34,22,36,25],[34,26,36,28],[40,4,42,4],[46,4,48,4],[46,5,48,5],[43,3,48,3],[43,4,45,4],[33,33,109,33],[33,34,35,43],[33,44,35,51],[33,52,35,60],[36,45,38,51],[36,52,38,52],[36,53,38,60],[45,34,47,43],[47,52,48,52],[43,22,45,25],[43,26,45,28],[43,29,45,32],[46,6,48,10],[46,11,48,14],[46,15,48,19],[46,20,48,21],[46,22,48,25],[42,45,44,51],[40,5,42,5],[40,6,42,10],[40,11,42,14],[40,15,42,19],[34,29,36,32],[25,60,32,60],[42,53,44,60],[42,34,44,43],[42,44,44,44],[39,34,41,43],[39,44,41,44],[39,45,41,51],[39,52,41,52],[39,53,41,60],[42,52,44,52],[31,44,32,46],[31,47,32,49],[31,50,32,52],[29,35,30,37],[29,38,30,40],[25,34,32,34],[31,29,33,32],[15,33,32,33],[15,34,24,34],[15,60,24,60],[15,41,20,43],[15,44,17,49],[21,35,22,37],[27,0,35,0],[27,1,35,1],[25,22,27,25],[25,26,27,28],[25,3,30,3],[25,4,27,4],[25,5,27,5],[25,6,27,10],[25,11,27,14],[25,15,27,19],[25,20,27,21],[28,4,30,4],[28,5,30,5],[28,6,30,10],[28,11,30,14],[28,15,30,19],[28,20,30,21],[28,22,30,25],[28,26,30,28],[31,3,36,3],[31,4,33,4],[31,5,33,5],[31,6,33,10],[31,11,33,14],[28,29,30,32],[31,26,33,28],[22,26,24,28],[22,29,24,32],[25,29,27,32],[31,22,33,25],[22,5,24,5],[22,6,24,10],[22,11,24,14],[22,15,24,19],[22,20,24,21],[31,15,33,19],[31,20,33,21],[19,3,24,3],[19,4,21,4],[19,5,21,5],[19,6,21,10],[16,4,18,4],[16,5,18,5],[16,6,18,10],[16,11,18,14],[16,15,18,19],[16,20,18,21],[16,22,18,25],[16,26,18,28],[13,26,15,28],[13,29,15,32],[6,29,12,32],[6,2,12,2],[6,3,12,3],[13,2,89,2],[6,4,12,5],[6,6,12,10],[6,11,12,14],[6,15,12,19],[6,20,12,21],[6,22,12,25],[6,26,12,28],[19,15,21,19],[13,4,15,4],[13,5,15,5],[13,6,15,10],[13,11,15,14],[13,15,15,19],[13,20,15,21],[13,22,15,25],[0,56,5,60],[0,54,5,55],[0,42,5,42],[0,43,1,45],[2,43,3,53],[4,43,5,45],[4,46,5,47],[4,52,5,52],[4,53,5,53],[0,46,1,53],[1,0,3,1],[3,4,5,9],[3,11,5,16],[0,21,1,22],[0,23,1,23],[0,24,1,26],[0,27,1,27],[0,2,5,3],[0,4,2,9],[0,10,5,10],[0,11,2,16],[0,17,5,17],[0,18,1,20],[4,18,5,41],[2,18,3,41],[0,37,1,41]]}
[null,null,"所属",null,null,null,null,null,null,null,"職名",null,null,null,null,null,null,"住所","(郵便番号",null,null,null,null,"−",null,null,null,")",null,null,null,null,null,null,null,null,null,null,null,null,null,null,"氏名","(フリガナ)",null,null,null,null,null,null,null,null,null,null,"整理\n番号"]
[{"$f":"IF(A119=1,\"甲欄\",\"乙欄\")","v":"甲欄"}]
[]
[]
[null,null,null,null,null,null,null,null,null,null,null,null,null,null,null,null,null,null,null,null,null,null,null,null,null,null,null,null,null,null,null,null,null,null,null,null,null,null,null,null,null,null,null,"(生年月日",null,null,{"$f":"IF(AR121=1,\"明治\",IF(AR121=2,\"大正\",IF(AR121=3,\"昭和\",IF(AR121=4,\"平成\",\"\"))))","v":"昭和"},null,null,"年",null,"月",null,"日)"]
[]
[null,null,"区分","月区分","支給\n月日",null,"総支給金額",null,null,null,null,"社会保険\n料等の\n控除額",null,null,null,"社会保険料等\n控除後の給与\n等の金額",null,null,null,null,"扶養親\n族等の\n数",null,"算出税額",null,null,null,"年末調整\nによる過\n不足税額",null,null,"差引\n徴収税額",null,null,null,"前年の年末調整に基づき繰り越した過不足税額"]
[]
[]
[null,null,null,null,null,null,null,null,null,null,null,null,null,null,null,null,null,null,null,null,null,null,null,null,null,null,null,null,null,null,null,null,null,"同上の税額につ\nき還付又は徴収\nした月区分",null,null,null,null,null,"月別",null,"還付又は徴収した税額",null,null,null,null,"差引残高",null,null,null,"月別",null,"還付又は徴収した税額",null,null,null,null,"差引残高",null,null,null,null,null,null,null,"甲欄",null,null,null,null,"乙欄"]
["(二〇一九年)"]
[null,"平成",null,null,null,null,null,null,null,null,null,null,null,null,null,null,null,null,null,null,null,null,null,null,null,null,null,null,null,null,null,null,null,null,null,null,null,null,null,null,null,null,null,null,null,null,null,null,null,null,null,null,null,null,null,null,null,null,null,null,null,null,null,null,null,"算出税額","その月の課税給与所得金額","給与所得控除の額","控除対象","算出税額","算出税額","階差","同一階差の最小値","計算基準額","計算基準額×1.5","給与所得控除額","税率","B","計算基準額×2.5","給与所得控除額","税率","A","A-B","C"]
[]
[null,null,"給　　料　　・　　手　　当　　等",1,null,null,null,null,null,null,null,null,null,null,null,{"$f":"G14-L14","v":0},null,null,null,null,null,null,{"$f":"IF(A2=\"甲欄\",BN14,BS14)","v":0},null,null,null,null,null,null,{"$f":"W14+AA14","v":0},null,null,null,null,null,null,null,null,null,null,null,null,null,null,null,null,null,null,null,null,null,null,null,null,null,null,null,null,null,null,null,null,null,null,null,{"$f":"IF($BO14<=162500,ROUND($BO14*0.05105,-1),IF($BO14<=275000,ROUND($BO14*0.1021-8296,-1),IF($BO14<=579166,ROUND($BO14*0.2042-36374,-1),IF($BO14<=750000,ROUND($BO14*0.23483-54113,-1),IF($BO14<=1500000,ROUND($BO14*0.33693-130688,-1),IF($BO14<=3333333,ROUND($BO14*0.4084-237893,-1),ROUND($BO14*0.45945-408061,-1)))))))","v":0},{"$f":"IF(P14-BP14-BQ14<=0,0,P14-BP14-BQ14)","v":0},{"$f":"IF(P14<=135416,54167,IF(P14<=149999,ROUNDUP(P14*0.4,0),IF(P14<=299999,ROUNDUP(P14*0.3+15000,0),IF(P14<=549999,ROUNDUP(P14*0.2+45000,0),IF(P14<=833333,ROUNDUP(P14*0.1+100000,0),IF(P14<=999999,ROUNDUP(P14*0.05+141667,0),191667))))))","v":54167},{"$f":"(U14+1)*31667","v":31667},{"$f":"IF(P14<88000,(P14*0.03063)-($BG$28*1610),IF(P14<1010000,CE14,IF(P14<1250000,(396700+(P14-1010000)*0.4084)-($BG$28*1610),(494800+(P14-1250000)*0.45945)-($BG$28*1610))))","v":0},{"$f":"IF(BR14<0,0,BR14)","v":0},{"$f":"IF(P14<=98999,1000,IF(P14<=220999,2000,3000))","v":1000},{"$f":"IF(BT14=1000,88000,IF(BT14=2000,99000,221000))","v":88000},{"$f":"IF(P14<1010000,P14-MOD((P14-BU14),BT14),1010000)","v":0},{"$f":"BV14*1.5","v":0},{"$f":"IF(BW14<=135416,54167,IF(BW14<=149999,ROUNDUP(BW14*0.4,0),IF(BW14<=299999,ROUNDUP(BW14*0.3+15000,0),IF(BW14<=549999,ROUNDUP(BW14*0.2+45000,0),IF(BW14<=833333,ROUNDUP(BW14*0.1+100000,0),IF(BW14<=1249999,ROUNDUP(BW14*0.05+141667,0),204167))))))","v":54167},{"$f":"(BW14-BX14-31667)","v":-85834},{"$f":"IF($BY14<=162500,ROUNDDOWN($BY14*0.05,0),IF($BY14<=275000,ROUNDDOWN($BY14*0.1-8125,0),IF($BY14<=579166,ROUNDDOWN($BY14*0.2-35625,0),IF($BY14<=750000,ROUNDDOWN($BY14*0.23-53000,0),IF($BY14<=1500000,ROUNDDOWN($BY14*0.33028,0),ROUNDDOWN($BY14*0.4-233000,0))))))","v":-4291},{"$f":"BV14*2.5","v":0},{"$f":"IF(CA14<=135416,54167,IF(CA14<=149999,ROUNDUP(CA14*0.4,0),IF(CA14<=299999,ROUNDUP(CA14*0.3+15000,0),IF(CA14<=549999,ROUNDUP(CA14*0.2+45000,0),IF(CA14<=833333,ROUNDUP(CA14*0.1+100000,0),IF(CA14<=1249999,ROUNDUP(CA14*0.05+141667,0),204167))))))","v":54167},{"$f":"(CA14-CB14-31667)","v":-85834},{"$f":"IF($CC14<=162500,ROUNDDOWN($CC14*0.05,0),IF($CC14<=275000,ROUNDDOWN($CC14*0.1-8125,0),IF($CC14<=579166,ROUNDDOWN($CC14*0.2-35625,0),IF($CC14<=750000,ROUNDDOWN($CC14*0.23-53000,0),IF($CC14<=1500000,ROUNDDOWN($CC14*0.33028,0),ROUNDDOWN($CC14*0.4-233000,0))))))","v":-4291},{"$f":"ROUND(CD14-BZ14,-2)","v":0},{"$f":"ROUND(CE14*1.021,-2)","v":0}]
[]
[null,null,null,null,null,null,null,null,null,null,null,null,null,null,null,null,null,null,null,null,null,null,null,null,null,null,null,null,null,null,null,null,null,"扶養控除等の申告","申告の有無","源泉控除\n対象配偶者",null,null,"一般の\n控除対象\n扶養親族",null,null,"特定扶\n養親族",null,null,"老人扶養親族",null,null,null,null,null,"障害者等\n(該当するものを○で囲んでください。)",null,null,null,null,null,null,"従たる給与\nから控除す\nる控除対象\n配偶者と控\n除対象扶養\n親族の合計\n数",null,null,"配偶者の有無"]
[null,31,null,null,null,null,null,null,null,null,null,null,null,null,null,{"$f":"G17-L17","v":0},null,null,null,null,null,null,{"$f":"IF(A2=\"甲欄\",BN17,BS17)","v":0},null,null,null,null,null,null,{"$f":"W17+AA17","v":0},null,null,null,null,null,null,null,null,null,null,null,null,null,null,null,null,null,null,null,null,null,null,null,null,null,null,null,null,null,null,null,null,null,null,null,{"$f":"IF($BO17<=162500,ROUND($BO17*0.05105,-1),IF($BO17<=275000,ROUND($BO17*0.1021-8296,-1),IF($BO17<=579166,ROUND($BO17*0.2042-36374,-1),IF($BO17<=750000,ROUND($BO17*0.23483-54113,-1),IF($BO17<=1500000,ROUND($BO17*0.33693-130688,-1),IF($BO17<=3333333,ROUND($BO17*0.4084-237893,-1),ROUND($BO17*0.45945-408061,-1)))))))","v":0},{"$f":"IF(P17-BP17-BQ17<=0,0,P17-BP17-BQ17)","v":0},{"$f":"IF(P17<=135416,54167,IF(P17<=149999,ROUNDUP(P17*0.4,0),IF(P17<=299999,ROUNDUP(P17*0.3+15000,0),IF(P17<=549999,ROUNDUP(P17*0.2+45000,0),IF(P17<=833333,ROUNDUP(P17*0.1+100000,0),IF(P17<=999999,ROUNDUP(P17*0.05+141667,0),191667))))))","v":54167},{"$f":"(U17+1)*31667","v":31667},{"$f":"IF(P17<88000,(P17*0.03063)-($BG$28*1610),IF(P17<1010000,CE17,IF(P17<1250000,(396700+(P17-1010000)*0.4084)-($BG$28*1610),(494800+(P17-1250000)*0.45945)-($BG$28*1610))))","v":0},{"$f":"IF(BR14<0,0,BR14)","v":0},{"$f":"IF(P17<=98999,1000,IF(P17<=220999,2000,3000))","v":1000},{"$f":"IF(BT17=1000,88000,IF(BT17=2000,99000,221000))","v":88000},{"$f":"IF(P17<1010000,P17-MOD((P17-BU17),BT17),1010000)","v":0},{"$f":"BV17*1.5","v":0},{"$f":"IF(BW17<=135416,54167,IF(BW17<=149999,ROUNDUP(BW17*0.4,0),IF(BW17<=299999,ROUNDUP(BW17*0.3+15000,0),IF(BW17<=549999,ROUNDUP(BW17*0.2+45000,0),IF(BW17<=833333,ROUNDUP(BW17*0.1+100000,0),IF(BW17<=1249999,ROUNDUP(BW17*0.05+141667,0),204167))))))","v":54167},{"$f":"(BW17-BX17-31667)","v":-85834},{"$f":"IF($BY17<=162500,ROUNDDOWN($BY17*0.05,0),IF($BY17<=275000,ROUNDDOWN($BY17*0.1-8125,0),IF($BY17<=579166,ROUNDDOWN($BY17*0.2-35625,0),IF($BY17<=750000,ROUNDDOWN($BY17*0.23-53000,0),IF($BY17<=1500000,ROUNDDOWN($BY17*0.33028,0),ROUNDDOWN($BY17*0.4-233000,0))))))","v":-4291},{"$f":"BV17*2.5","v":0},{"$f":"IF(CA17<=135416,54167,IF(CA17<=149999,ROUNDUP(CA17*0.4,0),IF(CA17<=299999,ROUNDUP(CA17*0.3+15000,0),IF(CA17<=549999,ROUNDUP(CA17*0.2+45000,0),IF(CA17<=833333,ROUNDUP(CA17*0.1+100000,0),IF(CA17<=1249999,ROUNDUP(CA17*0.05+141667,0),204167))))))","v":54167},{"$f":"(CA17-CB17-31667)","v":-85834},{"$f":"IF($CC17<=162500,ROUNDDOWN($CC17*0.05,0),IF($CC17<=275000,ROUNDDOWN($CC17*0.1-8125,0),IF($CC17<=579166,ROUNDDOWN($CC17*0.2-35625,0),IF($CC17<=750000,ROUNDDOWN($CC17*0.23-53000,0),IF($CC17<=1500000,ROUNDDOWN($CC17*0.33028,0),ROUNDDOWN($CC17*0.4-233000,0))))))","v":-4291},{"$f":"ROUND(CD17-BZ17,-2)","v":0},{"$f":"ROUND(CE17*1.021,-2)","v":0}]
[]
[null,null,null,null,null,null,null,null,null,null,null,null,null,null,null,null,null,null,null,null,null,null,null,null,null,null,null,null,null,null,null,null,null,null,null,null,null,null,null,null,null,null,null,null,"同居老親等",null,null,"その他"]
[null,"年",null,2,null,null,null,null,null,null,null,null,null,null,null,{"$f":"G20-L20","v":0},null,null,null,null,null,null,{"$f":"IF(A2=\"甲欄\",BN20,BS20)","v":0},null,null,null,null,null,null,{"$f":"W20+AA20","v":0},null,null,null,null,null,null,null,null,null,null,null,null,null,null,null,null,null,null,null,null,null,null,null,null,null,null,null,null,null,null,null,null,null,null,null,{"$f":"IF($BO20<=162500,ROUND($BO20*0.05105,-1),IF($BO20<=275000,ROUND($BO20*0.1021-8296,-1),IF($BO20<=579166,ROUND($BO20*0.2042-36374,-1),IF($BO20<=750000,ROUND($BO20*0.23483-54113,-1),IF($BO20<=1500000,ROUND($BO20*0.33693-130688,-1),IF($BO20<=3333333,ROUND($BO20*0.4084-237893,-1),ROUND($BO20*0.45945-408061,-1)))))))","v":0},{"$f":"IF(P20-BP20-BQ20<=0,0,P20-BP20-BQ20)","v":0},{"$f":"IF(P20<=135416,54167,IF(P20<=149999,ROUNDUP(P20*0.4,0),IF(P20<=299999,ROUNDUP(P20*0.3+15000,0),IF(P20<=549999,ROUNDUP(P20*0.2+45000,0),IF(P20<=833333,ROUNDUP(P20*0.1+100000,0),IF(P20<=999999,ROUNDUP(P20*0.05+141667,0),191667))))))","v":54167},{"$f":"(U20+1)*31667","v":31667},{"$f":"IF(P20<88000,(P20*0.03063)-($BG$28*1610),IF(P20<1010000,CE20,IF(P20<1250000,(396700+(P20-1010000)*0.4084)-($BG$28*1610),(494800+(P20-1250000)*0.45945)-($BG$28*1610))))","v":0},{"$f":"IF(BR14<0,0,BR14)","v":0},{"$f":"IF(P20<=98999,1000,IF(P20<=220999,2000,3000))","v":1000},{"$f":"IF(BT20=1000,88000,IF(BT20=2000,99000,221000))","v":88000},{"$f":"IF(P20<1010000,P20-MOD((P20-BU20),BT20),1010000)","v":0},{"$f":"BV20*1.5","v":0},{"$f":"IF(BW20<=135416,54167,IF(BW20<=149999,ROUNDUP(BW20*0.4,0),IF(BW20<=299999,ROUNDUP(BW20*0.3+15000,0),IF(BW20<=549999,ROUNDUP(BW20*0.2+45000,0),IF(BW20<=833333,ROUNDUP(BW20*0.1+100000,0),IF(BW20<=1249999,ROUNDUP(BW20*0.05+141667,0),204167))))))","v":54167},{"$f":"(BW20-BX20-31667)","v":-85834},{"$f":"IF($BY20<=162500,ROUNDDOWN($BY20*0.05,0),IF($BY20<=275000,ROUNDDOWN($BY20*0.1-8125,0),IF($BY20<=579166,ROUNDDOWN($BY20*0.2-35625,0),IF($BY20<=750000,ROUNDDOWN($BY20*0.23-53000,0),IF($BY20<=1500000,ROUNDDOWN($BY20*0.33028,0),ROUNDDOWN($BY20*0.4-233000,0))))))","v":-4291},{"$f":"BV20*2.5","v":0},{"$f":"IF(CA20<=135416,54167,IF(CA20<=149999,ROUNDUP(CA20*0.4,0),IF(CA20<=299999,ROUNDUP(CA20*0.3+15000,0),IF(CA20<=549999,ROUNDUP(CA20*0.2+45000,0),IF(CA20<=833333,ROUNDUP(CA20*0.1+100000,0),IF(CA20<=1249999,ROUNDUP(CA20*0.05+141667,0),204167))))))","v":54167},{"$f":"(CA20-CB20-31667)","v":-85834},{"$f":"IF($CC20<=162500,ROUNDDOWN($CC20*0.05,0),IF($CC20<=275000,ROUNDDOWN($CC20*0.1-8125,0),IF($CC20<=579166,ROUNDDOWN($CC20*0.2-35625,0),IF($CC20<=750000,ROUNDDOWN($CC20*0.23-53000,0),IF($CC20<=1500000,ROUNDDOWN($CC20*0.33028,0),ROUNDDOWN($CC20*0.4-233000,0))))))","v":-4291},{"$f":"ROUND(CD20-BZ20,-2)","v":0},{"$f":"ROUND(CE20*1.021,-2)","v":0}]
[]
[null,null,null,null,null,null,null,null,null,null,null,null,null,null,null,null,null,null,null,null,null,null,null,null,null,null,null,null,null,null,null,null,null,null,null,"当初",null,null,"当初",null,null,"当初",null,null,"当初",null,null,"当初",null,null,"当初",null,null,"・一般の障害者\n本人・配・扶(    人)\n・特別障害者\n本人・配・扶(    人)\n・同居特別障害者\n配・扶(    人)\n・寡 婦・特別の寡婦\n・寡 夫\n・勤労学生"]
["分",null,null,null,null,null,null,null,null,null,null,null,null,null,null,{"$f":"G23-L23","v":0},null,null,null,null,null,null,{"$f":"IF(A2=\"甲欄\",BN23,BS23)","v":0},null,null,null,null,null,null,{"$f":"W23+AA23","v":0},null,null,null,null,null,null,null,null,null,null,null,null,null,null,null,null,null,null,null,null,null,null,null,null,null,null,null,null,null,null,null,null,null,null,null,{"$f":"IF($BO23<=162500,ROUND($BO23*0.05105,-1),IF($BO23<=275000,ROUND($BO23*0.1021-8296,-1),IF($BO23<=579166,ROUND($BO23*0.2042-36374,-1),IF($BO23<=750000,ROUND($BO23*0.23483-54113,-1),IF($BO23<=1500000,ROUND($BO23*0.33693-130688,-1),IF($BO23<=3333333,ROUND($BO23*0.4084-237893,-1),ROUND($BO23*0.45945-408061,-1)))))))","v":0},{"$f":"IF(P23-BP23-BQ23<=0,0,P23-BP23-BQ23)","v":0},{"$f":"IF(P23<=135416,54167,IF(P23<=149999,ROUNDUP(P23*0.4,0),IF(P23<=299999,ROUNDUP(P23*0.3+15000,0),IF(P23<=549999,ROUNDUP(P23*0.2+45000,0),IF(P23<=833333,ROUNDUP(P23*0.1+100000,0),IF(P23<=999999,ROUNDUP(P23*0.05+141667,0),191667))))))","v":54167},{"$f":"(U23+1)*31667","v":31667},{"$f":"IF(P23<88000,(P23*0.03063)-($BG$28*1610),IF(P23<1010000,CE23,IF(P23<1250000,(396700+(P23-1010000)*0.4084)-($BG$28*1610),(494800+(P23-1250000)*0.45945)-($BG$28*1610))))","v":0},{"$f":"IF(BR14<0,0,BR14)","v":0},{"$f":"IF(P23<=98999,1000,IF(P23<=220999,2000,3000))","v":1000},{"$f":"IF(BT23=1000,88000,IF(BT23=2000,99000,221000))","v":88000},{"$f":"IF(P23<1010000,P23-MOD((P23-BU23),BT23),1010000)","v":0},{"$f":"BV23*1.5","v":0},{"$f":"IF(BW23<=135416,54167,IF(BW23<=149999,ROUNDUP(BW23*0.4,0),IF(BW23<=299999,ROUNDUP(BW23*0.3+15000,0),IF(BW23<=549999,ROUNDUP(BW23*0.2+45000,0),IF(BW23<=833333,ROUNDUP(BW23*0.1+100000,0),IF(BW23<=1249999,ROUNDUP(BW23*0.05+141667,0),204167))))))","v":54167},{"$f":"(BW23-BX23-31667)","v":-85834},{"$f":"IF($BY23<=162500,ROUNDDOWN($BY23*0.05,0),IF($BY23<=275000,ROUNDDOWN($BY23*0.1-8125,0),IF($BY23<=579166,ROUNDDOWN($BY23*0.2-35625,0),IF($BY23<=750000,ROUNDDOWN($BY23*0.23-53000,0),IF($BY23<=1500000,ROUNDDOWN($BY23*0.33028,0),ROUNDDOWN($BY23*0.4-233000,0))))))","v":-4291},{"$f":"BV23*2.5","v":0},{"$f":"IF(CA23<=135416,54167,IF(CA23<=149999,ROUNDUP(CA23*0.4,0),IF(CA23<=299999,ROUNDUP(CA23*0.3+15000,0),IF(CA23<=549999,ROUNDUP(CA23*0.2+45000,0),IF(CA23<=833333,ROUNDUP(CA23*0.1+100000,0),IF(CA23<=1249999,ROUNDUP(CA23*0.05+141667,0),204167))))))","v":54167},{"$f":"(CA23-CB23-31667)","v":-85834},{"$f":"IF($CC23<=162500,ROUNDDOWN($CC23*0.05,0),IF($CC23<=275000,ROUNDDOWN($CC23*0.1-8125,0),IF($CC23<=579166,ROUNDDOWN($CC23*0.2-35625,0),IF($CC23<=750000,ROUNDDOWN($CC23*0.23-53000,0),IF($CC23<=1500000,ROUNDDOWN($CC23*0.33028,0),ROUNDDOWN($CC23*0.4-233000,0))))))","v":-4291},{"$f":"ROUND(CD23-BZ23,-2)","v":0},{"$f":"ROUND(CE23*1.021,-2)","v":0}]
[null,null,null,null,null,null,null,null,null,null,null,null,null,null,null,null,null,null,null,null,null,null,null,null,null,null,null,null,null,null,null,null,null,null,null,"有　・　無",null,null,"　　　　人",null,null,"　　　　人",null,null,"　　　　人",null,null,"　　　　人",null,null,"　　　　人"]
[]
[null,null,null,3,null,null,null,null,null,null,null,null,null,null,null,{"$f":"G26-L26","v":0},null,null,null,null,null,null,{"$f":"IF(A2=\"甲欄\",BN26,BS26)","v":0},null,null,null,null,null,null,{"$f":"W26+AA26","v":0},null,null,null,null,{"$f":"IF(AI119=1,\"有\",\"無\")","v":"有"},"　　月　　日",null,null,"　　月　　日",null,null,"　　月　　日",null,null,"　　月　　日",null,null,"　　月　　日",null,null,"　　月　　日",null,null,null,null,null,null,"当初",null,null,{"$f":"IF(BI119=1,\"有\",\"無\")","v":"有"},null,null,null,null,{"$f":"IF($BO26<=162500,ROUND($BO26*0.05105,-1),IF($BO26<=275000,ROUND($BO26*0.1021-8296,-1),IF($BO26<=579166,ROUND($BO26*0.2042-36374,-1),IF($BO26<=750000,ROUND($BO26*0.23483-54113,-1),IF($BO26<=1500000,ROUND($BO26*0.33693-130688,-1),IF($BO26<=3333333,ROUND($BO26*0.4084-237893,-1),ROUND($BO26*0.45945-408061,-1)))))))","v":0},{"$f":"IF(P26-BP26-BQ26<=0,0,P26-BP26-BQ26)","v":0},{"$f":"IF(P26<=135416,54167,IF(P26<=149999,ROUNDUP(P26*0.4,0),IF(P26<=299999,ROUNDUP(P26*0.3+15000,0),IF(P26<=549999,ROUNDUP(P26*0.2+45000,0),IF(P26<=833333,ROUNDUP(P26*0.1+100000,0),IF(P26<=999999,ROUNDUP(P26*0.05+141667,0),191667))))))","v":54167},{"$f":"(U26+1)*31667","v":31667},{"$f":"IF(P26<88000,(P26*0.03063)-($BG$28*1610),IF(P26<1010000,CE26,IF(P26<1250000,(396700+(P26-1010000)*0.4084)-($BG$28*1610),(494800+(P26-1250000)*0.45945)-($BG$28*1610))))","v":0},{"$f":"IF(BR14<0,0,BR14)","v":0},{"$f":"IF(P26<=98999,1000,IF(P26<=220999,2000,3000))","v":1000},{"$f":"IF(BT26=1000,88000,IF(BT26=2000,99000,221000))","v":88000},{"$f":"IF(P26<1010000,P26-MOD((P26-BU26),BT26),1010000)","v":0},{"$f":"BV26*1.5","v":0},{"$f":"IF(BW26<=135416,54167,IF(BW26<=149999,ROUNDUP(BW26*0.4,0),IF(BW26<=299999,ROUNDUP(BW26*0.3+15000,0),IF(BW26<=549999,ROUNDUP(BW26*0.2+45000,0),IF(BW26<=833333,ROUNDUP(BW26*0.1+100000,0),IF(BW26<=1249999,ROUNDUP(BW26*0.05+141667,0),204167))))))","v":54167},{"$f":"(BW26-BX26-31667)","v":-85834},{"$f":"IF($BY26<=162500,ROUNDDOWN($BY26*0.05,0),IF($BY26<=275000,ROUNDDOWN($BY26*0.1-8125,0),IF($BY26<=579166,ROUNDDOWN($BY26*0.2-35625,0),IF($BY26<=750000,ROUNDDOWN($BY26*0.23-53000,0),IF($BY26<=1500000,ROUNDDOWN($BY26*0.33028,0),ROUNDDOWN($BY26*0.4-233000,0))))))","v":-4291},{"$f":"BV26*2.5","v":0},{"$f":"IF(CA26<=135416,54167,IF(CA26<=149999,ROUNDUP(CA26*0.4,0),IF(CA26<=299999,ROUNDUP(CA26*0.3+15000,0),IF(CA26<=549999,ROUNDUP(CA26*0.2+45000,0),IF(CA26<=833333,ROUNDUP(CA26*0.1+100000,0),IF(CA26<=1249999,ROUNDUP(CA26*0.05+141667,0),204167))))))","v":54167},{"$f":"(CA26-CB26-31667)","v":-85834},{"$f":"IF($CC26<=162500,ROUNDDOWN($CC26*0.05,0),IF($CC26<=275000,ROUNDDOWN($CC26*0.1-8125,0),IF($CC26<=579166,ROUNDDOWN($CC26*0.2-35625,0),IF($CC26<=750000,ROUNDDOWN($CC26*0.23-53000,0),IF($CC26<=1500000,ROUNDDOWN($CC26*0.33028,0),ROUNDDOWN($CC26*0.4-233000,0))))))","v":-4291},{"$f":"ROUND(CD26-BZ26,-2)","v":0},{"$f":"ROUND(CE26*1.021,-2)","v":0}]
[]
["給与所得","退職所得",null,null,null,null,null,null,null,null,null,null,null,null,null,null,null,null,null,null,null,null,null,null,null,null,null,null,null,null,null,null,null,null,null,"有　・　無",null,null,"　　　　人",null,null,"　　　　人",null,null,"　　　　人",null,null,"　　　　人",null,null,"　　　　人",null,null,null,null,null,null,"　　　　人"]
[null,null,null,null,null,null,null,null,null,null,null,null,null,null,null,{"$f":"G29-L29","v":0},null,null,null,null,null,null,{"$f":"IF(A2=\"甲欄\",BN29,BS29)","v":0},null,null,null,null,null,null,{"$f":"W29+AA29","v":0},null,null,null,null,null,null,null,null,null,null,null,null,null,null,null,null,null,null,null,null,null,null,null,null,null,null,null,null,null,null,null,null,null,null,null,{"$f":"IF($BO29<=162500,ROUND($BO29*0.05105,-1),IF($BO29<=275000,ROUND($BO29*0.1021-8296,-1),IF($BO29<=579166,ROUND($BO29*0.2042-36374,-1),IF($BO29<=750000,ROUND($BO29*0.23483-54113,-1),IF($BO29<=1500000,ROUND($BO29*0.33693-130688,-1),IF($BO29<=3333333,ROUND($BO29*0.4084-237893,-1),ROUND($BO29*0.45945-408061,-1)))))))","v":0},{"$f":"IF(P29-BP29-BQ29<=0,0,P29-BP29-BQ29)","v":0},{"$f":"IF(P29<=135416,54167,IF(P29<=149999,ROUNDUP(P29*0.4,0),IF(P29<=299999,ROUNDUP(P29*0.3+15000,0),IF(P29<=549999,ROUNDUP(P29*0.2+45000,0),IF(P29<=833333,ROUNDUP(P29*0.1+100000,0),IF(P29<=999999,ROUNDUP(P29*0.05+141667,0),191667))))))","v":54167},{"$f":"(U29+1)*31667","v":31667},{"$f":"IF(P29<88000,(P29*0.03063)-($BG$28*1610),IF(P29<1010000,CE29,IF(P29<1250000,(396700+(P29-1010000)*0.4084)-($BG$28*1610),(494800+(P29-1250000)*0.45945)-($BG$28*1610))))","v":0},{"$f":"IF(BR14<0,0,BR14)","v":0},{"$f":"IF(P29<=98999,1000,IF(P29<=220999,2000,3000))","v":1000},{"$f":"IF(BT29=1000,88000,IF(BT29=2000,99000,221000))","v":88000},{"$f":"IF(P29<1010000,P29-MOD((P29-BU29),BT29),1010000)","v":0},{"$f":"BV29*1.5","v":0},{"$f":"IF(BW29<=135416,54167,IF(BW29<=149999,ROUNDUP(BW29*0.4,0),IF(BW29<=299999,ROUNDUP(BW29*0.3+15000,0),IF(BW29<=549999,ROUNDUP(BW29*0.2+45000,0),IF(BW29<=833333,ROUNDUP(BW29*0.1+100000,0),IF(BW29<=1249999,ROUNDUP(BW29*0.05+141667,0),204167))))))","v":54167},{"$f":"(BW29-BX29-31667)","v":-85834},{"$f":"IF($BY29<=162500,ROUNDDOWN($BY29*0.05,0),IF($BY29<=275000,ROUNDDOWN($BY29*0.1-8125,0),IF($BY29<=579166,ROUNDDOWN($BY29*0.2-35625,0),IF($BY29<=750000,ROUNDDOWN($BY29*0.23-53000,0),IF($BY29<=1500000,ROUNDDOWN($BY29*0.33028,0),ROUNDDOWN($BY29*0.4-233000,0))))))","v":-4291},{"$f":"BV29*2.5","v":0},{"$f":"IF(CA29<=135416,54167,IF(CA29<=149999,ROUNDUP(CA29*0.4,0),IF(CA29<=299999,ROUNDUP(CA29*0.3+15000,0),IF(CA29<=549999,ROUNDUP(CA29*0.2+45000,0),IF(CA29<=833333,ROUNDUP(CA29*0.1+100000,0),IF(CA29<=1249999,ROUNDUP(CA29*0.05+141667,0),204167))))))","v":54167},{"$f":"(CA29-CB29-31667)","v":-85834},{"$f":"IF($CC29<=162500,ROUNDDOWN($CC29*0.05,0),IF($CC29<=275000,ROUNDDOWN($CC29*0.1-8125,0),IF($CC29<=579166,ROUNDDOWN($CC29*0.2-35625,0),IF($CC29<=750000,ROUNDDOWN($CC29*0.23-53000,0),IF($CC29<=1500000,ROUNDDOWN($CC29*0.33028,0),ROUNDDOWN($CC29*0.4-233000,0))))))","v":-4291},{"$f":"ROUND(CD29-BZ29,-2)","v":0},{"$f":"ROUND(CE29*1.021,-2)","v":0}]
[null,null,null,null,null,null,null,null,null,null,null,null,null,null,null,null,null,null,null,null,null,null,null,null,null,null,null,null,null,null,null,null,null,null,null,"　　月　　日",null,null,"　　月　　日",null,null,"　　月　　日",null,null,"　　月　　日",null,null,"　　月　　日",null,null,"　　月　　日",null,null,null,null,null,null,"　　月　　日"]
[]
[null,null,null,4,null,null,null,null,null,null,null,null,null,null,null,{"$f":"G32-L32","v":0},null,null,null,null,null,null,{"$f":"IF(A2=\"甲欄\",BN32,BS32)","v":0},null,null,null,null,null,null,{"$f":"W32+AA32","v":0},null,null,null,null,null,"有　・　無",null,null,"　　　　人",null,null,"　　　　人",null,null,"　　　　人",null,null,"　　　　人",null,null,"　　　　人",null,null,null,null,null,null,"　　　　人",null,null,null,null,null,null,null,{"$f":"IF($BO32<=162500,ROUND($BO32*0.05105,-1),IF($BO32<=275000,ROUND($BO32*0.1021-8296,-1),IF($BO32<=579166,ROUND($BO32*0.2042-36374,-1),IF($BO32<=750000,ROUND($BO32*0.23483-54113,-1),IF($BO32<=1500000,ROUND($BO32*0.33693-130688,-1),IF($BO32<=3333333,ROUND($BO32*0.4084-237893,-1),ROUND($BO32*0.45945-408061,-1)))))))","v":0},{"$f":"IF(P32-BP32-BQ32<=0,0,P32-BP32-BQ32)","v":0},{"$f":"IF(P32<=135416,54167,IF(P32<=149999,ROUNDUP(P32*0.4,0),IF(P32<=299999,ROUNDUP(P32*0.3+15000,0),IF(P32<=549999,ROUNDUP(P32*0.2+45000,0),IF(P32<=833333,ROUNDUP(P32*0.1+100000,0),IF(P32<=999999,ROUNDUP(P32*0.05+141667,0),191667))))))","v":54167},{"$f":"(U32+1)*31667","v":31667},{"$f":"IF(P32<88000,(P32*0.03063)-($BG$28*1610),IF(P32<1010000,CE32,IF(P32<1250000,(396700+(P32-1010000)*0.4084)-($BG$28*1610),(494800+(P32-1250000)*0.45945)-($BG$28*1610))))","v":0},{"$f":"IF(BR14<0,0,BR14)","v":0},{"$f":"IF(P32<=98999,1000,IF(P32<=220999,2000,3000))","v":1000},{"$f":"IF(BT32=1000,88000,IF(BT32=2000,99000,221000))","v":88000},{"$f":"IF(P32<1010000,P32-MOD((P32-BU32),BT32),1010000)","v":0},{"$f":"BV32*1.5","v":0},{"$f":"IF(BW32<=135416,54167,IF(BW32<=149999,ROUNDUP(BW32*0.4,0),IF(BW32<=299999,ROUNDUP(BW32*0.3+15000,0),IF(BW32<=549999,ROUNDUP(BW32*0.2+45000,0),IF(BW32<=833333,ROUNDUP(BW32*0.1+100000,0),IF(BW32<=1249999,ROUNDUP(BW32*0.05+141667,0),204167))))))","v":54167},{"$f":"(BW32-BX32-31667)","v":-85834},{"$f":"IF($BY32<=162500,ROUNDDOWN($BY32*0.05,0),IF($BY32<=275000,ROUNDDOWN($BY32*0.1-8125,0),IF($BY32<=579166,ROUNDDOWN($BY32*0.2-35625,0),IF($BY32<=750000,ROUNDDOWN($BY32*0.23-53000,0),IF($BY32<=1500000,ROUNDDOWN($BY32*0.33028,0),ROUNDDOWN($BY32*0.4-233000,0))))))","v":-4291},{"$f":"BV32*2.5","v":0},{"$f":"IF(CA32<=135416,54167,IF(CA32<=149999,ROUNDUP(CA32*0.4,0),IF(CA32<=299999,ROUNDUP(CA32*0.3+15000,0),IF(CA32<=549999,ROUNDUP(CA32*0.2+45000,0),IF(CA32<=833333,ROUNDUP(CA32*0.1+100000,0),IF(CA32<=1249999,ROUNDUP(CA32*0.05+141667,0),204167))))))","v":54167},{"$f":"(CA32-CB32-31667)","v":-85834},{"$f":"IF($CC32<=162500,ROUNDDOWN($CC32*0.05,0),IF($CC32<=275000,ROUNDDOWN($CC32*0.1-8125,0),IF($CC32<=579166,ROUNDDOWN($CC32*0.2-35625,0),IF($CC32<=750000,ROUNDDOWN($CC32*0.23-53000,0),IF($CC32<=1500000,ROUNDDOWN($CC32*0.33028,0),ROUNDDOWN($CC32*0.4-233000,0))))))","v":-4291},{"$f":"ROUND(CD32-BZ32,-2)","v":0},{"$f":"ROUND(CE32*1.021,-2)","v":0}]
[]
[null,null,null,null,null,null,null,null,null,null,null,null,null,null,null,null,null,null,null,null,null,null,null,null,null,null,null,null,null,null,null,null,null,"年　　　末　　　調　　　整","区　　分",null,null,null,null,null,null,null,null,null,"金　　額",null,null,null,null,null,null,null,"税　　額"]
[null,null,null,null,null,null,null,null,null,null,null,null,null,null,null,{"$f":"G35-L35","v":0},null,null,null,null,null,null,{"$f":"IF(A2=\"甲欄\",BN35,BS35)","v":0},null,null,null,null,null,null,{"$f":"W35+AA35","v":0},null,null,null,null,null,null,null,null,null,null,null,null,null,null,null,null,null,null,null,null,null,null,null,null,null,null,null,null,null,null,null,null,null,null,null,{"$f":"IF($BO35<=162500,ROUND($BO35*0.05105,-1),IF($BO35<=275000,ROUND($BO35*0.1021-8296,-1),IF($BO35<=579166,ROUND($BO35*0.2042-36374,-1),IF($BO35<=750000,ROUND($BO35*0.23483-54113,-1),IF($BO35<=1500000,ROUND($BO35*0.33693-130688,-1),IF($BO35<=3333333,ROUND($BO35*0.4084-237893,-1),ROUND($BO35*0.45945-408061,-1)))))))","v":0},{"$f":"IF(P35-BP35-BQ35<=0,0,P35-BP35-BQ35)","v":0},{"$f":"IF(P35<=135416,54167,IF(P35<=149999,ROUNDUP(P35*0.4,0),IF(P35<=299999,ROUNDUP(P35*0.3+15000,0),IF(P35<=549999,ROUNDUP(P35*0.2+45000,0),IF(P35<=833333,ROUNDUP(P35*0.1+100000,0),IF(P35<=999999,ROUNDUP(P35*0.05+141667,0),191667))))))","v":54167},{"$f":"(U35+1)*31667","v":31667},{"$f":"IF(P35<88000,(P35*0.03063)-($BG$28*1610),IF(P35<1010000,CE35,IF(P35<1250000,(396700+(P35-1010000)*0.4084)-($BG$28*1610),(494800+(P35-1250000)*0.45945)-($BG$28*1610))))","v":0},{"$f":"IF(BR14<0,0,BR14)","v":0},{"$f":"IF(P35<=98999,1000,IF(P35<=220999,2000,3000))","v":1000},{"$f":"IF(BT35=1000,88000,IF(BT35=2000,99000,221000))","v":88000},{"$f":"IF(P35<1010000,P35-MOD((P35-BU35),BT35),1010000)","v":0},{"$f":"BV35*1.5","v":0},{"$f":"IF(BW35<=135416,54167,IF(BW35<=149999,ROUNDUP(BW35*0.4,0),IF(BW35<=299999,ROUNDUP(BW35*0.3+15000,0),IF(BW35<=549999,ROUNDUP(BW35*0.2+45000,0),IF(BW35<=833333,ROUNDUP(BW35*0.1+100000,0),IF(BW35<=1249999,ROUNDUP(BW35*0.05+141667,0),204167))))))","v":54167},{"$f":"(BW35-BX35-31667)","v":-85834},{"$f":"IF($BY35<=162500,ROUNDDOWN($BY35*0.05,0),IF($BY35<=275000,ROUNDDOWN($BY35*0.1-8125,0),IF($BY35<=579166,ROUNDDOWN($BY35*0.2-35625,0),IF($BY35<=750000,ROUNDDOWN($BY35*0.23-53000,0),IF($BY35<=1500000,ROUNDDOWN($BY35*0.33028,0),ROUNDDOWN($BY35*0.4-233000,0))))))","v":-4291},{"$f":"BV35*2.5","v":0},{"$f":"IF(CA35<=135416,54167,IF(CA35<=149999,ROUNDUP(CA35*0.4,0),IF(CA35<=299999,ROUNDUP(CA35*0.3+15000,0),IF(CA35<=549999,ROUNDUP(CA35*0.2+45000,0),IF(CA35<=833333,ROUNDUP(CA35*0.1+100000,0),IF(CA35<=1249999,ROUNDUP(CA35*0.05+141667,0),204167))))))","v":54167},{"$f":"(CA35-CB35-31667)","v":-85834},{"$f":"IF($CC35<=162500,ROUNDDOWN($CC35*0.05,0),IF($CC35<=275000,ROUNDDOWN($CC35*0.1-8125,0),IF($CC35<=579166,ROUNDDOWN($CC35*0.2-35625,0),IF($CC35<=750000,ROUNDDOWN($CC35*0.23-53000,0),IF($CC35<=1500000,ROUNDDOWN($CC35*0.33028,0),ROUNDDOWN($CC35*0.4-233000,0))))))","v":-4291},{"$f":"ROUND(CD35-BZ35,-2)","v":0},{"$f":"ROUND(CE35*1.021,-2)","v":0}]
[]
["に 対 す る 所 得 税 源 泉 徴 収 簿",null,null,null,null,null,null,null,null,null,null,null,null,null,null,null,null,null,null,null,null,null,null,null,null,null,null,null,null,null,null,null,null,null,"給与・手当等",null,null,null,null,null,null,null,null,null,"①",{"$f":"H86","v":0},null,null,null,null,null,null,"③",{"$f":"X86","v":0}]
[null,null,null,5,null,null,null,null,null,null,null,null,null,null,null,{"$f":"G38-L38","v":0},null,null,null,null,null,null,{"$f":"IF(A2=\"甲欄\",BN38,BS38)","v":0},null,null,null,null,null,null,{"$f":"W38+AA38","v":0},null,null,null,null,null,null,null,null,null,null,null,null,null,null,null,null,null,null,null,null,null,null,null,null,null,null,null,null,null,null,null,null,null,null,null,{"$f":"IF($BO38<=162500,ROUND($BO38*0.05105,-1),IF($BO38<=275000,ROUND($BO38*0.1021-8296,-1),IF($BO38<=579166,ROUND($BO38*0.2042-36374,-1),IF($BO38<=750000,ROUND($BO38*0.23483-54113,-1),IF($BO38<=1500000,ROUND($BO38*0.33693-130688,-1),IF($BO38<=3333333,ROUND($BO38*0.4084-237893,-1),ROUND($BO38*0.45945-408061,-1)))))))","v":0},{"$f":"IF(P38-BP38-BQ38<=0,0,P38-BP38-BQ38)","v":0},{"$f":"IF(P38<=135416,54167,IF(P38<=149999,ROUNDUP(P38*0.4,0),IF(P38<=299999,ROUNDUP(P38*0.3+15000,0),IF(P38<=549999,ROUNDUP(P38*0.2+45000,0),IF(P38<=833333,ROUNDUP(P38*0.1+100000,0),IF(P38<=999999,ROUNDUP(P38*0.05+141667,0),191667))))))","v":54167},{"$f":"(U38+1)*31667","v":31667},{"$f":"IF(P38<88000,(P38*0.03063)-($BG$28*1610),IF(P38<1010000,CE38,IF(P38<1250000,(396700+(P38-1010000)*0.4084)-($BG$28*1610),(494800+(P38-1250000)*0.45945)-($BG$28*1610))))","v":0},{"$f":"IF(BR14<0,0,BR14)","v":0},{"$f":"IF(P38<=98999,1000,IF(P38<=220999,2000,3000))","v":1000},{"$f":"IF(BT38=1000,88000,IF(BT38=2000,99000,221000))","v":88000},{"$f":"IF(P38<1010000,P38-MOD((P38-BU38),BT38),1010000)","v":0},{"$f":"BV38*1.5","v":0},{"$f":"IF(BW38<=135416,54167,IF(BW38<=149999,ROUNDUP(BW38*0.4,0),IF(BW38<=299999,ROUNDUP(BW38*0.3+15000,0),IF(BW38<=549999,ROUNDUP(BW38*0.2+45000,0),IF(BW38<=833333,ROUNDUP(BW38*0.1+100000,0),IF(BW38<=1249999,ROUNDUP(BW38*0.05+141667,0),204167))))))","v":54167},{"$f":"(BW38-BX38-31667)","v":-85834},{"$f":"IF($BY38<=162500,ROUNDDOWN($BY38*0.05,0),IF($BY38<=275000,ROUNDDOWN($BY38*0.1-8125,0),IF($BY38<=579166,ROUNDDOWN($BY38*0.2-35625,0),IF($BY38<=750000,ROUNDDOWN($BY38*0.23-53000,0),IF($BY38<=1500000,ROUNDDOWN($BY38*0.33028,0),ROUNDDOWN($BY38*0.4-233000,0))))))","v":-4291},{"$f":"BV38*2.5","v":0},{"$f":"IF(CA38<=135416,54167,IF(CA38<=149999,ROUNDUP(CA38*0.4,0),IF(CA38<=299999,ROUNDUP(CA38*0.3+15000,0),IF(CA38<=549999,ROUNDUP(CA38*0.2+45000,0),IF(CA38<=833333,ROUNDUP(CA38*0.1+100000,0),IF(CA38<=1249999,ROUNDUP(CA38*0.05+141667,0),204167))))))","v":54167},{"$f":"(CA38-CB38-31667)","v":-85834},{"$f":"IF($CC38<=162500,ROUNDDOWN($CC38*0.05,0),IF($CC38<=275000,ROUNDDOWN($CC38*0.1-8125,0),IF($CC38<=579166,ROUNDDOWN($CC38*0.2-35625,0),IF($CC38<=750000,ROUNDDOWN($CC38*0.23-53000,0),IF($CC38<=1500000,ROUNDDOWN($CC38*0.33028,0),ROUNDDOWN($CC38*0.4-233000,0))))))","v":-4291},{"$f":"ROUND(CD38-BZ38,-2)","v":0},{"$f":"ROUND(CE38*1.021,-2)","v":0}]
[]
[null,null,null,null,null,null,null,null,null,null,null,null,null,null,null,null,null,null,null,null,null,null,null,null,null,null,null,null,null,null,null,null,null,null,"賞　与　等",null,null,null,null,null,null,null,null,null,"④",{"$f":"H106","v":0},null,null,null,null,null,null,"⑥",{"$f":"X106","v":0}]
[null,null,null,null,null,null,null,null,null,null,null,null,null,null,null,{"$f":"G41-L41","v":0},null,null,null,null,null,null,{"$f":"IF(A2=\"甲欄\",BN41,BS41)","v":0},null,null,null,null,null,null,{"$f":"W41+AA41","v":0},null,null,null,null,null,null,null,null,null,null,null,null,null,null,null,null,null,null,null,null,null,null,null,null,null,null,null,null,null,null,null,null,null,null,null,{"$f":"IF($BO41<=162500,ROUND($BO41*0.05105,-1),IF($BO41<=275000,ROUND($BO41*0.1021-8296,-1),IF($BO41<=579166,ROUND($BO41*0.2042-36374,-1),IF($BO41<=750000,ROUND($BO41*0.23483-54113,-1),IF($BO41<=1500000,ROUND($BO41*0.33693-130688,-1),IF($BO41<=3333333,ROUND($BO41*0.4084-237893,-1),ROUND($BO41*0.45945-408061,-1)))))))","v":0},{"$f":"IF(P41-BP41-BQ41<=0,0,P41-BP41-BQ41)","v":0},{"$f":"IF(P41<=135416,54167,IF(P41<=149999,ROUNDUP(P41*0.4,0),IF(P41<=299999,ROUNDUP(P41*0.3+15000,0),IF(P41<=549999,ROUNDUP(P41*0.2+45000,0),IF(P41<=833333,ROUNDUP(P41*0.1+100000,0),IF(P41<=999999,ROUNDUP(P41*0.05+141667,0),191667))))))","v":54167},{"$f":"(U41+1)*31667","v":31667},{"$f":"IF(P41<88000,(P41*0.03063)-($BG$28*1610),IF(P41<1010000,CE41,IF(P41<1250000,(396700+(P41-1010000)*0.4084)-($BG$28*1610),(494800+(P41-1250000)*0.45945)-($BG$28*1610))))","v":0},{"$f":"IF(BR14<0,0,BR14)","v":0},{"$f":"IF(P41<=98999,1000,IF(P41<=220999,2000,3000))","v":1000},{"$f":"IF(BT41=1000,88000,IF(BT41=2000,99000,221000))","v":88000},{"$f":"IF(P41<1010000,P41-MOD((P41-BU41),BT41),1010000)","v":0},{"$f":"BV41*1.5","v":0},{"$f":"IF(BW41<=135416,54167,IF(BW41<=149999,ROUNDUP(BW41*0.4,0),IF(BW41<=299999,ROUNDUP(BW41*0.3+15000,0),IF(BW41<=549999,ROUNDUP(BW41*0.2+45000,0),IF(BW41<=833333,ROUNDUP(BW41*0.1+100000,0),IF(BW41<=1249999,ROUNDUP(BW41*0.05+141667,0),204167))))))","v":54167},{"$f":"(BW41-BX41-31667)","v":-85834},{"$f":"IF($BY41<=162500,ROUNDDOWN($BY41*0.05,0),IF($BY41<=275000,ROUNDDOWN($BY41*0.1-8125,0),IF($BY41<=579166,ROUNDDOWN($BY41*0.2-35625,0),IF($BY41<=750000,ROUNDDOWN($BY41*0.23-53000,0),IF($BY41<=1500000,ROUNDDOWN($BY41*0.33028,0),ROUNDDOWN($BY41*0.4-233000,0))))))","v":-4291},{"$f":"BV41*2.5","v":0},{"$f":"IF(CA41<=135416,54167,IF(CA41<=149999,ROUNDUP(CA41*0.4,0),IF(CA41<=299999,ROUNDUP(CA41*0.3+15000,0),IF(CA41<=549999,ROUNDUP(CA41*0.2+45000,0),IF(CA41<=833333,ROUNDUP(CA41*0.1+100000,0),IF(CA41<=1249999,ROUNDUP(CA41*0.05+141667,0),204167))))))","v":54167},{"$f":"(CA41-CB41-31667)","v":-85834},{"$f":"IF($CC41<=162500,ROUNDDOWN($CC41*0.05,0),IF($CC41<=275000,ROUNDDOWN($CC41*0.1-8125,0),IF($CC41<=579166,ROUNDDOWN($CC41*0.2-35625,0),IF($CC41<=750000,ROUNDDOWN($CC41*0.23-53000,0),IF($CC41<=1500000,ROUNDDOWN($CC41*0.33028,0),ROUNDDOWN($CC41*0.4-233000,0))))))","v":-4291},{"$f":"ROUND(CD41-BZ41,-2)","v":0},{"$f":"ROUND(CE41*1.021,-2)","v":0}]
[]
[null,null,null,null,null,null,null,null,null,null,null,null,null,null,null,null,null,null,null,null,null,null,null,null,null,null,null,null,null,null,null,null,null,null,"計",null,null,null,null,null,null,null,null,null,"⑦",{"$f":"SUM(AT37:AT40)","v":0},null,null,null,null,null,null,"⑧",{"$f":"SUM(BB37:BB40)","v":0}]
[null,null,null,6,null,null,null,null,null,null,null,null,null,null,null,{"$f":"G44-L44","v":0},null,null,null,null,null,null,{"$f":"IF(A2=\"甲欄\",BN44,BS44)","v":0},null,null,null,null,null,null,{"$f":"W44+AA44","v":0},null,null,null,null,null,null,null,null,null,null,null,null,null,null,null,null,null,null,null,null,null,null,null,null,null,null,null,null,null,null,null,null,null,null,null,{"$f":"IF($BO44<=162500,ROUND($BO44*0.05105,-1),IF($BO44<=275000,ROUND($BO44*0.1021-8296,-1),IF($BO44<=579166,ROUND($BO44*0.2042-36374,-1),IF($BO44<=750000,ROUND($BO44*0.23483-54113,-1),IF($BO44<=1500000,ROUND($BO44*0.33693-130688,-1),IF($BO44<=3333333,ROUND($BO44*0.4084-237893,-1),ROUND($BO44*0.45945-408061,-1)))))))","v":0},{"$f":"IF(P44-BP44-BQ44<=0,0,P44-BP44-BQ44)","v":0},{"$f":"IF(P44<=135416,54167,IF(P44<=149999,ROUNDUP(P44*0.4,0),IF(P44<=299999,ROUNDUP(P44*0.3+15000,0),IF(P44<=549999,ROUNDUP(P44*0.2+45000,0),IF(P44<=833333,ROUNDUP(P44*0.1+100000,0),IF(P44<=999999,ROUNDUP(P44*0.05+141667,0),191667))))))","v":54167},{"$f":"(U44+1)*31667","v":31667},{"$f":"IF(P44<88000,(P44*0.03063)-($BG$28*1610),IF(P44<1010000,CE44,IF(P44<1250000,(396700+(P44-1010000)*0.4084)-($BG$28*1610),(494800+(P44-1250000)*0.45945)-($BG$28*1610))))","v":0},{"$f":"IF(BR14<0,0,BR14)","v":0},{"$f":"IF(P44<=98999,1000,IF(P44<=220999,2000,3000))","v":1000},{"$f":"IF(BT44=1000,88000,IF(BT44=2000,99000,221000))","v":88000},{"$f":"IF(P44<1010000,P44-MOD((P44-BU44),BT44),1010000)","v":0},{"$f":"BV44*1.5","v":0},{"$f":"IF(BW44<=135416,54167,IF(BW44<=149999,ROUNDUP(BW44*0.4,0),IF(BW44<=299999,ROUNDUP(BW44*0.3+15000,0),IF(BW44<=549999,ROUNDUP(BW44*0.2+45000,0),IF(BW44<=833333,ROUNDUP(BW44*0.1+100000,0),IF(BW44<=1249999,ROUNDUP(BW44*0.05+141667,0),204167))))))","v":54167},{"$f":"(BW44-BX44-31667)","v":-85834},{"$f":"IF($BY44<=162500,ROUNDDOWN($BY44*0.05,0),IF($BY44<=275000,ROUNDDOWN($BY44*0.1-8125,0),IF($BY44<=579166,ROUNDDOWN($BY44*0.2-35625,0),IF($BY44<=750000,ROUNDDOWN($BY44*0.23-53000,0),IF($BY44<=1500000,ROUNDDOWN($BY44*0.33028,0),ROUNDDOWN($BY44*0.4-233000,0))))))","v":-4291},{"$f":"BV44*2.5","v":0},{"$f":"IF(CA44<=135416,54167,IF(CA44<=149999,ROUNDUP(CA44*0.4,0),IF(CA44<=299999,ROUNDUP(CA44*0.3+15000,0),IF(CA44<=549999,ROUNDUP(CA44*0.2+45000,0),IF(CA44<=833333,ROUNDUP(CA44*0.1+100000,0),IF(CA44<=1249999,ROUNDUP(CA44*0.05+141667,0),204167))))))","v":54167},{"$f":"(CA44-CB44-31667)","v":-85834},{"$f":"IF($CC44<=162500,ROUNDDOWN($CC44*0.05,0),IF($CC44<=275000,ROUNDDOWN($CC44*0.1-8125,0),IF($CC44<=579166,ROUNDDOWN($CC44*0.2-35625,0),IF($CC44<=750000,ROUNDDOWN($CC44*0.23-53000,0),IF($CC44<=1500000,ROUNDDOWN($CC44*0.33028,0),ROUNDDOWN($CC44*0.4-233000,0))))))","v":-4291},{"$f":"ROUND(CD44-BZ44,-2)","v":0},{"$f":"ROUND(CE44*1.021,-2)","v":0}]
[]
[null,null,null,null,null,null,null,null,null,null,null,null,null,null,null,null,null,null,null,null,null,null,null,null,null,null,null,null,null,null,null,null,null,null,"　給与所得控除後の給与等の金額　",null,null,null,null,null,null,null,null,null,"⑨",{"$f":"BO97","v":0},null,null,null,null,null,null,"配偶者の合計所得金額"]
[null,null,null,null,null,null,null,null,null,null,null,null,null,null,null,{"$f":"G47-L47","v":0},null,null,null,null,null,null,{"$f":"IF(A2=\"甲欄\",BN47,BS47)","v":0},null,null,null,null,null,null,{"$f":"W47+AA47","v":0},null,null,null,null,null,null,null,null,null,null,null,null,null,null,null,null,null,null,null,null,null,null,null,null,null,null,null,null,null,null,null,null,null,null,null,{"$f":"IF($BO47<=162500,ROUND($BO47*0.05105,-1),IF($BO47<=275000,ROUND($BO47*0.1021-8296,-1),IF($BO47<=579166,ROUND($BO47*0.2042-36374,-1),IF($BO47<=750000,ROUND($BO47*0.23483-54113,-1),IF($BO47<=1500000,ROUND($BO47*0.33693-130688,-1),IF($BO47<=3333333,ROUND($BO47*0.4084-237893,-1),ROUND($BO47*0.45945-408061,-1)))))))","v":0},{"$f":"IF(P47-BP47-BQ47<=0,0,P47-BP47-BQ47)","v":0},{"$f":"IF(P47<=135416,54167,IF(P47<=149999,ROUNDUP(P47*0.4,0),IF(P47<=299999,ROUNDUP(P47*0.3+15000,0),IF(P47<=549999,ROUNDUP(P47*0.2+45000,0),IF(P47<=833333,ROUNDUP(P47*0.1+100000,0),IF(P47<=999999,ROUNDUP(P47*0.05+141667,0),191667))))))","v":54167},{"$f":"(U47+1)*31667","v":31667},{"$f":"IF(P47<88000,(P47*0.03063)-($BG$28*1610),IF(P47<1010000,CE47,IF(P47<1250000,(396700+(P47-1010000)*0.4084)-($BG$28*1610),(494800+(P47-1250000)*0.45945)-($BG$28*1610))))","v":0},{"$f":"IF(BR14<0,0,BR14)","v":0},{"$f":"IF(P47<=98999,1000,IF(P47<=220999,2000,3000))","v":1000},{"$f":"IF(BT47=1000,88000,IF(BT47=2000,99000,221000))","v":88000},{"$f":"IF(P47<1010000,P47-MOD((P47-BU47),BT47),1010000)","v":0},{"$f":"BV47*1.5","v":0},{"$f":"IF(BW47<=135416,54167,IF(BW47<=149999,ROUNDUP(BW47*0.4,0),IF(BW47<=299999,ROUNDUP(BW47*0.3+15000,0),IF(BW47<=549999,ROUNDUP(BW47*0.2+45000,0),IF(BW47<=833333,ROUNDUP(BW47*0.1+100000,0),IF(BW47<=1249999,ROUNDUP(BW47*0.05+141667,0),204167))))))","v":54167},{"$f":"(BW47-BX47-31667)","v":-85834},{"$f":"IF($BY47<=162500,ROUNDDOWN($BY47*0.05,0),IF($BY47<=275000,ROUNDDOWN($BY47*0.1-8125,0),IF($BY47<=579166,ROUNDDOWN($BY47*0.2-35625,0),IF($BY47<=750000,ROUNDDOWN($BY47*0.23-53000,0),IF($BY47<=1500000,ROUNDDOWN($BY47*0.33028,0),ROUNDDOWN($BY47*0.4-233000,0))))))","v":-4291},{"$f":"BV47*2.5","v":0},{"$f":"IF(CA47<=135416,54167,IF(CA47<=149999,ROUNDUP(CA47*0.4,0),IF(CA47<=299999,ROUNDUP(CA47*0.3+15000,0),IF(CA47<=549999,ROUNDUP(CA47*0.2+45000,0),IF(CA47<=833333,ROUNDUP(CA47*0.1+100000,0),IF(CA47<=1249999,ROUNDUP(CA47*0.05+141667,0),204167))))))","v":54167},{"$f":"(CA47-CB47-31667)","v":-85834},{"$f":"IF($CC47<=162500,ROUNDDOWN($CC47*0.05,0),IF($CC47<=275000,ROUNDDOWN($CC47*0.1-8125,0),IF($CC47<=579166,ROUNDDOWN($CC47*0.2-35625,0),IF($CC47<=750000,ROUNDDOWN($CC47*0.23-53000,0),IF($CC47<=1500000,ROUNDDOWN($CC47*0.33028,0),ROUNDDOWN($CC47*0.4-233000,0))))))","v":-4291},{"$f":"ROUND(CD47-BZ47,-2)","v":0},{"$f":"ROUND(CE47*1.021,-2)","v":0}]
[null,null,null,null,null,null,null,null,null,null,null,null,null,null,null,null,null,null,null,null,null,null,null,null,null,null,null,null,null,null,null,null,null,null,null,null,null,null,null,null,null,null,null,null,null,null,null,null,null,null,null,null,"(",null,null,null,null,null,null,null,"円)"]
[null,null,null,null,null,null,null,null,null,null,null,null,null,null,null,null,null,null,null,null,null,null,null,null,null,null,null,null,null,null,null,null,null,null,"社会保\n険料等\n控除額",null,"給与等からの控除分(②+⑤)",null,null,null,null,null,null,null,"⑩",{"$f":"M86+M106","v":0}]
[null,null,null,7,null,null,null,null,null,null,null,null,null,null,null,{"$f":"G50-L50","v":0},null,null,null,null,null,null,{"$f":"IF(A2=\"甲欄\",BN50,BS50)","v":0},null,null,null,null,null,null,{"$f":"W50+AA50","v":0},null,null,null,null,null,null,null,null,null,null,null,null,null,null,null,null,null,null,null,null,null,null,"旧長期損害保険料支払額",null,null,null,null,null,null,null,null,null,null,null,null,{"$f":"IF($BO50<=162500,ROUND($BO50*0.05105,-1),IF($BO50<=275000,ROUND($BO50*0.1021-8296,-1),IF($BO50<=579166,ROUND($BO50*0.2042-36374,-1),IF($BO50<=750000,ROUND($BO50*0.23483-54113,-1),IF($BO50<=1500000,ROUND($BO50*0.33693-130688,-1),IF($BO50<=3333333,ROUND($BO50*0.4084-237893,-1),ROUND($BO50*0.45945-408061,-1)))))))","v":0},{"$f":"IF(P50-BP50-BQ50<=0,0,P50-BP50-BQ50)","v":0},{"$f":"IF(P50<=135416,54167,IF(P50<=149999,ROUNDUP(P50*0.4,0),IF(P50<=299999,ROUNDUP(P50*0.3+15000,0),IF(P50<=549999,ROUNDUP(P50*0.2+45000,0),IF(P50<=833333,ROUNDUP(P50*0.1+100000,0),IF(P50<=999999,ROUNDUP(P50*0.05+141667,0),191667))))))","v":54167},{"$f":"(U50+1)*31667","v":31667},{"$f":"IF(P50<88000,(P50*0.03063)-($BG$28*1610),IF(P50<1010000,CE50,IF(P50<1250000,(396700+(P50-1010000)*0.4084)-($BG$28*1610),(494800+(P50-1250000)*0.45945)-($BG$28*1610))))","v":0},{"$f":"IF(BR14<0,0,BR14)","v":0},{"$f":"IF(P50<=98999,1000,IF(P50<=220999,2000,3000))","v":1000},{"$f":"IF(BT50=1000,88000,IF(BT50=2000,99000,221000))","v":88000},{"$f":"IF(P50<1010000,P50-MOD((P50-BU50),BT50),1010000)","v":0},{"$f":"BV50*1.5","v":0},{"$f":"IF(BW50<=135416,54167,IF(BW50<=149999,ROUNDUP(BW50*0.4,0),IF(BW50<=299999,ROUNDUP(BW50*0.3+15000,0),IF(BW50<=549999,ROUNDUP(BW50*0.2+45000,0),IF(BW50<=833333,ROUNDUP(BW50*0.1+100000,0),IF(BW50<=1249999,ROUNDUP(BW50*0.05+141667,0),204167))))))","v":54167},{"$f":"(BW50-BX50-31667)","v":-85834},{"$f":"IF($BY50<=162500,ROUNDDOWN($BY50*0.05,0),IF($BY50<=275000,ROUNDDOWN($BY50*0.1-8125,0),IF($BY50<=579166,ROUNDDOWN($BY50*0.2-35625,0),IF($BY50<=750000,ROUNDDOWN($BY50*0.23-53000,0),IF($BY50<=1500000,ROUNDDOWN($BY50*0.33028,0),ROUNDDOWN($BY50*0.4-233000,0))))))","v":-4291},{"$f":"BV50*2.5","v":0},{"$f":"IF(CA50<=135416,54167,IF(CA50<=149999,ROUNDUP(CA50*0.4,0),IF(CA50<=299999,ROUNDUP(CA50*0.3+15000,0),IF(CA50<=549999,ROUNDUP(CA50*0.2+45000,0),IF(CA50<=833333,ROUNDUP(CA50*0.1+100000,0),IF(CA50<=1249999,ROUNDUP(CA50*0.05+141667,0),204167))))))","v":54167},{"$f":"(CA50-CB50-31667)","v":-85834},{"$f":"IF($CC50<=162500,ROUNDDOWN($CC50*0.05,0),IF($CC50<=275000,ROUNDDOWN($CC50*0.1-8125,0),IF($CC50<=579166,ROUNDDOWN($CC50*0.2-35625,0),IF($CC50<=750000,ROUNDDOWN($CC50*0.23-53000,0),IF($CC50<=1500000,ROUNDDOWN($CC50*0.33028,0),ROUNDDOWN($CC50*0.4-233000,0))))))","v":-4291},{"$f":"ROUND(CD50-BZ50,-2)","v":0},{"$f":"ROUND(CE50*1.021,-2)","v":0}]
[]
[null,null,null,null,null,null,null,null,null,null,null,null,null,null,null,null,null,null,null,null,null,null,null,null,null,null,null,null,null,null,null,null,null,null,null,null,"申告による社会保険料の控除分",null,null,null,null,null,null,null,"⑪",null,null,null,null,null,null,null,"(",null,null,null,null,null,null,null,"円)"]
[null,null,null,null,null,null,null,null,null,null,null,null,null,null,null,{"$f":"G53-L53","v":0},null,null,null,null,null,null,{"$f":"IF(A2=\"甲欄\",BN53,BS53)","v":0},null,null,null,null,null,null,{"$f":"W53+AA53","v":0},null,null,null,null,null,null,null,null,null,null,null,null,null,null,null,null,null,null,null,null,null,null,null,null,null,null,null,null,null,null,null,null,null,null,null,{"$f":"IF($BO53<=162500,ROUND($BO53*0.05105,-1),IF($BO53<=275000,ROUND($BO53*0.1021-8296,-1),IF($BO53<=579166,ROUND($BO53*0.2042-36374,-1),IF($BO53<=750000,ROUND($BO53*0.23483-54113,-1),IF($BO53<=1500000,ROUND($BO53*0.33693-130688,-1),IF($BO53<=3333333,ROUND($BO53*0.4084-237893,-1),ROUND($BO53*0.45945-408061,-1)))))))","v":0},{"$f":"IF(P53-BP53-BQ53<=0,0,P53-BP53-BQ53)","v":0},{"$f":"IF(P53<=135416,54167,IF(P53<=149999,ROUNDUP(P53*0.4,0),IF(P53<=299999,ROUNDUP(P53*0.3+15000,0),IF(P53<=549999,ROUNDUP(P53*0.2+45000,0),IF(P53<=833333,ROUNDUP(P53*0.1+100000,0),IF(P53<=999999,ROUNDUP(P53*0.05+141667,0),191667))))))","v":54167},{"$f":"(U53+1)*31667","v":31667},{"$f":"IF(P53<88000,(P53*0.03063)-($BG$28*1610),IF(P53<1010000,CE53,IF(P53<1250000,(396700+(P53-1010000)*0.4084)-($BG$28*1610),(494800+(P53-1250000)*0.45945)-($BG$28*1610))))","v":0},{"$f":"IF(BR14<0,0,BR14)","v":0},{"$f":"IF(P53<=98999,1000,IF(P53<=220999,2000,3000))","v":1000},{"$f":"IF(BT53=1000,88000,IF(BT53=2000,99000,221000))","v":88000},{"$f":"IF(P53<1010000,P53-MOD((P53-BU53),BT53),1010000)","v":0},{"$f":"BV53*1.5","v":0},{"$f":"IF(BW53<=135416,54167,IF(BW53<=149999,ROUNDUP(BW53*0.4,0),IF(BW53<=299999,ROUNDUP(BW53*0.3+15000,0),IF(BW53<=549999,ROUNDUP(BW53*0.2+45000,0),IF(BW53<=833333,ROUNDUP(BW53*0.1+100000,0),IF(BW53<=1249999,ROUNDUP(BW53*0.05+141667,0),204167))))))","v":54167},{"$f":"(BW53-BX53-31667)","v":-85834},{"$f":"IF($BY53<=162500,ROUNDDOWN($BY53*0.05,0),IF($BY53<=275000,ROUNDDOWN($BY53*0.1-8125,0),IF($BY53<=579166,ROUNDDOWN($BY53*0.2-35625,0),IF($BY53<=750000,ROUNDDOWN($BY53*0.23-53000,0),IF($BY53<=1500000,ROUNDDOWN($BY53*0.33028,0),ROUNDDOWN($BY53*0.4-233000,0))))))","v":-4291},{"$f":"BV53*2.5","v":0},{"$f":"IF(CA53<=135416,54167,IF(CA53<=149999,ROUNDUP(CA53*0.4,0),IF(CA53<=299999,ROUNDUP(CA53*0.3+15000,0),IF(CA53<=549999,ROUNDUP(CA53*0.2+45000,0),IF(CA53<=833333,ROUNDUP(CA53*0.1+100000,0),IF(CA53<=1249999,ROUNDUP(CA53*0.05+141667,0),204167))))))","v":54167},{"$f":"(CA53-CB53-31667)","v":-85834},{"$f":"IF($CC53<=162500,ROUNDDOWN($CC53*0.05,0),IF($CC53<=275000,ROUNDDOWN($CC53*0.1-8125,0),IF($CC53<=579166,ROUNDDOWN($CC53*0.2-35625,0),IF($CC53<=750000,ROUNDDOWN($CC53*0.23-53000,0),IF($CC53<=1500000,ROUNDDOWN($CC53*0.33028,0),ROUNDDOWN($CC53*0.4-233000,0))))))","v":-4291},{"$f":"ROUND(CD53-BZ53,-2)","v":0},{"$f":"ROUND(CE53*1.021,-2)","v":0}]
[null,null,null,null,null,null,null,null,null,null,null,null,null,null,null,null,null,null,null,null,null,null,null,null,null,null,null,null,null,null,null,null,null,null,null,null,null,null,null,null,null,null,null,null,null,null,null,null,null,null,null,null,"⑩のうち小規模企業共\n済等掛金の金額"]
[null,null,null,null,null,null,null,null,null,null,null,null,null,null,null,null,null,null,null,null,null,null,null,null,null,null,null,null,null,null,null,null,null,null,null,null,"　申告による小規模企業　\n　共済等掛金の控除分　",null,null,null,null,null,null,null,"⑫"]
[null,null,null,8,null,null,null,null,null,null,null,null,null,null,null,{"$f":"G56-L56","v":0},null,null,null,null,null,null,{"$f":"IF(A2=\"甲欄\",BN56,BS56)","v":0},null,null,null,null,null,null,{"$f":"W56+AA56","v":0},null,null,null,null,null,null,null,null,null,null,null,null,null,null,null,null,null,null,null,null,null,null,null,null,null,null,null,null,null,null,null,null,null,null,null,{"$f":"IF($BO56<=162500,ROUND($BO56*0.05105,-1),IF($BO56<=275000,ROUND($BO56*0.1021-8296,-1),IF($BO56<=579166,ROUND($BO56*0.2042-36374,-1),IF($BO56<=750000,ROUND($BO56*0.23483-54113,-1),IF($BO56<=1500000,ROUND($BO56*0.33693-130688,-1),IF($BO56<=3333333,ROUND($BO56*0.4084-237893,-1),ROUND($BO56*0.45945-408061,-1)))))))","v":0},{"$f":"IF(P56-BP56-BQ56<=0,0,P56-BP56-BQ56)","v":0},{"$f":"IF(P56<=135416,54167,IF(P56<=149999,ROUNDUP(P56*0.4,0),IF(P56<=299999,ROUNDUP(P56*0.3+15000,0),IF(P56<=549999,ROUNDUP(P56*0.2+45000,0),IF(P56<=833333,ROUNDUP(P56*0.1+100000,0),IF(P56<=999999,ROUNDUP(P56*0.05+141667,0),191667))))))","v":54167},{"$f":"(U56+1)*31667","v":31667},{"$f":"IF(P56<88000,(P56*0.03063)-($BG$28*1610),IF(P56<1010000,CE56,IF(P56<1250000,(396700+(P56-1010000)*0.4084)-($BG$28*1610),(494800+(P56-1250000)*0.45945)-($BG$28*1610))))","v":0},{"$f":"IF(BR14<0,0,BR14)","v":0},{"$f":"IF(P56<=98999,1000,IF(P56<=220999,2000,3000))","v":1000},{"$f":"IF(BT56=1000,88000,IF(BT56=2000,99000,221000))","v":88000},{"$f":"IF(P56<1010000,P56-MOD((P56-BU56),BT56),1010000)","v":0},{"$f":"BV56*1.5","v":0},{"$f":"IF(BW56<=135416,54167,IF(BW56<=149999,ROUNDUP(BW56*0.4,0),IF(BW56<=299999,ROUNDUP(BW56*0.3+15000,0),IF(BW56<=549999,ROUNDUP(BW56*0.2+45000,0),IF(BW56<=833333,ROUNDUP(BW56*0.1+100000,0),IF(BW56<=1249999,ROUNDUP(BW56*0.05+141667,0),204167))))))","v":54167},{"$f":"(BW56-BX56-31667)","v":-85834},{"$f":"IF($BY56<=162500,ROUNDDOWN($BY56*0.05,0),IF($BY56<=275000,ROUNDDOWN($BY56*0.1-8125,0),IF($BY56<=579166,ROUNDDOWN($BY56*0.2-35625,0),IF($BY56<=750000,ROUNDDOWN($BY56*0.23-53000,0),IF($BY56<=1500000,ROUNDDOWN($BY56*0.33028,0),ROUNDDOWN($BY56*0.4-233000,0))))))","v":-4291},{"$f":"BV56*2.5","v":0},{"$f":"IF(CA56<=135416,54167,IF(CA56<=149999,ROUNDUP(CA56*0.4,0),IF(CA56<=299999,ROUNDUP(CA56*0.3+15000,0),IF(CA56<=549999,ROUNDUP(CA56*0.2+45000,0),IF(CA56<=833333,ROUNDUP(CA56*0.1+100000,0),IF(CA56<=1249999,ROUNDUP(CA56*0.05+141667,0),204167))))))","v":54167},{"$f":"(CA56-CB56-31667)","v":-85834},{"$f":"IF($CC56<=162500,ROUNDDOWN($CC56*0.05,0),IF($CC56<=275000,ROUNDDOWN($CC56*0.1-8125,0),IF($CC56<=579166,ROUNDDOWN($CC56*0.2-35625,0),IF($CC56<=750000,ROUNDDOWN($CC56*0.23-53000,0),IF($CC56<=1500000,ROUNDDOWN($CC56*0.33028,0),ROUNDDOWN($CC56*0.4-233000,0))))))","v":-4291},{"$f":"ROUND(CD56-BZ56,-2)","v":0},{"$f":"ROUND(CE56*1.021,-2)","v":0}]
[null,null,null,null,null,null,null,null,null,null,null,null,null,null,null,null,null,null,null,null,null,null,null,null,null,null,null,null,null,null,null,null,null,null,null,null,null,null,null,null,null,null,null,null,null,null,null,null,null,null,null,null,"(",null,null,null,null,null,null,null,"円)"]
[null,null,null,null,null,null,null,null,null,null,null,null,null,null,null,null,null,null,null,null,null,null,null,null,null,null,null,null,null,null,null,null,null,null,"　生命保険料の控除額　",null,null,null,null,null,null,null,null,null,"⑬"]
[null,null,null,null,null,null,null,null,null,null,null,null,null,null,null,{"$f":"G59-L59","v":0},null,null,null,null,null,null,{"$f":"IF(A2=\"甲欄\",BN59,BS59)","v":0},null,null,null,null,null,null,{"$f":"W59+AA59","v":0},null,null,null,null,null,null,null,null,null,null,null,null,null,null,null,null,null,null,null,null,null,null,"⑪のうち国民年金保険\n料等の金額",null,null,null,null,null,null,null,null,null,null,null,null,{"$f":"IF($BO59<=162500,ROUND($BO59*0.05105,-1),IF($BO59<=275000,ROUND($BO59*0.1021-8296,-1),IF($BO59<=579166,ROUND($BO59*0.2042-36374,-1),IF($BO59<=750000,ROUND($BO59*0.23483-54113,-1),IF($BO59<=1500000,ROUND($BO59*0.33693-130688,-1),IF($BO59<=3333333,ROUND($BO59*0.4084-237893,-1),ROUND($BO59*0.45945-408061,-1)))))))","v":0},{"$f":"IF(P59-BP59-BQ59<=0,0,P59-BP59-BQ59)","v":0},{"$f":"IF(P59<=135416,54167,IF(P59<=149999,ROUNDUP(P59*0.4,0),IF(P59<=299999,ROUNDUP(P59*0.3+15000,0),IF(P59<=549999,ROUNDUP(P59*0.2+45000,0),IF(P59<=833333,ROUNDUP(P59*0.1+100000,0),IF(P59<=999999,ROUNDUP(P59*0.05+141667,0),191667))))))","v":54167},{"$f":"(U59+1)*31667","v":31667},{"$f":"IF(P59<88000,(P59*0.03063)-($BG$28*1610),IF(P59<1010000,CE59,IF(P59<1250000,(396700+(P59-1010000)*0.4084)-($BG$28*1610),(494800+(P59-1250000)*0.45945)-($BG$28*1610))))","v":0},{"$f":"IF(BR14<0,0,BR14)","v":0},{"$f":"IF(P59<=98999,1000,IF(P59<=220999,2000,3000))","v":1000},{"$f":"IF(BT59=1000,88000,IF(BT59=2000,99000,221000))","v":88000},{"$f":"IF(P59<1010000,P59-MOD((P59-BU59),BT59),1010000)","v":0},{"$f":"BV59*1.5","v":0},{"$f":"IF(BW59<=135416,54167,IF(BW59<=149999,ROUNDUP(BW59*0.4,0),IF(BW59<=299999,ROUNDUP(BW59*0.3+15000,0),IF(BW59<=549999,ROUNDUP(BW59*0.2+45000,0),IF(BW59<=833333,ROUNDUP(BW59*0.1+100000,0),IF(BW59<=1249999,ROUNDUP(BW59*0.05+141667,0),204167))))))","v":54167},{"$f":"(BW59-BX59-31667)","v":-85834},{"$f":"IF($BY59<=162500,ROUNDDOWN($BY59*0.05,0),IF($BY59<=275000,ROUNDDOWN($BY59*0.1-8125,0),IF($BY59<=579166,ROUNDDOWN($BY59*0.2-35625,0),IF($BY59<=750000,ROUNDDOWN($BY59*0.23-53000,0),IF($BY59<=1500000,ROUNDDOWN($BY59*0.33028,0),ROUNDDOWN($BY59*0.4-233000,0))))))","v":-4291},{"$f":"BV59*2.5","v":0},{"$f":"IF(CA59<=135416,54167,IF(CA59<=149999,ROUNDUP(CA59*0.4,0),IF(CA59<=299999,ROUNDUP(CA59*0.3+15000,0),IF(CA59<=549999,ROUNDUP(CA59*0.2+45000,0),IF(CA59<=833333,ROUNDUP(CA59*0.1+100000,0),IF(CA59<=1249999,ROUNDUP(CA59*0.05+141667,0),204167))))))","v":54167},{"$f":"(CA59-CB59-31667)","v":-85834},{"$f":"IF($CC59<=162500,ROUNDDOWN($CC59*0.05,0),IF($CC59<=275000,ROUNDDOWN($CC59*0.1-8125,0),IF($CC59<=579166,ROUNDDOWN($CC59*0.2-35625,0),IF($CC59<=750000,ROUNDDOWN($CC59*0.23-53000,0),IF($CC59<=1500000,ROUNDDOWN($CC59*0.33028,0),ROUNDDOWN($CC59*0.4-233000,0))))))","v":-4291},{"$f":"ROUND(CD59-BZ59,-2)","v":0},{"$f":"ROUND(CE59*1.021,-2)","v":0}]
[]
[null,null,null,null,null,null,null,null,null,null,null,null,null,null,null,null,null,null,null,null,null,null,null,null,null,null,null,null,null,null,null,null,null,null,"　地震保険料の控除額　",null,null,null,null,null,null,null,null,null,"⑭"]
[null,null,null,9,null,null,null,null,null,null,null,null,null,null,null,{"$f":"G62-L62","v":0},null,null,null,null,null,null,{"$f":"IF(A2=\"甲欄\",BN62,BS62)","v":0},null,null,null,null,null,null,{"$f":"W62+AA62","v":0},null,null,null,null,null,null,null,null,null,null,null,null,null,null,null,null,null,null,null,null,null,null,"(",null,null,null,null,null,null,null,"円)",null,null,null,null,{"$f":"IF($BO62<=162500,ROUND($BO62*0.05105,-1),IF($BO62<=275000,ROUND($BO62*0.1021-8296,-1),IF($BO62<=579166,ROUND($BO62*0.2042-36374,-1),IF($BO62<=750000,ROUND($BO62*0.23483-54113,-1),IF($BO62<=1500000,ROUND($BO62*0.33693-130688,-1),IF($BO62<=3333333,ROUND($BO62*0.4084-237893,-1),ROUND($BO62*0.45945-408061,-1)))))))","v":0},{"$f":"IF(P62-BP62-BQ62<=0,0,P62-BP62-BQ62)","v":0},{"$f":"IF(P62<=135416,54167,IF(P62<=149999,ROUNDUP(P62*0.4,0),IF(P62<=299999,ROUNDUP(P62*0.3+15000,0),IF(P62<=549999,ROUNDUP(P62*0.2+45000,0),IF(P62<=833333,ROUNDUP(P62*0.1+100000,0),IF(P62<=999999,ROUNDUP(P62*0.05+141667,0),191667))))))","v":54167},{"$f":"(U62+1)*31667","v":31667},{"$f":"IF(P62<88000,(P62*0.03063)-($BG$28*1610),IF(P62<1010000,CE62,IF(P62<1250000,(396700+(P62-1010000)*0.4084)-($BG$28*1610),(494800+(P62-1250000)*0.45945)-($BG$28*1610))))","v":0},{"$f":"IF(BR14<0,0,BR14)","v":0},{"$f":"IF(P62<=98999,1000,IF(P62<=220999,2000,3000))","v":1000},{"$f":"IF(BT62=1000,88000,IF(BT62=2000,99000,221000))","v":88000},{"$f":"IF(P62<1010000,P62-MOD((P62-BU62),BT62),1010000)","v":0},{"$f":"BV62*1.5","v":0},{"$f":"IF(BW62<=135416,54167,IF(BW62<=149999,ROUNDUP(BW62*0.4,0),IF(BW62<=299999,ROUNDUP(BW62*0.3+15000,0),IF(BW62<=549999,ROUNDUP(BW62*0.2+45000,0),IF(BW62<=833333,ROUNDUP(BW62*0.1+100000,0),IF(BW62<=1249999,ROUNDUP(BW62*0.05+141667,0),204167))))))","v":54167},{"$f":"(BW62-BX62-31667)","v":-85834},{"$f":"IF($BY62<=162500,ROUNDDOWN($BY62*0.05,0),IF($BY62<=275000,ROUNDDOWN($BY62*0.1-8125,0),IF($BY62<=579166,ROUNDDOWN($BY62*0.2-35625,0),IF($BY62<=750000,ROUNDDOWN($BY62*0.23-53000,0),IF($BY62<=1500000,ROUNDDOWN($BY62*0.33028,0),ROUNDDOWN($BY62*0.4-233000,0))))))","v":-4291},{"$f":"BV62*2.5","v":0},{"$f":"IF(CA62<=135416,54167,IF(CA62<=149999,ROUNDUP(CA62*0.4,0),IF(CA62<=299999,ROUNDUP(CA62*0.3+15000,0),IF(CA62<=549999,ROUNDUP(CA62*0.2+45000,0),IF(CA62<=833333,ROUNDUP(CA62*0.1+100000,0),IF(CA62<=1249999,ROUNDUP(CA62*0.05+141667,0),204167))))))","v":54167},{"$f":"(CA62-CB62-31667)","v":-85834},{"$f":"IF($CC62<=162500,ROUNDDOWN($CC62*0.05,0),IF($CC62<=275000,ROUNDDOWN($CC62*0.1-8125,0),IF($CC62<=579166,ROUNDDOWN($CC62*0.2-35625,0),IF($CC62<=750000,ROUNDDOWN($CC62*0.23-53000,0),IF($CC62<=1500000,ROUNDDOWN($CC62*0.33028,0),ROUNDDOWN($CC62*0.4-233000,0))))))","v":-4291},{"$f":"ROUND(CD62-BZ62,-2)","v":0},{"$f":"ROUND(CE62*1.021,-2)","v":0}]
[]
[null,null,null,null,null,null,null,null,null,null,null,null,null,null,null,null,null,null,null,null,null,null,null,null,null,null,null,null,null,null,null,null,null,null,"配偶者（特別）控除額",null,null,null,null,null,null,null,null,null,"⑮"]
[null,null,null,null,null,null,null,null,null,null,null,null,null,null,null,{"$f":"G65-L65","v":0},null,null,null,null,null,null,{"$f":"IF(A2=\"甲欄\",BN65,BS65)","v":0},null,null,null,null,null,null,{"$f":"W65+AA65","v":0},null,null,null,null,null,null,null,null,null,null,null,null,null,null,null,null,null,null,null,null,null,null,null,null,null,null,null,null,null,null,null,null,null,null,null,{"$f":"IF($BO65<=162500,ROUND($BO65*0.05105,-1),IF($BO65<=275000,ROUND($BO65*0.1021-8296,-1),IF($BO65<=579166,ROUND($BO65*0.2042-36374,-1),IF($BO65<=750000,ROUND($BO65*0.23483-54113,-1),IF($BO65<=1500000,ROUND($BO65*0.33693-130688,-1),IF($BO65<=3333333,ROUND($BO65*0.4084-237893,-1),ROUND($BO65*0.45945-408061,-1)))))))","v":0},{"$f":"IF(P65-BP65-BQ65<=0,0,P65-BP65-BQ65)","v":0},{"$f":"IF(P65<=135416,54167,IF(P65<=149999,ROUNDUP(P65*0.4,0),IF(P65<=299999,ROUNDUP(P65*0.3+15000,0),IF(P65<=549999,ROUNDUP(P65*0.2+45000,0),IF(P65<=833333,ROUNDUP(P65*0.1+100000,0),IF(P65<=999999,ROUNDUP(P65*0.05+141667,0),191667))))))","v":54167},{"$f":"(U65+1)*31667","v":31667},{"$f":"IF(P65<88000,(P65*0.03063)-($BG$28*1610),IF(P65<1010000,CE65,IF(P65<1250000,(396700+(P65-1010000)*0.4084)-($BG$28*1610),(494800+(P65-1250000)*0.45945)-($BG$28*1610))))","v":0},{"$f":"IF(BR14<0,0,BR14)","v":0},{"$f":"IF(P65<=98999,1000,IF(P65<=220999,2000,3000))","v":1000},{"$f":"IF(BT65=1000,88000,IF(BT65=2000,99000,221000))","v":88000},{"$f":"IF(P65<1010000,P65-MOD((P65-BU65),BT65),1010000)","v":0},{"$f":"BV65*1.5","v":0},{"$f":"IF(BW65<=135416,54167,IF(BW65<=149999,ROUNDUP(BW65*0.4,0),IF(BW65<=299999,ROUNDUP(BW65*0.3+15000,0),IF(BW65<=549999,ROUNDUP(BW65*0.2+45000,0),IF(BW65<=833333,ROUNDUP(BW65*0.1+100000,0),IF(BW65<=1249999,ROUNDUP(BW65*0.05+141667,0),204167))))))","v":54167},{"$f":"(BW65-BX65-31667)","v":-85834},{"$f":"IF($BY65<=162500,ROUNDDOWN($BY65*0.05,0),IF($BY65<=275000,ROUNDDOWN($BY65*0.1-8125,0),IF($BY65<=579166,ROUNDDOWN($BY65*0.2-35625,0),IF($BY65<=750000,ROUNDDOWN($BY65*0.23-53000,0),IF($BY65<=1500000,ROUNDDOWN($BY65*0.33028,0),ROUNDDOWN($BY65*0.4-233000,0))))))","v":-4291},{"$f":"BV65*2.5","v":0},{"$f":"IF(CA65<=135416,54167,IF(CA65<=149999,ROUNDUP(CA65*0.4,0),IF(CA65<=299999,ROUNDUP(CA65*0.3+15000,0),IF(CA65<=549999,ROUNDUP(CA65*0.2+45000,0),IF(CA65<=833333,ROUNDUP(CA65*0.1+100000,0),IF(CA65<=1249999,ROUNDUP(CA65*0.05+141667,0),204167))))))","v":54167},{"$f":"(CA65-CB65-31667)","v":-85834},{"$f":"IF($CC65<=162500,ROUNDDOWN($CC65*0.05,0),IF($CC65<=275000,ROUNDDOWN($CC65*0.1-8125,0),IF($CC65<=579166,ROUNDDOWN($CC65*0.2-35625,0),IF($CC65<=750000,ROUNDDOWN($CC65*0.23-53000,0),IF($CC65<=1500000,ROUNDDOWN($CC65*0.33028,0),ROUNDDOWN($CC65*0.4-233000,0))))))","v":-4291},{"$f":"ROUND(CD65-BZ65,-2)","v":0},{"$f":"ROUND(CE65*1.021,-2)","v":0}]
[]
[null,null,null,null,null,null,null,null,null,null,null,null,null,null,null,null,null,null,null,null,null,null,null,null,null,null,null,null,null,null,null,null,null,null,"扶養控除額、基礎控除額及び\n 障害者等の控除額の合計額",null,null,null,null,null,null,null,null,null,"⑯"]
[null,null,null,10,null,null,null,null,null,null,null,null,null,null,null,{"$f":"G68-L68","v":0},null,null,null,null,null,null,{"$f":"IF(A2=\"甲欄\",BN68,BS68)","v":0},null,null,null,null,null,null,{"$f":"W68+AA68","v":0},null,null,null,null,null,null,null,null,null,null,null,null,null,null,null,null,null,null,null,null,null,null,null,null,null,null,null,null,null,null,null,null,null,null,null,{"$f":"IF($BO68<=162500,ROUND($BO68*0.05105,-1),IF($BO68<=275000,ROUND($BO68*0.1021-8296,-1),IF($BO68<=579166,ROUND($BO68*0.2042-36374,-1),IF($BO68<=750000,ROUND($BO68*0.23483-54113,-1),IF($BO68<=1500000,ROUND($BO68*0.33693-130688,-1),IF($BO68<=3333333,ROUND($BO68*0.4084-237893,-1),ROUND($BO68*0.45945-408061,-1)))))))","v":0},{"$f":"IF(P68-BP68-BQ68<=0,0,P68-BP68-BQ68)","v":0},{"$f":"IF(P68<=135416,54167,IF(P68<=149999,ROUNDUP(P68*0.4,0),IF(P68<=299999,ROUNDUP(P68*0.3+15000,0),IF(P68<=549999,ROUNDUP(P68*0.2+45000,0),IF(P68<=833333,ROUNDUP(P68*0.1+100000,0),IF(P68<=999999,ROUNDUP(P68*0.05+141667,0),191667))))))","v":54167},{"$f":"(U68+1)*31667","v":31667},{"$f":"IF(P68<88000,(P68*0.03063)-($BG$28*1610),IF(P68<1010000,CE68,IF(P68<1250000,(396700+(P68-1010000)*0.4084)-($BG$28*1610),(494800+(P68-1250000)*0.45945)-($BG$28*1610))))","v":0},{"$f":"IF(BR14<0,0,BR14)","v":0},{"$f":"IF(P68<=98999,1000,IF(P68<=220999,2000,3000))","v":1000},{"$f":"IF(BT68=1000,88000,IF(BT68=2000,99000,221000))","v":88000},{"$f":"IF(P68<1010000,P68-MOD((P68-BU68),BT68),1010000)","v":0},{"$f":"BV68*1.5","v":0},{"$f":"IF(BW68<=135416,54167,IF(BW68<=149999,ROUNDUP(BW68*0.4,0),IF(BW68<=299999,ROUNDUP(BW68*0.3+15000,0),IF(BW68<=549999,ROUNDUP(BW68*0.2+45000,0),IF(BW68<=833333,ROUNDUP(BW68*0.1+100000,0),IF(BW68<=1249999,ROUNDUP(BW68*0.05+141667,0),204167))))))","v":54167},{"$f":"(BW68-BX68-31667)","v":-85834},{"$f":"IF($BY68<=162500,ROUNDDOWN($BY68*0.05,0),IF($BY68<=275000,ROUNDDOWN($BY68*0.1-8125,0),IF($BY68<=579166,ROUNDDOWN($BY68*0.2-35625,0),IF($BY68<=750000,ROUNDDOWN($BY68*0.23-53000,0),IF($BY68<=1500000,ROUNDDOWN($BY68*0.33028,0),ROUNDDOWN($BY68*0.4-233000,0))))))","v":-4291},{"$f":"BV68*2.5","v":0},{"$f":"IF(CA68<=135416,54167,IF(CA68<=149999,ROUNDUP(CA68*0.4,0),IF(CA68<=299999,ROUNDUP(CA68*0.3+15000,0),IF(CA68<=549999,ROUNDUP(CA68*0.2+45000,0),IF(CA68<=833333,ROUNDUP(CA68*0.1+100000,0),IF(CA68<=1249999,ROUNDUP(CA68*0.05+141667,0),204167))))))","v":54167},{"$f":"(CA68-CB68-31667)","v":-85834},{"$f":"IF($CC68<=162500,ROUNDDOWN($CC68*0.05,0),IF($CC68<=275000,ROUNDDOWN($CC68*0.1-8125,0),IF($CC68<=579166,ROUNDDOWN($CC68*0.2-35625,0),IF($CC68<=750000,ROUNDDOWN($CC68*0.23-53000,0),IF($CC68<=1500000,ROUNDDOWN($CC68*0.33028,0),ROUNDDOWN($CC68*0.4-233000,0))))))","v":-4291},{"$f":"ROUND(CD68-BZ68,-2)","v":0},{"$f":"ROUND(CE68*1.021,-2)","v":0}]
[]
[null,null,null,null,null,null,null,null,null,null,null,null,null,null,null,null,null,null,null,null,null,null,null,null,null,null,null,null,null,null,null,null,null,null,"所得控除額の合計額\n(⑩+⑪+⑫+⑬+⑭+⑮+⑯)",null,null,null,null,null,null,null,null,null,"⑰",{"$f":"SUM(AT49:AT67)","v":0}]
[null,null,null,null,null,null,null,null,null,null,null,null,null,null,null,{"$f":"G71-L71","v":0},null,null,null,null,null,null,{"$f":"IF(A2=\"甲欄\",BN71,BS71)","v":0},null,null,null,null,null,null,{"$f":"W71+AA71","v":0},null,null,null,null,null,null,null,null,null,null,null,null,null,null,null,null,null,null,null,null,null,null,null,null,null,null,null,null,null,null,null,null,null,null,null,{"$f":"IF($BO71<=162500,ROUND($BO71*0.05105,-1),IF($BO71<=275000,ROUND($BO71*0.1021-8296,-1),IF($BO71<=579166,ROUND($BO71*0.2042-36374,-1),IF($BO71<=750000,ROUND($BO71*0.23483-54113,-1),IF($BO71<=1500000,ROUND($BO71*0.33693-130688,-1),IF($BO71<=3333333,ROUND($BO71*0.4084-237893,-1),ROUND($BO71*0.45945-408061,-1)))))))","v":0},{"$f":"IF(P71-BP71-BQ71<=0,0,P71-BP71-BQ71)","v":0},{"$f":"IF(P71<=135416,54167,IF(P71<=149999,ROUNDUP(P71*0.4,0),IF(P71<=299999,ROUNDUP(P71*0.3+15000,0),IF(P71<=549999,ROUNDUP(P71*0.2+45000,0),IF(P71<=833333,ROUNDUP(P71*0.1+100000,0),IF(P71<=999999,ROUNDUP(P71*0.05+141667,0),191667))))))","v":54167},{"$f":"(U71+1)*31667","v":31667},{"$f":"IF(P71<88000,(P71*0.03063)-($BG$28*1610),IF(P71<1010000,CE71,IF(P71<1250000,(396700+(P71-1010000)*0.4084)-($BG$28*1610),(494800+(P71-1250000)*0.45945)-($BG$28*1610))))","v":0},{"$f":"IF(BR14<0,0,BR14)","v":0},{"$f":"IF(P71<=98999,1000,IF(P71<=220999,2000,3000))","v":1000},{"$f":"IF(BT71=1000,88000,IF(BT71=2000,99000,221000))","v":88000},{"$f":"IF(P71<1010000,P71-MOD((P71-BU71),BT71),1010000)","v":0},{"$f":"BV71*1.5","v":0},{"$f":"IF(BW71<=135416,54167,IF(BW71<=149999,ROUNDUP(BW71*0.4,0),IF(BW71<=299999,ROUNDUP(BW71*0.3+15000,0),IF(BW71<=549999,ROUNDUP(BW71*0.2+45000,0),IF(BW71<=833333,ROUNDUP(BW71*0.1+100000,0),IF(BW71<=1249999,ROUNDUP(BW71*0.05+141667,0),204167))))))","v":54167},{"$f":"(BW71-BX71-31667)","v":-85834},{"$f":"IF($BY71<=162500,ROUNDDOWN($BY71*0.05,0),IF($BY71<=275000,ROUNDDOWN($BY71*0.1-8125,0),IF($BY71<=579166,ROUNDDOWN($BY71*0.2-35625,0),IF($BY71<=750000,ROUNDDOWN($BY71*0.23-53000,0),IF($BY71<=1500000,ROUNDDOWN($BY71*0.33028,0),ROUNDDOWN($BY71*0.4-233000,0))))))","v":-4291},{"$f":"BV71*2.5","v":0},{"$f":"IF(CA71<=135416,54167,IF(CA71<=149999,ROUNDUP(CA71*0.4,0),IF(CA71<=299999,ROUNDUP(CA71*0.3+15000,0),IF(CA71<=549999,ROUNDUP(CA71*0.2+45000,0),IF(CA71<=833333,ROUNDUP(CA71*0.1+100000,0),IF(CA71<=1249999,ROUNDUP(CA71*0.05+141667,0),204167))))))","v":54167},{"$f":"(CA71-CB71-31667)","v":-85834},{"$f":"IF($CC71<=162500,ROUNDDOWN($CC71*0.05,0),IF($CC71<=275000,ROUNDDOWN($CC71*0.1-8125,0),IF($CC71<=579166,ROUNDDOWN($CC71*0.2-35625,0),IF($CC71<=750000,ROUNDDOWN($CC71*0.23-53000,0),IF($CC71<=1500000,ROUNDDOWN($CC71*0.33028,0),ROUNDDOWN($CC71*0.4-233000,0))))))","v":-4291},{"$f":"ROUND(CD71-BZ71,-2)","v":0},{"$f":"ROUND(CE71*1.021,-2)","v":0}]
[]
[null,null,null,null,null,null,null,null,null,null,null,null,null,null,null,null,null,null,null,null,null,null,null,null,null,null,null,null,null,null,null,null,null,null,"差引課税給与所得金額(⑨−⑰)\n及び算出年税額",null,null,null,null,null,null,null,null,null,"⑱","(1,000円未満切捨て)",null,null,null,null,null,null,"⑲",{"$f":"IF(AT74<=1950000,AT74*0.05,IF(AT74<=3300000,AT74*0.1-97500,IF(AT74<=6950000,AT74*0.2-427500,IF(AT74<=9000000,AT74*0.23-636000,AT74*0.33-1536000))))","v":0}]
[null,null,null,11,null,null,null,null,null,null,null,null,null,null,null,{"$f":"G74-L74","v":0},null,null,null,null,null,null,{"$f":"IF(A2=\"甲欄\",BN74,BS74)","v":0},null,null,null,null,null,null,{"$f":"W74+AA74","v":0},null,null,null,null,null,null,null,null,null,null,null,null,null,null,null,{"$f":"IF(AT46-AT70<=0,0,ROUNDDOWN(AT46-AT70,-3))","v":0},null,null,null,null,null,null,null,null,null,null,null,null,null,null,null,null,null,null,null,{"$f":"IF($BO74<=162500,ROUND($BO74*0.05105,-1),IF($BO74<=275000,ROUND($BO74*0.1021-8296,-1),IF($BO74<=579166,ROUND($BO74*0.2042-36374,-1),IF($BO74<=750000,ROUND($BO74*0.23483-54113,-1),IF($BO74<=1500000,ROUND($BO74*0.33693-130688,-1),IF($BO74<=3333333,ROUND($BO74*0.4084-237893,-1),ROUND($BO74*0.45945-408061,-1)))))))","v":0},{"$f":"IF(P74-BP74-BQ74<=0,0,P74-BP74-BQ74)","v":0},{"$f":"IF(P74<=135416,54167,IF(P74<=149999,ROUNDUP(P74*0.4,0),IF(P74<=299999,ROUNDUP(P74*0.3+15000,0),IF(P74<=549999,ROUNDUP(P74*0.2+45000,0),IF(P74<=833333,ROUNDUP(P74*0.1+100000,0),IF(P74<=999999,ROUNDUP(P74*0.05+141667,0),191667))))))","v":54167},{"$f":"(U74+1)*31667","v":31667},{"$f":"IF(P74<88000,(P74*0.03063)-($BG$28*1610),IF(P74<1010000,CE74,IF(P74<1250000,(396700+(P74-1010000)*0.4084)-($BG$28*1610),(494800+(P74-1250000)*0.45945)-($BG$28*1610))))","v":0},{"$f":"IF(BR14<0,0,BR14)","v":0},{"$f":"IF(P74<=98999,1000,IF(P74<=220999,2000,3000))","v":1000},{"$f":"IF(BT74=1000,88000,IF(BT74=2000,99000,221000))","v":88000},{"$f":"IF(P74<1010000,P74-MOD((P74-BU74),BT74),1010000)","v":0},{"$f":"BV74*1.5","v":0},{"$f":"IF(BW74<=135416,54167,IF(BW74<=149999,ROUNDUP(BW74*0.4,0),IF(BW74<=299999,ROUNDUP(BW74*0.3+15000,0),IF(BW74<=549999,ROUNDUP(BW74*0.2+45000,0),IF(BW74<=833333,ROUNDUP(BW74*0.1+100000,0),IF(BW74<=1249999,ROUNDUP(BW74*0.05+141667,0),204167))))))","v":54167},{"$f":"(BW74-BX74-31667)","v":-85834},{"$f":"IF($BY74<=162500,ROUNDDOWN($BY74*0.05,0),IF($BY74<=275000,ROUNDDOWN($BY74*0.1-8125,0),IF($BY74<=579166,ROUNDDOWN($BY74*0.2-35625,0),IF($BY74<=750000,ROUNDDOWN($BY74*0.23-53000,0),IF($BY74<=1500000,ROUNDDOWN($BY74*0.33028,0),ROUNDDOWN($BY74*0.4-233000,0))))))","v":-4291},{"$f":"BV74*2.5","v":0},{"$f":"IF(CA74<=135416,54167,IF(CA74<=149999,ROUNDUP(CA74*0.4,0),IF(CA74<=299999,ROUNDUP(CA74*0.3+15000,0),IF(CA74<=549999,ROUNDUP(CA74*0.2+45000,0),IF(CA74<=833333,ROUNDUP(CA74*0.1+100000,0),IF(CA74<=1249999,ROUNDUP(CA74*0.05+141667,0),204167))))))","v":54167},{"$f":"(CA74-CB74-31667)","v":-85834},{"$f":"IF($CC74<=162500,ROUNDDOWN($CC74*0.05,0),IF($CC74<=275000,ROUNDDOWN($CC74*0.1-8125,0),IF($CC74<=579166,ROUNDDOWN($CC74*0.2-35625,0),IF($CC74<=750000,ROUNDDOWN($CC74*0.23-53000,0),IF($CC74<=1500000,ROUNDDOWN($CC74*0.33028,0),ROUNDDOWN($CC74*0.4-233000,0))))))","v":-4291},{"$f":"ROUND(CD74-BZ74,-2)","v":0},{"$f":"ROUND(CE74*1.021,-2)","v":0}]
[]
[]
[null,null,null,null,null,null,null,null,null,null,null,null,null,null,null,{"$f":"G77-L77","v":0},null,null,null,null,null,null,{"$f":"IF(A2=\"甲欄\",BN77,BS77)","v":0},null,null,null,null,null,null,{"$f":"W77+AA77","v":0},null,null,null,null,"　(特定増改築等)住宅借入金等特別控除額　",null,null,null,null,null,null,null,null,null,null,null,null,null,null,null,null,null,"⑳",null,null,null,null,null,null,null,null,null,null,null,null,{"$f":"IF($BO77<=162500,ROUND($BO77*0.05105,-1),IF($BO77<=275000,ROUND($BO77*0.1021-8296,-1),IF($BO77<=579166,ROUND($BO77*0.2042-36374,-1),IF($BO77<=750000,ROUND($BO77*0.23483-54113,-1),IF($BO77<=1500000,ROUND($BO77*0.33693-130688,-1),IF($BO77<=3333333,ROUND($BO77*0.4084-237893,-1),ROUND($BO77*0.45945-408061,-1)))))))","v":0},{"$f":"IF(P77-BP77-BQ77<=0,0,P77-BP77-BQ77)","v":0},{"$f":"IF(P77<=135416,54167,IF(P77<=149999,ROUNDUP(P77*0.4,0),IF(P77<=299999,ROUNDUP(P77*0.3+15000,0),IF(P77<=549999,ROUNDUP(P77*0.2+45000,0),IF(P77<=833333,ROUNDUP(P77*0.1+100000,0),IF(P77<=999999,ROUNDUP(P77*0.05+141667,0),191667))))))","v":54167},{"$f":"(U77+1)*31667","v":31667},{"$f":"IF(P77<88000,(P77*0.03063)-($BG$28*1610),IF(P77<1010000,CE77,IF(P77<1250000,(396700+(P77-1010000)*0.4084)-($BG$28*1610),(494800+(P77-1250000)*0.45945)-($BG$28*1610))))","v":0},{"$f":"IF(BR14<0,0,BR14)","v":0},{"$f":"IF(P77<=98999,1000,IF(P77<=220999,2000,3000))","v":1000},{"$f":"IF(BT77=1000,88000,IF(BT77=2000,99000,221000))","v":88000},{"$f":"IF(P77<1010000,P77-MOD((P77-BU77),BT77),1010000)","v":0},{"$f":"BV77*1.5","v":0},{"$f":"IF(BW77<=135416,54167,IF(BW77<=149999,ROUNDUP(BW77*0.4,0),IF(BW77<=299999,ROUNDUP(BW77*0.3+15000,0),IF(BW77<=549999,ROUNDUP(BW77*0.2+45000,0),IF(BW77<=833333,ROUNDUP(BW77*0.1+100000,0),IF(BW77<=1249999,ROUNDUP(BW77*0.05+141667,0),204167))))))","v":54167},{"$f":"(BW77-BX77-31667)","v":-85834},{"$f":"IF($BY77<=162500,ROUNDDOWN($BY77*0.05,0),IF($BY77<=275000,ROUNDDOWN($BY77*0.1-8125,0),IF($BY77<=579166,ROUNDDOWN($BY77*0.2-35625,0),IF($BY77<=750000,ROUNDDOWN($BY77*0.23-53000,0),IF($BY77<=1500000,ROUNDDOWN($BY77*0.33028,0),ROUNDDOWN($BY77*0.4-233000,0))))))","v":-4291},{"$f":"BV77*2.5","v":0},{"$f":"IF(CA77<=135416,54167,IF(CA77<=149999,ROUNDUP(CA77*0.4,0),IF(CA77<=299999,ROUNDUP(CA77*0.3+15000,0),IF(CA77<=549999,ROUNDUP(CA77*0.2+45000,0),IF(CA77<=833333,ROUNDUP(CA77*0.1+100000,0),IF(CA77<=1249999,ROUNDUP(CA77*0.05+141667,0),204167))))))","v":54167},{"$f":"(CA77-CB77-31667)","v":-85834},{"$f":"IF($CC77<=162500,ROUNDDOWN($CC77*0.05,0),IF($CC77<=275000,ROUNDDOWN($CC77*0.1-8125,0),IF($CC77<=579166,ROUNDDOWN($CC77*0.2-35625,0),IF($CC77<=750000,ROUNDDOWN($CC77*0.23-53000,0),IF($CC77<=1500000,ROUNDDOWN($CC77*0.33028,0),ROUNDDOWN($CC77*0.4-233000,0))))))","v":-4291},{"$f":"ROUND(CD77-BZ77,-2)","v":0},{"$f":"ROUND(CE77*1.021,-2)","v":0}]
[]
[]
[null,null,null,12,null,null,null,null,null,null,null,null,null,null,null,{"$f":"G80-L80","v":0},null,null,null,null,null,null,{"$f":"IF(A2=\"甲欄\",BN80,BS80)","v":0},null,null,null,null,null,null,{"$f":"W80+AA80","v":0},null,null,null,null,"　年調所得税額(⑲−⑳、マイナスの場合は０)　",null,null,null,null,null,null,null,null,null,null,null,null,null,null,null,null,null,"㉑",{"$f":"IF(BB73-BB77<=0,0,ROUNDDOWN(BB73-BB77,0))","v":0},null,null,null,null,null,null,null,null,null,null,null,{"$f":"IF($BO80<=162500,ROUND($BO80*0.05105,-1),IF($BO80<=275000,ROUND($BO80*0.1021-8296,-1),IF($BO80<=579166,ROUND($BO80*0.2042-36374,-1),IF($BO80<=750000,ROUND($BO80*0.23483-54113,-1),IF($BO80<=1500000,ROUND($BO80*0.33693-130688,-1),IF($BO80<=3333333,ROUND($BO80*0.4084-237893,-1),ROUND($BO80*0.45945-408061,-1)))))))","v":0},{"$f":"IF(P80-BP80-BQ80<=0,0,P80-BP80-BQ80)","v":0},{"$f":"IF(P80<=135416,54167,IF(P80<=149999,ROUNDUP(P80*0.4,0),IF(P80<=299999,ROUNDUP(P80*0.3+15000,0),IF(P80<=549999,ROUNDUP(P80*0.2+45000,0),IF(P80<=833333,ROUNDUP(P80*0.1+100000,0),IF(P80<=999999,ROUNDUP(P80*0.05+141667,0),191667))))))","v":54167},{"$f":"(U80+1)*31667","v":31667},{"$f":"IF(P80<88000,(P80*0.03063)-($BG$28*1610),IF(P80<1010000,CE80,IF(P80<1250000,(396700+(P80-1010000)*0.4084)-($BG$28*1610),(494800+(P80-1250000)*0.45945)-($BG$28*1610))))","v":0},{"$f":"IF(BR14<0,0,BR14)","v":0},{"$f":"IF(P80<=98999,1000,IF(P80<=220999,2000,3000))","v":1000},{"$f":"IF(BT80=1000,88000,IF(BT80=2000,99000,221000))","v":88000},{"$f":"IF(P80<1010000,P80-MOD((P80-BU80),BT80),1010000)","v":0},{"$f":"BV80*1.5","v":0},{"$f":"IF(BW80<=135416,54167,IF(BW80<=149999,ROUNDUP(BW80*0.4,0),IF(BW80<=299999,ROUNDUP(BW80*0.3+15000,0),IF(BW80<=549999,ROUNDUP(BW80*0.2+45000,0),IF(BW80<=833333,ROUNDUP(BW80*0.1+100000,0),IF(BW80<=1249999,ROUNDUP(BW80*0.05+141667,0),204167))))))","v":54167},{"$f":"(BW80-BX80-31667)","v":-85834},{"$f":"IF($BY80<=162500,ROUNDDOWN($BY80*0.05,0),IF($BY80<=275000,ROUNDDOWN($BY80*0.1-8125,0),IF($BY80<=579166,ROUNDDOWN($BY80*0.2-35625,0),IF($BY80<=750000,ROUNDDOWN($BY80*0.23-53000,0),IF($BY80<=1500000,ROUNDDOWN($BY80*0.33028,0),ROUNDDOWN($BY80*0.4-233000,0))))))","v":-4291},{"$f":"BV80*2.5","v":0},{"$f":"IF(CA80<=135416,54167,IF(CA80<=149999,ROUNDUP(CA80*0.4,0),IF(CA80<=299999,ROUNDUP(CA80*0.3+15000,0),IF(CA80<=549999,ROUNDUP(CA80*0.2+45000,0),IF(CA80<=833333,ROUNDUP(CA80*0.1+100000,0),IF(CA80<=1249999,ROUNDUP(CA80*0.05+141667,0),204167))))))","v":54167},{"$f":"(CA80-CB80-31667)","v":-85834},{"$f":"IF($CC80<=162500,ROUNDDOWN($CC80*0.05,0),IF($CC80<=275000,ROUNDDOWN($CC80*0.1-8125,0),IF($CC80<=579166,ROUNDDOWN($CC80*0.2-35625,0),IF($CC80<=750000,ROUNDDOWN($CC80*0.23-53000,0),IF($CC80<=1500000,ROUNDDOWN($CC80*0.33028,0),ROUNDDOWN($CC80*0.4-233000,0))))))","v":-4291},{"$f":"ROUND(CD80-BZ80,-2)","v":0},{"$f":"ROUND(CE80*1.021,-2)","v":0}]
[]
[]
[null,null,null,null,null,null,null,null,null,null,null,null,null,null,null,{"$f":"G83-L83","v":0},null,null,null,null,null,null,{"$f":"IF(A2=\"甲欄\",BN83,BS83)","v":0},null,null,null,null,null,null,{"$f":"W83+AA83","v":0},null,null,null,null,"　年 調 年 税 額 （㉑ × 1 0 2 . 1 % )　",null,null,null,null,null,null,null,null,null,null,null,null,null,null,null,null,null,"㉒","(100円未満切捨て)",null,null,null,null,null,null,null,null,null,null,null,{"$f":"IF($BO83<=162500,ROUND($BO83*0.05105,-1),IF($BO83<=275000,ROUND($BO83*0.1021-8296,-1),IF($BO83<=579166,ROUND($BO83*0.2042-36374,-1),IF($BO83<=750000,ROUND($BO83*0.23483-54113,-1),IF($BO83<=1500000,ROUND($BO83*0.33693-130688,-1),IF($BO83<=3333333,ROUND($BO83*0.4084-237893,-1),ROUND($BO83*0.45945-408061,-1)))))))","v":0},{"$f":"IF(P83-BP83-BQ83<=0,0,P83-BP83-BQ83)","v":0},{"$f":"IF(P83<=135416,54167,IF(P83<=149999,ROUNDUP(P83*0.4,0),IF(P83<=299999,ROUNDUP(P83*0.3+15000,0),IF(P83<=549999,ROUNDUP(P83*0.2+45000,0),IF(P83<=833333,ROUNDUP(P83*0.1+100000,0),IF(P83<=999999,ROUNDUP(P83*0.05+141667,0),191667))))))","v":54167},{"$f":"(U83+1)*31667","v":31667},{"$f":"IF(P83<88000,(P83*0.03063)-($BG$28*1610),IF(P83<1010000,CE83,IF(P83<1250000,(396700+(P83-1010000)*0.4084)-($BG$28*1610),(494800+(P83-1250000)*0.45945)-($BG$28*1610))))","v":0},{"$f":"IF(BR14<0,0,BR14)","v":0},{"$f":"IF(P83<=98999,1000,IF(P83<=220999,2000,3000))","v":1000},{"$f":"IF(BT83=1000,88000,IF(BT83=2000,99000,221000))","v":88000},{"$f":"IF(P83<1010000,P83-MOD((P83-BU83),BT83),1010000)","v":0},{"$f":"BV83*1.5","v":0},{"$f":"IF(BW83<=135416,54167,IF(BW83<=149999,ROUNDUP(BW83*0.4,0),IF(BW83<=299999,ROUNDUP(BW83*0.3+15000,0),IF(BW83<=549999,ROUNDUP(BW83*0.2+45000,0),IF(BW83<=833333,ROUNDUP(BW83*0.1+100000,0),IF(BW83<=1249999,ROUNDUP(BW83*0.05+141667,0),204167))))))","v":54167},{"$f":"(BW83-BX83-31667)","v":-85834},{"$f":"IF($BY83<=162500,ROUNDDOWN($BY83*0.05,0),IF($BY83<=275000,ROUNDDOWN($BY83*0.1-8125,0),IF($BY83<=579166,ROUNDDOWN($BY83*0.2-35625,0),IF($BY83<=750000,ROUNDDOWN($BY83*0.23-53000,0),IF($BY83<=1500000,ROUNDDOWN($BY83*0.33028,0),ROUNDDOWN($BY83*0.4-233000,0))))))","v":-4291},{"$f":"BV83*2.5","v":0},{"$f":"IF(CA83<=135416,54167,IF(CA83<=149999,ROUNDUP(CA83*0.4,0),IF(CA83<=299999,ROUNDUP(CA83*0.3+15000,0),IF(CA83<=549999,ROUNDUP(CA83*0.2+45000,0),IF(CA83<=833333,ROUNDUP(CA83*0.1+100000,0),IF(CA83<=1249999,ROUNDUP(CA83*0.05+141667,0),204167))))))","v":54167},{"$f":"(CA83-CB83-31667)","v":-85834},{"$f":"IF($CC83<=162500,ROUNDDOWN($CC83*0.05,0),IF($CC83<=275000,ROUNDDOWN($CC83*0.1-8125,0),IF($CC83<=579166,ROUNDDOWN($CC83*0.2-35625,0),IF($CC83<=750000,ROUNDDOWN($CC83*0.23-53000,0),IF($CC83<=1500000,ROUNDDOWN($CC83*0.33028,0),ROUNDDOWN($CC83*0.4-233000,0))))))","v":-4291},{"$f":"ROUND(CD83-BZ83,-2)","v":0},{"$f":"ROUND(CE83*1.021,-2)","v":0}]
[null,null,null,null,null,null,null,null,null,null,null,null,null,null,null,null,null,null,null,null,null,null,null,null,null,null,null,null,null,null,null,null,null,null,null,null,null,null,null,null,null,null,null,null,null,null,null,null,null,null,null,null,null,{"$f":"IF(BB80<=0,0,ROUNDDOWN(BB80*1.021,-2))","v":0}]
[]
[null,null,null,"計",null,null,"①",{"$f":"SUM(G14:G83)","v":0},null,null,null,"②",{"$f":"SUM(L14:L83)","v":0},null,null,{"$f":"SUM(P14:P83)","v":0},null,null,null,null,null,null,"③",{"$f":"SUM(W14:W83)","v":0},null,null,{"$f":"SUM(AA14:AA83)","v":0},null,null,{"$f":"SUM(AD14:AD83)","v":0}]
[null,null,null,null,null,null,null,null,null,null,null,null,null,null,null,null,null,null,null,null,null,null,null,null,null,null,null,null,null,null,null,null,null,null,"　差引超過額又は不足額(㉒−⑧)　",null,null,null,null,null,null,null,null,null,null,null,null,null,null,null,null,null,"㉓",{"$f":"BB84-BB43","v":0}]
[]
[]
[null,null,null,null,null,null,null,null,null,null,null,null,null,null,null,null,null,null,null,null,null,null,null,null,null,null,null,null,null,null,null,null,null,null,"超過額\nの精算",null,null,"　本年最後の給与から徴収する税額に充当する金額　",null,null,null,null,null,null,null,null,null,null,null,null,null,null,"㉔",null,null,null,null,null,null,null,null,null,null,null,null,"給与の総額",{"$f":"AT43","v":0}]
[null,null,"賞与等",null,null,null,null,null,null,null,null,null,null,null,null,{"$f":"G91-L91","v":0},null,null,null,null,null,null,"(税率",{"$f":"IF(Z117=0,(VLOOKUP((V117/1000),賞与の税額表!$C$10:$D$30,2)),IF(Z117=1,(VLOOKUP((V117/1000),賞与の税額表!$E$10:$F$30,2)),IF(Z117=2,(VLOOKUP((V117/1000),賞与の税額表!$G$10:$H$30,2)),IF(Z117=3,(VLOOKUP((V117/1000),賞与の税額表!$I$10:$J$30,2)),IF(Z117=4,(VLOOKUP((V117/1000),賞与の税額表!$K$10:$L$30,2)),IF(Z117=5,(VLOOKUP((V117/1000),賞与の税額表!$M$10:$N$30,2)),IF(Z117=6,(VLOOKUP((V117/1000),賞与の税額表!$O$10:$P$30,2)),(VLOOKUP((V117/1000),賞与の税額表!$Q$10:$R$30,2)))))))))","v":0},null,"%)",null,null,null,{"$f":"W92+AA91","v":0}]
[null,null,null,null,null,null,null,null,null,null,null,null,null,null,null,null,null,null,null,null,null,null,{"$f":"ROUNDDOWN(P91/100*X91, 0)","v":0},null,null,null,null,null,null,null,null,null,null,null,null,null,null,null,null,null,null,null,null,null,null,null,null,null,null,null,null,null,null,null,null,null,null,null,null,null,null,null,null,null,null,"年調給与額の算出",{"$f":"IF(BO90<=1618999,BO90,IF(BO90<1619999,ROUNDDOWN(((BO90-1619000)/1000),0)*1000+1619000,IF(BO90<=1623999,ROUNDDOWN((BO90-1620000)/2000,0)*2000+1620000,IF(BO90<=6599999,ROUNDDOWN((BO90-1624000)/4000,0)*4000+1624000,BO90))))","v":0}]
[null,null,null,null,null,null,null,null,null,null,null,null,null,null,null,null,null,null,null,null,null,null,null,null,null,null,null,null,null,null,null,null,null,null,null,null,null,"　未払給与に係る未徴収の税額に充当する金額　",null,null,null,null,null,null,null,null,null,null,null,null,null,null,"㉕"]
[null,null,null,null,null,null,null,null,null,null,null,null,null,null,null,{"$f":"G94-L94","v":0},null,null,null,null,null,null,"(税率",{"$f":"IF(Z118=0,(VLOOKUP((V118/1000),賞与の税額表!$C$10:$D$30,2)),IF(Z118=1,(VLOOKUP((V118/1000),賞与の税額表!$E$10:$F$30,2)),IF(Z118=2,(VLOOKUP((V118/1000),賞与の税額表!$G$10:$H$30,2)),IF(Z118=3,(VLOOKUP((V118/1000),賞与の税額表!$I$10:$J$30,2)),IF(Z118=4,(VLOOKUP((V118/1000),賞与の税額表!$K$10:$L$30,2)),IF(Z118=5,(VLOOKUP((V118/1000),賞与の税額表!$M$10:$N$30,2)),IF(Z118=6,(VLOOKUP((V118/1000),賞与の税額表!$O$10:$P$30,2)),(VLOOKUP((V118/1000),賞与の税額表!$Q$10:$R$30,2)))))))))","v":0},null,"%)",null,null,null,{"$f":"W95+AA94","v":0},null,null,null,null,null,null,null,null,null,null,null,null,null,null,null,null,null,null,null,null,null,null,null,null,null,null,null,null,null,null,null,null,null,null,null,"給与所得控除後の給与等の金額の計算",{"$f":"IF(BO92<=1800000,IF(BO92<=650999,0,IF(BO92<=1618999,BO92-650000,IF(BO92<=1619999,BO92*0.6-2400,IF(BO92<=1621999,BO92*0.6-2000,IF(BO92<=1623999,BO92*0.6-1200,IF(BO92<=1627999,BO92*0.6-400,BO92*0.6)))))),\"\")","v":0}]
[null,null,null,null,null,null,null,null,null,null,null,null,null,null,null,null,null,null,null,null,null,null,{"$f":"ROUNDDOWN(P94/100*X94, 0)","v":0},null,null,null,null,null,null,null,null,null,null,null,null,null,null,null,null,null,null,null,null,null,null,null,null,null,null,null,null,null,null,null,null,null,null,null,null,null,null,null,null,null,null,null,{"$f":"IF(BO92<=1799999,\"\",IF(BO92<=3599999,BO92*0.7-180000,IF(BO92<=6599999,BO92*0.8-540000,IF(BO92<=9999999,BO92*0.9-1200000,IF(BO92<=20000000,BO92*0.95-1700000,\"年末調整は出来ません。\")))))","v":""}]
[null,null,null,null,null,null,null,null,null,null,null,null,null,null,null,null,null,null,null,null,null,null,null,null,null,null,null,null,null,null,null,null,null,null,null,null,null,"　差引還付する金額　(㉓−㉔−㉕)　",null,null,null,null,null,null,null,null,null,null,null,null,null,null,"㉖",{"$f":"BB87-BB90-BB93","v":0}]
[null,null,null,null,null,null,null,null,null,null,null,null,null,null,null,{"$f":"G97-L97","v":0},null,null,null,null,null,null,"(税率",{"$f":"IF(Z119=0,(VLOOKUP((V119/1000),賞与の税額表!$C$10:$D$30,2)),IF(Z119=1,(VLOOKUP((V119/1000),賞与の税額表!$E$10:$F$30,2)),IF(Z119=2,(VLOOKUP((V119/1000),賞与の税額表!$G$10:$H$30,2)),IF(Z119=3,(VLOOKUP((V119/1000),賞与の税額表!$I$10:$J$30,2)),IF(Z119=4,(VLOOKUP((V119/1000),賞与の税額表!$K$10:$L$30,2)),IF(Z119=5,(VLOOKUP((V119/1000),賞与の税額表!$M$10:$N$30,2)),IF(Z119=6,(VLOOKUP((V119/1000),賞与の税額表!$O$10:$P$30,2)),(VLOOKUP((V119/1000),賞与の税額表!$Q$10:$R$30,2)))))))))","v":0},null,"%)",null,null,null,{"$f":"W98+AA97","v":0},null,null,null,null,null,null,null,null,null,null,null,null,null,null,null,null,null,null,null,null,null,null,null,null,null,null,null,null,null,null,null,null,null,null,null,"給与所得控除後の給与等の金額",{"$f":"IF(BO94=\"\",IF(BO95=\"年末調整は出来ません。\",\"年末調整は出来ません。\",ROUNDDOWN(BO95*1,0)),ROUNDDOWN(BO94*1,0))","v":0}]
[null,null,null,null,null,null,null,null,null,null,null,null,null,null,null,null,null,null,null,null,null,null,{"$f":"ROUNDDOWN(P97/100*X97, 0)","v":0}]
[null,null,null,null,null,null,null,null,null,null,null,null,null,null,null,null,null,null,null,null,null,null,null,null,null,null,null,null,null,null,null,null,null,null,null,null,null,"同上の\nうち",null,"　本年中に還付する金額　",null,null,null,null,null,null,null,null,null,null,null,null,"㉗"]
[null,null,null,null,null,null,null,null,null,null,null,null,null,null,null,{"$f":"G100-L100","v":0},null,null,null,null,null,null,"(税率",{"$f":"IF(Z120=0,(VLOOKUP((V120/1000),賞与の税額表!$C$10:$D$30,2)),IF(Z120=1,(VLOOKUP((V120/1000),賞与の税額表!$E$10:$F$30,2)),IF(Z120=2,(VLOOKUP((V120/1000),賞与の税額表!$G$10:$H$30,2)),IF(Z120=3,(VLOOKUP((V120/1000),賞与の税額表!$I$10:$J$30,2)),IF(Z120=4,(VLOOKUP((V120/1000),賞与の税額表!$K$10:$L$30,2)),IF(Z120=5,(VLOOKUP((V120/1000),賞与の税額表!$M$10:$N$30,2)),IF(Z120=6,(VLOOKUP((V120/1000),賞与の税額表!$O$10:$P$30,2)),(VLOOKUP((V120/1000),賞与の税額表!$Q$10:$R$30,2)))))))))","v":0},null,"%)",null,null,null,{"$f":"W101+AA100","v":0}]
[null,null,null,null,null,null,null,null,null,null,null,null,null,null,null,null,null,null,null,null,null,null,{"$f":"ROUNDDOWN(P100/100*X100, 0)","v":0}]
[null,null,null,null,null,null,null,null,null,null,null,null,null,null,null,null,null,null,null,null,null,null,null,null,null,null,null,null,null,null,null,null,null,null,null,null,null,null,null,"　翌年において還付する金額　",null,null,null,null,null,null,null,null,null,null,null,null,"㉘"]
[null,null,null,null,null,null,null,null,null,null,null,null,null,null,null,{"$f":"G103-L103","v":0},null,null,null,null,null,null,"(税率",{"$f":"IF(Z121=0,(VLOOKUP((V121/1000),賞与の税額表!$C$10:$D$30,2)),IF(Z121=1,(VLOOKUP((V121/1000),賞与の税額表!$E$10:$F$30,2)),IF(Z121=2,(VLOOKUP((V121/1000),賞与の税額表!$G$10:$H$30,2)),IF(Z121=3,(VLOOKUP((V121/1000),賞与の税額表!$I$10:$J$30,2)),IF(Z121=4,(VLOOKUP((V121/1000),賞与の税額表!$K$10:$L$30,2)),IF(Z121=5,(VLOOKUP((V121/1000),賞与の税額表!$M$10:$N$30,2)),IF(Z121=6,(VLOOKUP((V121/1000),賞与の税額表!$O$10:$P$30,2)),(VLOOKUP((V121/1000),賞与の税額表!$Q$10:$R$30,2)))))))))","v":0},null,"%)",null,null,null,{"$f":"W104+AA103","v":0}]
[null,null,null,null,null,null,null,null,null,null,null,null,null,null,null,null,null,null,null,null,null,null,{"$f":"ROUNDDOWN(P103/100*X103, 0)","v":0}]
[null,null,null,null,null,null,null,null,null,null,null,null,null,null,null,null,null,null,null,null,null,null,null,null,null,null,null,null,null,null,null,null,null,null,"不足額\nの精算",null,null,"　本年最後の給与から徴収する金額　　",null,null,null,null,null,null,null,null,null,null,null,null,null,null,"㉙"]
[null,null,null,"計",null,null,"④",{"$f":"SUM(G91:G103)","v":0},null,null,null,"⑤",{"$f":"SUM(L91:L103)","v":0},null,null,{"$f":"SUM(P91:P103)","v":0},null,null,null,null,null,null,"⑥",{"$f":"W92+W95+W98+W101+W104","v":0},null,null,{"$f":"SUM(AA91:AA103)","v":0},null,null,{"$f":"SUM(AD91:AD103)","v":0}]
[]
[null,null,null,null,null,null,null,null,null,null,null,null,null,null,null,null,null,null,null,null,null,null,null,null,null,null,null,null,null,null,null,null,null,null,null,null,null,"　翌年に繰り越して徴収する金額　",null,null,null,null,null,null,null,null,null,null,null,null,null,null,"㉚"]
[]
[]
[]
[]
[]
[]
[null,null,null,null,null,null,null,null,null,null,null,null,null,null,null,null,null,null,null,null,null,null,null,null,"扶養親族等の数"]
["甲乙欄",null,null,null,null,null,null,null,null,null,null,null,null,null,null,"前年１２月の控除後の給与",null,null,null,null,null,null,null,null,null,null,null,null,null,null,null,null,null,null,"申告の有無",null,null,null,null,null,null,null,null,"年号",null,null,null,null,null,null,null,null,null,null,null,null,null,null,null,null,"配偶者の有無"]
["甲欄",null,null,null,null,null,null,null,null,null,null,null,null,null,null,"賞与等の１の前月の給与",null,null,null,null,null,{"$f":"IF(E91=12,P74+P77,IF(E91=11,P68+P71,IF(E91=10,P62+P65,IF(E91=9,P56+P59,IF(E91=8,P50+P53,IF(E91=7,P44+P47,IF(E91=6,P38+P41,IF(E91=5,P32+P35,IF(E91=4,P26+P29,IF(E91=3,P20+P23,IF(E91=2,P14+P17,IF(E91=1,V116,0))))))))))))","v":0},null,null,null,{"$f":"U91","v":0},null,null,null,null,null,null,null,null,"有",null,null,null,null,null,null,null,null,"明治",null,null,null,null,null,null,null,null,null,null,null,null,null,null,null,null,"有"]
["乙欄",null,null,null,null,null,null,null,null,null,null,null,null,null,null,"賞与等の２の前月の給与",null,null,null,null,null,{"$f":"IF(E94=12,P74+P77,IF(E94=11,P68+P71,IF(E94=10,P62+P65,IF(E94=9,P56+P59,IF(E94=8,P50+P53,IF(E94=7,P44+P47,IF(E94=6,P38+P41,IF(E94=5,P32+P35,IF(E94=4,P26+P29,IF(E94=3,P20+P23,IF(E94=2,P14+P17,IF(E94=1,V116,0))))))))))))","v":0},null,null,null,{"$f":"U94","v":0},null,null,null,null,null,null,null,null,"無",null,null,null,null,null,null,null,null,"大正",null,null,null,null,null,null,null,null,null,null,null,null,null,null,null,null,"無",null,null,null,null,{"$f":"BG28*1610","v":0}]
[1,null,null,null,null,null,null,null,null,null,null,null,null,null,null,"賞与等の３の前月の給与",null,null,null,null,null,{"$f":"IF(E97=12,P74+P77,IF(E97=11,P68+P71,IF(E97=10,P62+P65,IF(E97=9,P56+P59,IF(E97=8,P50+P53,IF(E97=7,P44+P47,IF(E97=6,P38+P41,IF(E97=5,P32+P35,IF(E97=4,P26+P29,IF(E97=3,P20+P23,IF(E97=2,P14+P17,IF(E97=1,V116,0))))))))))))","v":0},null,null,null,{"$f":"U97","v":0},null,null,null,null,null,null,null,null,1,null,null,null,null,null,null,null,null,"昭和",null,null,null,null,null,null,null,null,null,null,null,null,null,null,null,null,1]
[null,null,null,null,null,null,null,null,null,null,null,null,null,null,null,"賞与等の４の前月の給与",null,null,null,null,null,{"$f":"IF(E100=12,P74+P77,IF(E100=11,P68+P71,IF(E100=10,P62+P65,IF(E100=9,P56+P59,IF(E100=8,P50+P53,IF(E100=7,P44+P47,IF(E100=6,P38+P41,IF(E100=5,P32+P35,IF(E100=4,P26+P29,IF(E100=3,P20+P23,IF(E100=2,P14+P17,IF(E100=1,V116,0))))))))))))","v":0},null,null,null,{"$f":"U100","v":0},null,null,null,null,null,null,null,null,null,null,null,null,null,null,null,null,null,"平成"]
[null,null,null,null,null,null,null,null,null,null,null,null,null,null,null,"賞与等の５の前月の給与",null,null,null,null,null,{"$f":"IF(E103=12,P74+P77,IF(E103=11,P68+P71,IF(E103=10,P62+P65,IF(E103=9,P56+P59,IF(E103=8,P50+P53,IF(E103=7,P44+P47,IF(E103=6,P38+P41,IF(E103=5,P32+P35,IF(E103=4,P26+P29,IF(E103=3,P20+P23,IF(E103=2,P14+P17,IF(E103=1,V116,0))))))))))))","v":0},null,null,null,{"$f":"U103","v":0},null,null,null,null,null,null,null,null,null,null,null,null,null,null,null,null,null,3]

{"sheet":"給料・手当等の支給金額の内訳","index":1,"n_rows":104,"n_cols":57,"rows_kept":104,"cut":false,"hidden":false,"merged":[[99,54,106,58],[102,50,106,53],[103,1,106,2],[103,23,106,26],[103,27,106,27],[103,28,106,31],[103,32,106,35],[103,36,106,36],[103,37,106,40],[103,41,106,44],[99,36,102,36],[99,37,102,40],[99,41,102,44],[99,45,102,45],[99,46,102,49],[99,50,101,53],[99,4,106,13],[99,14,106,17],[99,19,106,22],[99,23,102,26],[99,27,102,27],[99,32,102,35],[95,32,98,35],[91,41,94,44],[95,36,98,36],[95,37,98,40],[95,41,98,44],[91,45,94,45],[95,45,98,45],[91,46,94,49],[103,45,106,45],[103,46,106,49],[91,50,93,53],[91,54,98,58],[92,1,102,2],[93,11,98,13],[94,50,98,53],[95,23,98,26],[95,27,98,27],[91,23,94,26],[91,27,94,27],[91,28,94,31],[91,32,94,35],[91,36,94,36],[91,37,94,40],[91,3,98,3],[91,4,98,10],[91,11,92,13],[91,14,98,17],[91,18,98,18],[91,19,98,22],[95,46,98,49],[99,3,106,3],[99,18,106,18],[99,28,102,31],[95,28,98,31],[83,50,85,53],[83,54,90,58],[85,11,90,13],[86,50,90,53],[87,23,90,26],[87,27,90,27],[87,28,90,31],[83,23,86,26],[83,27,86,27],[83,28,86,31],[83,32,86,35],[83,36,86,36],[83,37,86,40],[87,32,90,35],[87,36,90,36],[87,37,90,40],[87,41,90,44],[87,45,90,45],[87,46,90,49],[83,41,86,44],[83,45,86,45],[83,46,86,49],[83,3,90,3],[83,4,90,10],[83,11,84,13],[83,14,90,17],[83,18,90,18],[83,19,90,22],[78,32,82,35],[78,36,82,36],[78,37,82,40],[78,41,82,49],[78,50,82,58],[80,11,82,13],[72,52,77,58],[78,3,82,3],[78,4,82,10],[78,11,79,13],[78,14,82,17],[78,18,82,18],[78,19,82,22],[78,23,82,26],[78,27,82,27],[78,28,82,31],[72,3,77,5],[72,6,77,8],[72,9,77,11],[72,12,77,14],[72,39,77,51],[69,49,71,49],[69,50,71,50],[66,50,68,51],[66,27,69,27],[66,28,69,28],[66,39,71,41],[66,42,68,42],[66,43,68,43],[66,44,68,44],[69,42,71,42],[69,43,71,43],[69,44,71,44],[69,51,71,51],[70,16,77,31],[70,32,77,32],[70,33,77,37],[62,16,69,21],[62,22,65,22],[62,23,65,23],[62,24,65,24],[62,30,69,30],[62,31,69,31],[62,32,69,32],[62,33,69,37],[60,3,65,5],[60,6,65,8],[60,9,65,11],[60,12,65,14],[66,45,68,45],[66,46,68,46],[66,47,68,47],[66,48,68,48],[66,49,68,49],[66,3,71,5],[66,6,71,8],[66,9,71,11],[66,12,71,14],[66,22,69,22],[66,23,69,23],[66,24,69,24],[66,25,69,25],[66,26,69,26],[60,43,62,43],[60,44,62,44],[60,45,62,45],[60,46,62,46],[60,47,62,47],[60,48,62,48],[63,48,65,48],[63,42,65,42],[63,43,65,43],[63,44,65,44],[63,45,65,45],[63,46,65,46],[63,47,65,47],[69,45,71,45],[69,46,71,46],[69,47,71,47],[69,48,71,48],[62,25,65,25],[62,26,65,26],[62,27,65,27],[62,28,65,28],[62,29,69,29],[57,48,59,48],[57,49,59,49],[57,50,59,50],[57,51,59,51],[54,38,77,38],[54,39,59,41],[60,49,65,51],[57,44,59,44],[57,45,59,45],[57,46,59,46],[54,42,56,42],[54,43,56,43],[54,44,56,44],[54,45,56,45],[54,46,56,46],[54,47,56,47],[57,47,59,47],[60,39,65,41],[60,42,62,42],[58,22,61,22],[58,23,61,23],[58,24,61,24],[58,25,61,25],[58,26,61,26],[54,30,61,30],[54,31,61,31],[54,32,61,32],[54,33,61,37],[54,24,57,24],[54,25,57,25],[54,26,57,26],[54,27,57,27],[54,28,57,28],[54,29,61,29],[58,27,61,27],[58,28,61,28],[48,44,50,48],[48,21,50,21],[48,22,50,24],[48,25,50,25],[51,54,53,58],[54,1,91,2],[54,3,59,5],[54,6,59,8],[54,9,59,11],[54,12,59,14],[54,15,77,15],[54,16,61,21],[54,22,57,22],[54,23,57,23],[48,17,53,17],[48,18,53,19],[48,20,53,20],[54,48,56,48],[54,49,56,49],[54,50,56,51],[54,52,55,58],[56,52,71,58],[57,42,59,42],[57,43,59,43],[45,43,47,43],[45,44,47,48],[45,49,47,53],[45,54,47,58],[48,5,53,8],[48,9,53,9],[48,10,53,11],[48,12,53,12],[48,13,53,16],[48,49,50,53],[48,54,50,58],[51,21,53,21],[51,22,53,24],[51,25,53,25],[51,26,53,27],[51,28,53,28],[51,37,53,43],[51,44,53,48],[51,49,53,53],[48,26,50,27],[48,28,50,28],[48,29,53,36],[48,37,50,42],[48,43,50,43],[42,43,44,43],[42,44,44,48],[42,49,44,53],[42,54,44,58],[43,1,53,4],[43,5,47,12],[43,13,47,20],[43,21,47,28],[43,29,47,36],[40,17,42,19],[40,20,42,22],[40,23,42,25],[40,26,42,28],[40,29,42,32],[40,33,42,36],[39,37,41,42],[39,43,41,43],[39,44,41,48],[39,49,41,53],[39,54,41,58],[40,3,42,4],[40,5,42,5],[40,6,42,6],[45,37,47,42],[40,7,42,10],[40,11,42,13],[37,17,39,19],[37,20,39,22],[37,23,39,25],[37,26,39,28],[37,29,39,32],[37,33,39,36],[36,37,38,42],[34,14,36,16],[42,37,44,42],[34,29,36,32],[34,33,36,36],[37,3,39,4],[37,5,39,5],[37,6,39,6],[37,7,39,10],[37,11,39,13],[34,17,36,19],[34,20,36,22],[34,23,36,25],[34,26,36,28],[34,3,36,4],[34,5,36,5],[34,6,36,6],[34,7,36,10],[34,11,36,13],[31,54,32,58],[33,37,35,43],[33,44,35,45],[33,46,35,46],[33,47,35,48],[33,49,35,50],[33,51,35,51],[36,43,38,43],[36,44,38,48],[36,49,38,53],[36,54,38,58],[33,52,35,53],[33,54,35,55],[33,56,35,56],[33,57,35,58],[28,23,30,25],[28,26,30,28],[28,29,30,32],[28,33,30,36],[31,37,32,43],[31,44,32,48],[31,49,32,53],[22,6,24,6],[22,7,24,10],[31,6,33,6],[31,7,33,10],[31,11,33,13],[25,26,27,28],[25,29,27,32],[31,23,33,25],[31,26,33,28],[31,29,33,32],[31,33,33,36],[28,3,30,4],[28,5,30,5],[28,6,30,6],[28,7,30,10],[28,11,30,13],[28,14,30,16],[28,17,30,19],[31,17,33,19],[31,20,33,22],[28,20,30,22],[31,3,33,4],[31,5,33,5],[19,17,21,19],[19,20,21,22],[19,23,21,25],[19,26,21,28],[19,29,21,32],[19,33,21,36],[18,43,20,43],[16,17,18,19],[24,37,30,58],[25,17,27,19],[25,20,27,22],[25,23,27,25],[22,17,24,19],[22,20,24,22],[22,23,24,25],[22,26,24,28],[22,29,24,32],[22,33,24,36],[21,37,23,43],[21,44,23,48],[21,49,23,53],[21,54,23,58],[25,33,27,36],[18,44,20,48],[18,49,20,53],[18,54,20,58],[19,3,21,4],[19,5,21,5],[19,6,21,6],[19,7,21,10],[19,11,21,13],[19,14,21,16],[16,20,18,22],[16,23,18,25],[16,26,18,28],[16,29,18,32],[16,33,18,36],[18,37,20,42],[15,44,17,48],[15,49,17,53],[15,54,17,58],[16,3,18,4],[16,5,18,5],[16,6,18,6],[16,7,18,10],[16,11,18,13],[16,14,18,16],[13,23,15,25],[13,26,15,28],[13,29,15,32],[13,33,15,36],[15,37,17,42],[15,43,17,43],[12,49,14,53],[12,54,14,58],[13,3,15,4],[13,5,15,5],[13,6,15,6],[13,7,15,10],[13,11,15,13],[13,14,15,16],[13,17,15,19],[13,20,15,22],[10,26,12,28],[10,29,12,32],[10,33,12,36],[12,37,14,42],[12,43,14,43],[12,44,14,48],[9,57,11,58],[10,3,12,4],[10,17,12,19],[10,20,12,22],[10,23,12,25],[7,54,8,58],[9,37,11,43],[9,44,11,45],[9,46,11,46],[9,47,11,48],[9,49,11,50],[9,51,11,51],[9,52,11,53],[9,54,11,55],[9,56,11,56],[7,26,9,28],[7,29,9,32],[7,33,9,36],[7,37,8,43],[7,44,8,48],[7,49,8,53],[0,37,6,58],[7,3,9,4],[7,5,9,5],[7,6,9,6],[7,7,9,10],[7,11,9,13],[7,14,9,16],[7,17,9,19],[7,20,9,22],[7,23,9,25],[0,17,6,19],[0,20,6,22],[0,23,6,25],[0,26,6,28],[0,29,6,32],[0,33,6,36],[0,1,42,2],[0,3,6,4],[0,5,6,6],[0,7,6,10],[0,11,6,13],[0,14,6,16],[31,14,33,16],[37,14,39,16],[40,14,42,16],[10,5,12,5],[10,6,12,6],[10,7,12,10],[10,11,12,13],[10,14,12,16],[22,11,24,13],[22,14,24,16],[25,3,27,4],[25,5,27,5],[25,6,27,6],[25,7,27,10],[25,11,27,13],[25,14,27,16],[22,3,24,4],[22,5,24,5]]}
[null,"給 料 ・ 手 当 等 の 支 給 金 額 の 内 訳",null,"月\n区分",null,"支給\n月日",null,"基 本 給",null,null,null,"家族手当",null,null,"手当",null,null,"手当",null,null,"手当",null,null,"手当",null,null,"手当",null,null,"総支給金額",null,null,null,"給与等から控\n除された小規\n模企業共済等\n掛金の金額",null,null,null,"前月中に通常の給与を支給していな\nかった場合に支給する賞与の税額計算"]
[]
[]
[]
[]
[]
[]
[null,null,null,null,null,null,null,null,null,null,null,null,null,null,null,null,null,null,null,null,null,null,null,null,null,null,null,null,null,null,null,null,null,null,null,null,null,"区     分",null,null,null,null,null,null,"第 1 回",null,null,null,null,"第 2 回",null,null,null,null,"第 3 回"]
[]
[null,null,null,null,null,null,null,null,null,null,null,null,null,null,null,null,null,null,null,null,null,null,null,null,null,null,null,null,null,null,null,null,null,null,null,null,null,"支 給 月 日",null,null,null,null,null,null,null,null,"・",null,null,null,null,"・",null,null,null,null,"・"]
[]
[]
[null,null,null,null,null,null,null,null,null,null,null,null,null,null,null,null,null,null,null,null,null,null,null,null,null,null,null,null,null,null,null,null,null,null,null,null,null,"社会保険料等控除後\nの賞与の金額",null,null,null,null,null,"①"]
[]
[]
[null,null,null,null,null,null,null,null,null,null,null,null,null,null,null,null,null,null,null,null,null,null,null,null,null,null,null,null,null,null,null,null,null,null,null,null,null,"①✕1/6又は1/12",null,null,null,null,null,"②"]
[]
[]
[null,null,null,null,null,null,null,null,null,null,null,null,null,null,null,null,null,null,null,null,null,null,null,null,null,null,null,null,null,null,null,null,null,null,null,null,null,"②に対する月額表に\n定める税額",null,null,null,null,null,"③"]
[]
[]
[null,null,null,null,null,null,null,null,null,null,null,null,null,null,null,null,null,null,null,null,null,null,null,null,null,null,null,null,null,null,null,null,null,null,null,null,null,"算出税額\n(③✕6又は12)"]
[]
[]
[null,null,null,null,null,null,null,null,null,null,null,null,null,null,null,null,null,null,null,null,null,null,null,null,null,null,null,null,null,null,null,null,null,null,null,null,null,"支給する賞与の金額が、前月中に支給した通常\nの給与の10倍を超える場合の賞与の税額計算"]
[]
[]
[]
[]
[]
[]
[null,null,null,null,null,null,null,null,null,null,null,null,null,null,null,null,null,null,null,null,null,null,null,null,null,null,null,null,null,null,null,null,null,null,null,null,null,"区     分",null,null,null,null,null,null,"第 1 回",null,null,null,null,"第 2 回",null,null,null,null,"第 3 回"]
[]
[null,null,null,null,null,null,null,null,null,null,null,null,null,null,null,null,null,null,null,null,null,null,null,null,null,null,null,null,null,null,null,null,null,null,null,null,null,"支 給 月 日",null,null,null,null,null,null,null,null,"・",null,null,null,null,"・",null,null,null,null,"・"]
[]
[]
[null,null,null,null,null,null,null,null,null,null,null,null,null,null,null,null,null,null,null,null,null,null,null,null,null,null,null,null,null,null,null,null,null,null,null,null,null,"社会保険料等控除後\nの賞与の金額",null,null,null,null,null,"①"]
[]
[]
[null,null,null,null,null,null,null,null,null,null,null,null,null,null,null,null,null,null,null,null,null,null,null,null,null,null,null,null,null,null,null,null,null,null,null,null,null,"①✕1/6又は1/12",null,null,null,null,null,"②"]
[]
[]
[null,null,null,null,null,null,null,null,null,null,null,null,null,null,null,null,null,null,null,null,null,null,null,null,null,null,null,null,null,null,null,null,null,null,null,null,null,"②＋前月の「社会保険料等\n控除後の給与等の金額」",null,null,null,null,null,"③"]
[null,"災害減免法\nによる徴収\n猶予関係",null,null,null,"申告書の受付月日",null,null,null,null,null,null,null,"徴収猶予許可月日",null,null,null,null,null,null,null,"徴収猶予期間",null,null,null,null,null,null,null,"雑損失又は繰越雑損失が\nある場合の徴収猶予限度額"]
[]
[null,null,null,null,null,null,null,null,null,null,null,null,null,null,null,null,null,null,null,null,null,null,null,null,null,null,null,null,null,null,null,null,null,null,null,null,null,"③に対する月額表に\n定める税額",null,null,null,null,null,"④"]
[]
[]
[null,null,null,null,null,null,null,null,null,"月",null,null,"日",null,null,null,null,"月",null,null,"日","自",null,null,null,"月",null,null,"日",null,null,null,null,null,null,null,null,"④−前月の「社会保険料等控除後の\n給与等の金額」に対する月額表の税額",null,null,null,null,null,"⑤"]
[]
[]
[null,null,null,null,null,null,null,null,null,null,null,null,null,null,null,null,null,null,null,null,null,"至",null,null,null,"月",null,null,"日",null,null,null,null,null,null,null,null,"算出税額\n(⑤✕6又は12)"]
[]
[]
[null,"退 職 所 得 の 税 額 計 算",null,"就 職\n年 月 日",null,null,"・　 ・",null,null,"退 職\n年 月 日",null,null,"・　 ・",null,null,"退職所得控除額の計算","勤続年数及びその\n勤続年数に応ずる\n控除の金額",null,null,null,null,null,"自",null,"年",null,"月",null,"日","(",null,"年)","㋑",null,null,null,null,null,"特定役員退職所得控除額の計算","特定役員等\n勤続年数",null,null,"自",null,"年",null,"月",null,"日","A",null,null,"平成27〜30年中の退職手当の有無等"]
[]
[]
[null,null,null,null,null,null,null,null,null,null,null,null,null,null,null,null,null,null,null,null,null,null,null,null,null,null,null,null,null,null,null,null,null,null,null,null,null,null,null,null,null,null,"至",null,"年",null,"月",null,"日","(",null,"年)"]
[null,null,null,null,null,null,null,null,null,null,null,null,null,null,null,null,null,null,null,null,null,null,"至",null,"年",null,"月",null,"日"]
[]
[null,null,null,"役員就任\n年 月 日",null,null,"・　 ・",null,null,"役員退任\n年 月 日",null,null,"・　 ・",null,null,null,null,null,null,null,null,null,null,null,null,null,null,null,null,null,null,null,null,null,null,null,null,null,null,"一般勤続期間",null,null,"自",null,"年",null,"月",null,"日"]
[]
[null,null,null,null,null,null,null,null,null,null,null,null,null,null,null,null,"上の勤続年数に通算\nされた前の退職手当\nについての勤続年数\n及びその勤続年数に\n応ずる控除の金額",null,null,null,null,null,"自",null,"年",null,"月",null,"日","(",null,"年)","㋺"]
[null,null,null,null,null,null,null,null,null,null,null,null,null,null,null,null,null,null,null,null,null,null,null,null,null,null,null,null,null,null,null,null,null,null,null,null,null,null,null,null,null,null,"至",null,"年",null,"月",null,"日"]
[]
[]
[null,null,null,"支払確定\n年 月 日",null,null,"・　 ・",null,null,"支 給\n年 月 日",null,null,"・　 ・",null,null,null,null,null,null,null,null,null,"至",null,"年",null,"月",null,"日",null,null,null,null,null,null,null,null,null,null,"重複勤続年数",null,null,"自",null,"年",null,"月",null,"日","B"]
[]
[]
[null,null,null,null,null,null,null,null,null,null,null,null,null,null,null,null,null,null,null,null,null,null,null,null,null,null,null,null,null,null,null,null,null,null,null,null,null,null,null,null,null,null,"至",null,"年",null,"月",null,"日","(",null,"年)"]
[null,null,null,null,null,null,null,null,null,null,null,null,null,null,null,null,"差引退職所得控除額\n(㋑−㋺)",null,null,null,null,null,null,null,null,null,null,null,null,null,null,null,"㋩"]
[]
[null,null,null,"退 職\n区 分",null,null,"普通・障害",null,null,"特定役員\n退職手当\n等の有無",null,null,"有・無",null,null,null,null,null,null,null,null,null,null,null,null,null,null,null,null,null,null,null,null,null,null,null,null,null,null,"特定役員退職所得控除額\n(40万円×(A−B)+20万円×B)"]
[]
[]
[]
[]
[]
[null,null,null,1,"通常の場合",null,null,null,null,null,null,"区分",null,null,"支給金額",null,null,null,"①",null,null,null,null,"退職所得控除額",null,null,null,"②",null,null,null,null,"課税退職所得金額\n((①−②)✕1/2)\n又は(①−②)",null,null,null,"③",null,null,null,null,"③に対する税額\n（申告がないときは、①✕20.42％）"]
[]
[null,null,null,null,null,null,null,null,null,null,null,"一般\n特定役員"]
[]
[]
[null,null,null,2,"追加支給\nをする場合",null,null,null,null,null,null,"区分",null,null,"追加支給の\n金 額",null,null,null,"①",null,null,null,null,"前に支給した\n退職手当",null,null,null,"②",null,null,null,null,"合 計 支 給 額\n(①＋②)",null,null,null,"④",null,null,null,null,"課税退職所得金額\n((④−⑤)✕1/2)\n又は(④−⑤)",null,null,null,"⑥",null,null,null,null,"①から徴収する\n税額 (⑦−③)"]
[]
[null,null,null,null,null,null,null,null,null,null,null,"一般\n\n特定役員"]
[null,null,null,null,null,null,null,null,null,null,null,null,null,null,null,null,null,null,null,null,null,null,null,null,null,null,null,null,null,null,null,null,null,null,null,null,null,null,null,null,null,null,null,null,null,null,null,null,null,null,"前回、今回とも\n申告がないとき\nは、①×20.42%"]
[null,null,null,null,null,null,null,null,null,null,null,null,null,null,null,null,null,null,null,null,null,null,null,"同上の徴収税額",null,null,null,"③",null,null,null,null,"同上の退職所得\n控 除 額",null,null,null,"⑤",null,null,null,null,"⑥に対する税額",null,null,null,"⑦"]
[]
[]
[]
[null,null,null,3,"本年中に他から\n受けた退職手当\nが あ る 場 合",null,null,null,null,null,null,"区分",null,null,"支給金額",null,null,null,"①",null,null,null,null,"本年中に他から\n受けた退職手当",null,null,null,"②",null,null,null,null,"合 計 支 給 額\n(①＋②)",null,null,null,"④",null,null,null,null,"課税退職所得金額\n((④−⑤)✕1/2)\n又は(④−⑤)",null,null,null,"⑥",null,null,null,null,"①から徴収する\n税額 (⑦−③)"]
[null,"受給に\n関する\n申告書\nの提出"]
[null,null,null,null,null,null,null,null,null,null,null,"一般\n\n特定役員"]
[null,null,null,null,null,null,null,null,null,null,null,null,null,null,null,null,null,null,null,null,null,null,null,null,null,null,null,null,null,null,null,null,null,null,null,null,null,null,null,null,null,null,null,null,null,null,null,null,null,null,"申告がないとき\nは、①×20.42%"]
[null,null,null,null,null,null,null,null,null,null,null,null,null,null,null,null,null,null,null,null,null,null,null,"同上の徴収税額",null,null,null,"③",null,null,null,null,"同上の退職所得\n控 除 額",null,null,null,"⑤",null,null,null,null,"⑥に対する税額",null,null,null,"⑦"]
[]
[]
[]
[null,null,null,4,"特定役員退職手当等\nと一般退職手当等の\n両方を支給する場合",null,null,null,null,null,null,null,null,null,"支給金額",null,null,null,"①",null,null,null,null,"一般退職手\n当等の金額",null,null,null,"②",null,null,null,null,"退職所得控除額",null,null,null,"④",null,null,null,null,"一般退職所得控除額\n(④−⑤)",null,null,null,"⑥",null,null,null,null,"⑦に対する税額"]
[]
[]
[null,null,null,null,null,null,null,null,null,null,null,null,null,null,null,null,null,null,null,null,null,null,null,null,null,null,null,null,null,null,null,null,null,null,null,null,null,null,null,null,null,null,null,null,null,null,null,null,null,null,"申告がないとき\nは、①×20.42%"]
[null,"有・無",null,null,null,null,null,null,null,null,null,null,null,null,null,null,null,null,null,null,null,null,null,"特定役員退職手当\n等の金額(①−②)",null,null,null,"③",null,null,null,null,"特定役員退職\n所得控除額",null,null,null,"⑤",null,null,null,null,"課税退職所得金額\n((②−⑥)×1/2+(③−⑤))",null,null,null,"⑦"]

{"sheet":"源泉徴収票","index":2,"n_rows":235,"n_cols":153,"rows_kept":235,"cut":false,"hidden":false,"merged":[[234,38,235,39],[234,40,235,41],[234,42,235,43],[234,19,235,27],[234,28,235,29],[234,30,235,31],[234,32,235,33],[234,34,235,35],[234,36,235,37],[234,2,235,8],[234,9,235,10],[234,11,235,12],[234,13,235,14],[234,15,235,16],[234,17,235,18],[232,0,233,1],[232,52,233,55],[232,56,233,74],[232,78,233,79],[232,130,233,133],[232,134,233,152],[227,5,230,13],[227,14,230,74],[227,83,230,91],[227,92,230,152],[231,5,233,13],[231,14,233,51],[231,52,231,74],[231,83,233,91],[231,92,233,129],[231,130,231,152],[224,34,226,35],[224,36,226,37],[224,38,226,39],[224,40,226,74],[224,80,233,82],[224,83,226,152],[224,22,226,23],[224,24,226,25],[224,26,226,27],[224,28,226,29],[224,30,226,31],[224,32,226,33],[222,78,231,79],[222,80,223,82],[222,45,223,47],[222,48,223,50],[222,51,223,53],[222,54,223,56],[222,141,223,143],[222,144,223,146],[222,147,223,149],[222,150,223,152],[224,2,233,4],[224,5,226,13],[224,14,226,15],[224,16,226,17],[224,18,226,19],[224,20,226,21],[222,123,223,125],[222,126,223,128],[222,129,223,131],[222,132,223,134],[222,135,223,137],[222,138,223,140],[222,103,223,106],[222,107,223,110],[222,111,223,113],[222,114,223,116],[222,117,223,119],[222,120,223,122],[222,83,223,85],[222,86,223,88],[222,89,223,91],[222,92,223,94],[222,95,223,98],[222,99,223,102],[222,63,223,65],[222,66,223,68],[222,69,223,71],[222,72,223,74],[222,57,223,59],[222,60,223,62],[222,25,223,28],[222,29,223,32],[222,33,223,35],[222,36,223,38],[222,39,223,41],[222,42,223,44],[220,0,221,1],[220,78,221,79],[222,0,231,1],[222,2,223,4],[222,5,223,7],[222,8,223,10],[222,11,223,13],[222,14,223,16],[222,17,223,20],[222,21,223,24],[219,17,221,20],[219,21,221,24],[219,25,221,28],[219,29,221,32],[219,39,221,41],[219,42,221,44],[219,135,221,137],[219,138,221,140],[219,141,221,143],[219,144,221,146],[219,147,221,149],[219,150,221,152],[219,117,221,119],[219,120,221,122],[219,123,221,125],[219,126,221,128],[219,129,221,131],[219,132,221,134],[219,57,221,59],[219,60,221,62],[219,63,221,65],[219,66,221,68],[219,69,221,71],[219,72,221,74],[217,111,221,113],[217,114,221,116],[217,117,218,131],[217,132,218,152],[217,83,221,85],[217,86,221,88],[217,89,221,91],[217,92,221,94],[217,95,218,102],[217,103,218,110],[219,95,221,98],[219,99,221,102],[219,103,221,106],[219,107,221,110],[217,25,218,32],[217,33,221,35],[217,36,221,38],[217,39,218,53],[217,54,218,74],[217,80,221,82],[219,45,221,47],[219,48,221,50],[219,51,221,53],[219,54,221,56],[214,33,216,34],[214,38,216,67],[214,83,216,112],[214,116,216,145],[217,2,221,4],[217,5,221,7],[217,8,221,10],[217,11,221,13],[217,14,221,16],[217,17,218,24],[214,21,216,22],[214,23,216,24],[214,25,216,26],[214,27,216,28],[214,29,216,30],[214,31,216,32],[214,5,216,10],[214,11,216,12],[214,13,216,14],[214,15,216,16],[214,17,216,18],[214,19,216,20],[211,38,213,43],[211,44,213,61],[211,83,213,88],[211,89,213,106],[211,116,213,121],[211,122,213,139],[209,89,210,106],[209,107,213,108],[209,109,213,112],[209,115,216,115],[209,116,210,121],[209,122,210,139],[209,38,210,43],[209,44,210,61],[209,62,213,63],[209,64,213,67],[209,82,216,82],[209,83,210,88],[201,38,202,43],[201,44,202,61],[201,62,205,63],[201,64,205,67],[201,82,208,82],[201,83,202,88],[206,33,208,34],[206,38,208,67],[206,83,208,112],[206,116,208,145],[209,4,216,4],[209,5,210,10],[209,11,210,28],[209,29,213,30],[209,31,213,34],[209,37,216,37],[206,21,208,22],[206,23,208,24],[206,25,208,26],[206,27,208,28],[206,29,208,30],[206,31,208,32],[206,5,208,10],[206,11,208,12],[206,13,208,14],[206,15,208,16],[206,17,208,18],[206,19,208,20],[209,140,213,141],[209,142,213,145],[211,5,213,10],[211,11,213,28],[201,37,208,37],[198,21,200,22],[198,23,200,24],[198,25,200,26],[198,27,200,28],[198,29,200,30],[198,31,200,32],[198,5,200,10],[198,11,200,12],[198,13,200,14],[198,15,200,16],[198,17,200,18],[198,19,200,20],[193,4,200,4],[193,109,197,112],[201,89,202,106],[201,142,205,145],[203,5,205,10],[203,11,205,28],[203,38,205,43],[203,44,205,61],[203,68,216,74],[203,83,205,88],[203,89,205,106],[203,116,205,121],[203,122,205,139],[201,107,205,108],[201,109,205,112],[201,115,208,115],[201,116,202,121],[201,122,202,139],[201,140,205,141],[195,44,197,61],[195,83,197,88],[195,89,197,106],[195,116,197,121],[195,122,197,139],[193,38,194,43],[193,44,194,61],[193,62,197,63],[193,64,197,67],[193,82,200,82],[193,83,194,88],[190,33,192,34],[190,38,192,67],[190,83,192,112],[190,116,192,145],[193,5,194,10],[193,11,194,28],[193,29,197,30],[193,31,197,34],[193,37,200,37],[190,21,192,22],[190,23,192,24],[190,25,192,26],[190,27,192,28],[190,29,192,30],[190,31,192,32],[190,5,192,10],[190,11,192,12],[198,33,200,34],[198,38,200,67],[198,83,200,112],[198,116,200,145],[185,146,216,152],[186,68,202,74],[187,5,189,10],[187,11,189,28],[187,38,189,43],[187,44,189,61],[187,83,189,88],[187,89,189,106],[187,116,189,121],[187,122,189,139],[185,113,216,114],[185,115,192,115],[185,116,186,121],[185,122,186,139],[185,140,189,141],[185,142,189,145],[193,115,200,115],[193,116,194,121],[193,122,194,139],[193,140,197,141],[185,80,216,81],[185,82,192,82],[185,83,186,88],[185,89,186,106],[185,107,189,108],[185,109,189,112],[193,89,194,106],[193,107,197,108],[193,142,197,145],[195,5,197,10],[195,11,197,28],[195,38,197,43],[185,2,216,3],[185,4,192,4],[185,5,186,10],[185,11,186,28],[185,29,189,30],[185,31,189,34],[185,35,216,36],[182,19,184,20],[182,21,184,22],[182,23,184,24],[182,25,184,26],[182,27,184,28],[182,29,184,30],[190,13,192,14],[190,15,192,16],[190,17,192,18],[190,19,192,20],[201,4,208,4],[201,5,202,10],[201,11,202,28],[201,29,205,30],[201,31,205,34],[178,54,184,60],[178,67,184,74],[178,119,184,125],[178,132,184,138],[177,48,184,53],[177,61,184,66],[177,80,184,82],[177,83,178,88],[177,89,178,106],[177,107,181,108],[185,37,192,37],[185,38,186,43],[185,44,186,61],[185,62,189,63],[185,64,189,67],[185,68,185,74],[182,31,184,32],[182,33,184,34],[182,83,184,112],[173,139,176,152],[177,2,184,4],[177,5,178,10],[177,11,178,28],[177,29,181,30],[177,31,181,34],[177,35,184,40],[172,118,176,124],[172,132,176,138],[173,12,176,18],[173,26,176,31],[173,32,176,35],[173,36,176,39],[173,47,176,53],[173,61,176,74],[173,90,176,96],[173,104,176,109],[178,145,184,152],[179,5,181,10],[179,11,181,28],[179,83,181,88],[179,89,181,106],[182,5,184,10],[182,11,184,12],[182,13,184,14],[182,15,184,16],[182,17,184,18],[177,109,181,112],[177,113,184,118],[177,126,184,131],[177,139,184,144],[178,41,184,47],[167,118,171,124],[167,132,171,138],[168,12,171,18],[168,26,171,31],[168,32,171,35],[168,36,171,39],[168,47,171,53],[168,61,171,74],[168,90,171,96],[168,104,171,109],[167,54,171,60],[167,80,176,80],[167,81,176,81],[167,82,176,82],[167,83,171,89],[167,97,171,103],[173,110,176,113],[173,114,176,117],[173,125,176,131],[167,2,176,2],[167,3,176,3],[167,4,176,4],[167,5,171,11],[167,19,171,25],[167,40,171,46],[162,97,166,103],[162,111,166,117],[162,125,166,131],[162,139,166,145],[163,12,166,18],[163,26,166,32],[163,40,166,46],[163,54,166,60],[163,68,166,74],[163,90,166,96],[162,47,166,53],[162,61,166,67],[162,80,166,80],[162,81,166,81],[162,82,166,82],[162,83,166,89],[168,110,171,113],[168,114,171,117],[168,125,171,131],[168,139,171,152],[172,5,176,11],[172,19,176,25],[172,40,176,46],[172,54,176,60],[172,83,176,89],[172,97,176,103],[158,2,159,74],[158,80,159,152],[160,2,161,74],[160,80,161,152],[162,2,166,2],[162,3,166,3],[162,4,166,4],[162,5,166,11],[162,19,166,25],[162,33,166,39],[154,2,155,5],[154,6,155,74],[154,80,155,83],[154,84,155,152],[156,2,157,74],[156,80,157,152],[148,135,149,152],[151,2,153,20],[151,21,153,38],[151,39,153,56],[151,57,153,74],[151,80,153,98],[151,99,153,116],[151,117,153,134],[151,135,153,152],[163,104,166,110],[163,118,166,124],[163,132,166,138],[163,146,166,152],[145,139,147,143],[145,144,147,148],[145,149,147,152],[148,2,149,20],[148,21,149,38],[148,39,149,56],[148,57,149,74],[148,80,149,98],[148,99,149,116],[148,117,149,134],[145,113,147,117],[145,118,147,120],[145,121,147,125],[145,126,147,128],[145,129,147,133],[145,134,147,138],[145,84,147,87],[145,88,147,91],[145,92,147,101],[145,102,147,106],[145,107,147,109],[145,110,147,112],[145,51,147,55],[145,56,147,60],[145,61,147,65],[145,66,147,70],[145,71,147,74],[145,80,147,83],[145,29,147,31],[145,32,147,34],[145,35,147,39],[145,40,147,42],[144,2,144,5],[144,6,144,9],[144,80,144,83],[144,84,144,87],[145,2,147,5],[145,6,147,9],[145,10,147,13],[145,14,147,23],[145,24,147,28],[142,10,143,13],[142,88,143,91],[143,24,143,31],[143,32,143,42],[143,43,143,50],[143,56,143,65],[143,66,143,70],[141,80,143,87],[145,43,147,47],[145,48,147,50],[141,149,143,152],[143,102,143,109],[143,110,143,120],[143,121,143,128],[143,134,143,143],[138,93,140,107],[138,108,140,122],[138,123,140,137],[138,138,140,152],[141,2,143,9],[141,14,143,23],[141,24,142,50],[141,51,143,55],[141,56,142,70],[141,71,143,74],[138,2,140,14],[138,15,140,29],[138,30,140,44],[138,45,140,59],[138,60,140,74],[138,80,140,92],[143,144,143,148],[141,92,143,101],[141,102,142,128],[141,129,143,133],[141,134,142,148],[135,93,136,107],[135,108,136,122],[135,123,136,137],[135,138,136,152],[137,2,137,14],[137,80,137,92],[135,2,136,14],[135,15,136,29],[135,30,136,44],[135,45,136,59],[135,60,136,74],[135,80,136,92],[130,53,131,74],[130,122,134,123],[130,124,131,130],[130,131,131,152],[131,8,132,43],[131,86,132,121],[132,46,134,74],[132,124,134,152],[133,8,134,43],[133,86,134,121],[124,2,134,5],[124,6,134,7],[126,61,127,62],[126,63,127,64],[127,8,128,43],[127,86,128,121],[128,44,129,50],[128,51,129,74],[128,122,129,128],[128,129,129,152],[104,116,106,117],[104,118,106,152],[107,5,110,13],[107,14,110,74],[107,83,110,91],[107,92,110,152],[129,8,130,43],[129,86,130,121],[130,44,134,45],[130,46,131,52],[126,65,127,66],[126,67,127,68],[126,69,127,70],[126,71,127,72],[126,73,127,74],[126,122,127,152],[124,84,134,85],[124,86,124,121],[124,122,125,129],[124,130,125,152],[125,8,126,43],[125,86,126,121],[126,44,127,50],[126,51,127,52],[126,53,127,54],[126,55,127,56],[124,8,124,43],[124,44,125,51],[124,52,125,74],[124,80,134,83],[126,57,127,58],[126,59,127,60],[115,5,116,39],[115,83,116,117],[122,17,123,23],[122,25,123,27],[122,29,123,35],[122,36,123,58],[122,95,123,101],[122,103,123,105],[122,107,123,113],[122,114,123,136],[112,0,113,1],[112,52,113,55],[112,56,113,74],[112,78,113,79],[112,130,113,133],[112,134,113,152],[111,5,113,13],[111,14,113,51],[111,52,111,74],[111,83,113,91],[111,92,113,129],[111,130,111,152],[104,110,106,111],[104,112,106,113],[104,114,106,115],[104,92,106,93],[104,94,106,95],[104,96,106,97],[104,98,106,99],[104,100,106,101],[104,102,106,103],[104,34,106,35],[104,36,106,37],[104,38,106,39],[104,40,106,74],[104,80,113,82],[104,83,106,91],[102,78,111,79],[102,80,103,82],[102,69,103,71],[102,72,103,74],[102,89,103,91],[102,92,103,94],[102,95,103,98],[102,99,103,102],[102,63,103,65],[102,66,103,68],[102,45,103,47],[102,48,103,50],[102,51,103,53],[102,54,103,56],[102,57,103,59],[102,60,103,62],[104,30,106,31],[104,32,106,33],[97,8,101,10],[97,11,101,13],[99,72,101,74],[102,141,103,143],[102,144,103,146],[102,147,103,149],[102,150,103,152],[104,2,113,4],[104,5,106,13],[104,14,106,15],[104,16,106,17],[104,18,106,19],[104,20,106,21],[102,123,103,125],[102,126,103,128],[102,129,103,131],[102,132,103,134],[102,135,103,137],[102,138,103,140],[102,103,103,106],[102,107,103,110],[102,111,103,113],[102,114,103,116],[102,117,103,119],[102,120,103,122],[102,83,103,85],[102,86,103,88],[104,104,106,105],[104,106,106,107],[104,108,106,109],[91,89,93,106],[91,116,93,121],[91,122,93,139],[94,31,96,32],[94,52,96,53],[100,0,101,1],[100,78,101,79],[102,0,111,1],[102,2,103,4],[102,5,103,7],[102,8,103,10],[102,11,103,13],[102,14,103,16],[102,17,103,20],[102,21,103,24],[99,17,101,20],[99,21,101,24],[99,25,101,28],[99,29,101,32],[99,39,101,41],[99,42,101,44],[97,2,101,4],[104,22,106,23],[104,24,106,25],[75,0,98,0],[75,1,98,1],[75,5,77,10],[75,11,77,28],[75,38,77,43],[75,44,77,61],[104,26,106,27],[104,28,106,29],[91,5,93,10],[91,11,93,28],[91,38,93,43],[91,44,93,61],[91,83,93,88],[102,25,103,28],[102,29,103,32],[102,33,103,35],[102,36,103,38],[102,39,103,41],[102,42,103,44],[97,80,101,82],[94,11,96,12],[94,13,96,14],[94,15,96,16],[94,17,96,18],[94,19,96,20],[89,140,93,141],[94,33,96,34],[97,5,101,7],[97,39,98,53],[97,54,98,74],[99,45,101,47],[99,48,101,50],[99,51,101,53],[86,142,88,143],[94,140,96,141],[89,89,90,106],[89,107,93,108],[89,109,93,112],[89,115,96,115],[89,116,90,121],[89,122,90,139],[94,99,96,100],[94,101,96,102],[94,103,96,104],[94,105,96,106],[89,38,90,43],[89,44,90,61],[94,126,96,127],[94,128,96,129],[97,14,101,16],[97,17,98,24],[99,135,101,137],[94,21,96,22],[94,23,96,24],[94,25,96,26],[94,27,96,28],[94,29,96,30],[94,54,96,55],[97,25,98,32],[97,33,101,35],[97,36,101,38],[94,97,96,98],[94,48,96,49],[97,132,98,152],[97,83,101,85],[97,86,101,88],[97,89,101,91],[94,95,96,96],[94,136,96,137],[94,107,96,108],[94,109,96,110],[94,111,96,112],[94,116,96,121],[94,122,96,123],[94,124,96,125],[94,56,96,57],[94,38,96,43],[94,44,96,45],[94,46,96,47],[97,111,101,113],[97,114,101,116],[97,117,98,131],[99,103,101,106],[99,107,101,110],[97,92,101,94],[97,95,98,102],[97,103,98,110],[99,95,101,98],[99,99,101,102],[86,60,88,61],[86,62,88,63],[94,142,96,143],[94,144,96,145],[99,138,101,140],[99,141,101,143],[99,144,101,146],[89,142,93,145],[99,54,101,56],[86,144,88,145],[86,146,96,152],[94,130,96,131],[94,132,96,133],[94,134,96,135],[94,60,96,61],[94,62,96,63],[94,64,96,65],[94,66,96,67],[94,58,96,59],[99,147,101,149],[99,150,101,152],[99,117,101,119],[99,120,101,122],[99,123,101,125],[99,126,101,128],[99,129,101,131],[99,132,101,134],[99,57,101,59],[99,60,101,62],[99,63,101,65],[99,66,101,68],[99,69,101,71],[89,4,96,4],[89,5,90,10],[89,11,90,28],[89,29,93,30],[89,31,93,34],[89,37,96,37],[81,82,88,82],[81,83,82,88],[81,4,88,4],[81,5,82,10],[81,11,82,28],[86,128,88,129],[86,105,88,106],[86,107,88,108],[86,109,88,110],[86,111,88,112],[86,116,88,121],[86,122,88,123],[94,5,96,10],[86,50,88,51],[86,52,88,53],[86,54,88,55],[86,56,88,57],[86,27,88,28],[86,29,88,30],[86,31,88,32],[86,33,88,34],[81,115,88,115],[81,116,82,121],[86,89,88,90],[86,91,88,92],[86,44,88,45],[83,146,85,152],[86,5,88,10],[86,11,88,12],[86,13,88,14],[86,15,88,16],[86,17,88,18],[86,19,88,20],[86,21,88,22],[86,23,88,24],[86,25,88,26],[83,5,85,10],[83,11,85,28],[83,38,85,43],[83,44,85,61],[83,68,85,74],[83,83,85,88],[81,109,85,112],[81,140,85,141],[81,142,85,145],[83,116,85,121],[83,122,85,139],[86,124,88,125],[86,126,88,127],[81,62,85,63],[86,93,88,94],[86,95,88,96],[86,97,88,98],[86,99,88,100],[81,64,85,67],[86,64,88,65],[86,130,88,131],[86,132,88,133],[86,46,88,47],[86,48,88,49],[86,38,88,43],[94,50,96,51],[81,107,85,108],[78,130,80,131],[78,132,80,133],[78,134,80,135],[78,136,80,137],[78,138,80,139],[78,140,80,141],[78,107,80,108],[78,109,80,110],[78,111,80,112],[78,116,80,121],[78,122,80,123],[78,124,80,125],[78,95,80,96],[78,97,80,98],[78,99,80,100],[78,101,80,102],[78,103,80,104],[78,105,80,106],[73,115,80,115],[81,122,82,139],[86,134,88,135],[86,136,88,137],[86,138,88,139],[94,138,96,139],[86,101,88,102],[86,103,88,104],[86,58,88,59],[70,140,72,141],[70,103,72,104],[70,105,72,106],[78,83,80,88],[70,109,72,110],[78,15,80,16],[94,93,96,94],[78,52,80,53],[78,54,80,55],[78,56,80,57],[78,58,80,59],[78,29,80,30],[78,31,80,32],[78,33,80,34],[78,38,80,43],[78,44,80,45],[78,46,80,47],[81,29,85,30],[81,31,85,34],[81,37,88,37],[81,38,82,43],[81,44,82,61],[78,64,80,65],[78,66,80,67],[78,48,80,49],[78,50,80,51],[81,89,82,106],[89,62,93,63],[89,64,93,67],[89,82,96,82],[89,83,90,88],[94,83,96,88],[78,60,80,61],[78,62,80,63],[78,27,80,28],[70,142,72,143],[70,144,72,145],[78,89,80,90],[73,4,80,4],[65,2,96,3],[73,116,74,121],[73,122,74,139],[73,140,77,141],[73,142,77,145],[75,116,77,121],[75,122,77,139],[78,126,80,127],[78,128,80,129],[73,62,77,63],[73,64,77,67],[73,82,80,82],[73,83,74,88],[73,89,74,106],[73,107,77,108],[75,83,77,88],[75,89,77,106],[78,91,80,92],[78,93,80,94],[78,142,80,143],[78,144,80,145],[70,132,72,133],[70,134,72,135],[70,136,72,137],[70,138,72,139],[73,109,77,112]],"merged_total":1449,"flags":["merged_cut"]}
[]
[null,null,"※",null,null,null,null,null,null,null,null,null,null,null,null,null,null,null,null,null,null,null,null,null,null,null,null,null,null,null,null,null,null,null,null,null,"※","種　別",null,null,null,null,null,null,null,null,null,"※","整 理 番 号",null,null,null,null,null,null,null,null,null,null,null,null,null,"※",null,null,null,null,null,null,null,null,null,null,null,null,null,null,null,null,null,"※",{"$f":"IF(D2=\"\",\"\",D2)","v":""},null,null,null,null,null,null,null,null,null,null,null,null,null,null,null,null,null,null,null,null,null,null,null,null,null,null,null,null,null,null,null,null,"※","種　別",null,null,null,null,null,null,null,null,null,"※","整 理 番 号",null,null,null,null,null,null,null,null,null,null,null,null,null,"※",{"$f":"IF(BL2=\"\",\"\",BL2)","v":""}]
[null,null,null,null,null,null,null,null,null,null,null,null,null,null,null,null,null,null,null,null,null,null,null,null,null,null,null,null,null,null,null,null,null,null,null,null,null,null,null,null,null,null,null,null,null,null,null,null,null,null,null,null,null,null,null,null,null,null,null,null,null,null,null,null,null,null,null,null,null,null,null,null,null,null,null,null,null,null,null,null,{"$f":"IF(C3=\"\",\"\",C3)","v":""},null,{"$f":"IF(E3=\"\",\"\",E3)","v":""},null,{"$f":"IF(G3=\"\",\"\",G3)","v":""},null,{"$f":"IF(I3=\"\",\"\",I3)","v":""},null,{"$f":"IF(K3=\"\",\"\",K3)","v":""},null,{"$f":"IF(M3=\"\",\"\",M3)","v":""},null,{"$f":"IF(O3=\"\",\"\",O3)","v":""},null,{"$f":"IF(Q3=\"\",\"\",Q3)","v":""},null,{"$f":"IF(S3=\"\",\"\",S3)","v":""},null,{"$f":"IF(U3=\"\",\"\",U3)","v":""},null,{"$f":"IF(W3=\"\",\"\",W3)","v":""},null,{"$f":"IF(Y3=\"\",\"\",Y3)","v":""},null,{"$f":"IF(AA3=\"\",\"\",AA3)","v":""},null,{"$f":"IF(AC3=\"\",\"\",AC3)","v":""},null,{"$f":"IF(AE3=\"\",\"\",AE3)","v":""},null,{"$f":"IF(AG3=\"\",\"\",AG3)","v":""},null,{"$f":"IF(AI3=\"\",\"\",AI3)","v":""},null,{"$f":"IF(AK3=\"\",\"\",AK3)","v":""},null,null,null,null,null,null,null,null,null,null,{"$f":"IF(AV3=\"\",\"\",AV3)","v":""},null,null,null,null,null,null,null,null,null,null,null,null,null,null,{"$f":"IF(BK3=\"\",\"\",BK3)","v":""}]
[]
["給与支払報告書",null,"支 払\n\nを受け\n\nる 者",null,null,null,"※区分",null,null,null,null,null,null,null,null,null,null,null,null,null,null,null,null,null,null,null,null,null,null,null,null,null,null,null,null,null,null,null,null,null,null,null,null,null,"（受給者番号）",null,null,null,null,null,null,null,null,null,null,null,null,null,null,null,null,null,null,null,null,null,null,null,null,null,null,null,null,null,null,null,null,null,"給与支払報告書",null,"支 払\n\nを受け\n\nる 者",null,null,null,"※区分",null,null,null,null,{"$f":"IF(L5=\"\",\"\",L5)","v":""},null,null,null,null,null,null,null,null,null,null,null,null,null,null,null,null,null,null,null,null,null,null,null,null,null,null,null,null,null,null,null,null,"（受給者番号）",null,null,null,null,null,null,null,{"$f":"IF(BA5=\"\",\"\",BA5)","v":""}]
[]
[null,null,null,null,null,null,"住所",null,null,null,null,null,null,null,null,null,null,null,null,null,null,null,null,null,null,null,null,null,null,null,null,null,null,null,null,null,null,null,null,null,null,null,null,null,"（個人番号）",null,null,null,null,null,null,null,null,null,null,null,null,null,null,null,null,null,null,null,null,null,null,null,null,null,null,null,null,null,null,null,null,null,null,null,null,null,null,null,"住所",null,null,null,null,null,null,null,null,null,null,null,null,null,null,null,null,null,null,null,null,null,null,null,null,null,null,null,null,null,null,null,null,null,null,null,null,null,"（個人番号）",null,null,null,null,null,null,{"$f":"IF(AZ7=\"\",\"\",AZ7)","v":""},null,{"$f":"IF(BB7=\"\",\"\",BB7)","v":""},null,{"$f":"IF(BD7=\"\",\"\",BD7)","v":""},null,{"$f":"IF(BF7=\"\",\"\",BF7)","v":""},null,{"$f":"IF(BH7=\"\",\"\",BH7)","v":""},null,{"$f":"IF(BJ7=\"\",\"\",BJ7)","v":""},null,{"$f":"IF(BL7=\"\",\"\",BL7)","v":""},null,{"$f":"IF(BN7=\"\",\"\",BN7)","v":""},null,{"$f":"IF(BP7=\"\",\"\",BP7)","v":""},null,{"$f":"IF(BR7=\"\",\"\",BR7)","v":""},null,{"$f":"IF(BT7=\"\",\"\",BT7)","v":""},null,{"$f":"IF(BV7=\"\",\"\",BV7)","v":""}]
[null,null,null,null,null,null,null,null,{"$f":"IF(所得税源泉徴収簿!V1=\"\",\"\",\"〒\" & 所得税源泉徴収簿!V1 & \"-\" & 所得税源泉徴収簿!Y1)","v":""},null,null,null,null,null,null,null,null,null,null,null,null,null,null,null,null,null,null,null,null,null,null,null,null,null,null,null,null,null,null,null,null,null,null,null,null,null,null,null,null,null,null,null,null,null,null,null,null,null,null,null,null,null,null,null,null,null,null,null,null,null,null,null,null,null,null,null,null,null,null,null,null,null,null,null,null,null,{"$f":"IF(I8=\"\",\"\",I8)","v":""}]
[null,null,null,null,null,null,null,null,null,null,null,null,null,null,null,null,null,null,null,null,null,null,null,null,null,null,null,null,null,null,null,null,null,null,null,null,null,null,null,null,null,null,null,null,"（役職名）",null,null,null,null,null,null,{"$f":"CONCATENATE(IF(所得税源泉徴収簿!L1=\"\",\"\",所得税源泉徴収簿!L1),IF(所得税源泉徴収簿!L4=\"\",\"\",所得税源泉徴収簿!L4))","v":""},null,null,null,null,null,null,null,null,null,null,null,null,null,null,null,null,null,null,null,null,null,null,null,null,null,null,null,null,null,null,null,null,null,null,null,null,null,null,null,null,null,null,null,null,null,null,null,null,null,null,null,null,null,null,null,null,null,null,null,null,null,null,null,null,null,null,null,null,null,null,"（役職名）",null,null,null,null,null,null,{"$f":"IF(AZ9=\"\",\"\",AZ9)","v":""}]
[null,null,null,null,null,null,null,null,{"$f":"IF(所得税源泉徴収簿!S3=\"\",\"\",所得税源泉徴収簿!S3)","v":""},null,null,null,null,null,null,null,null,null,null,null,null,null,null,null,null,null,null,null,null,null,null,null,null,null,null,null,null,null,null,null,null,null,null,null,null,null,null,null,null,null,null,null,null,null,null,null,null,null,null,null,null,null,null,null,null,null,null,null,null,null,null,null,null,null,null,null,null,null,null,null,null,null,null,null,null,null,{"$f":"IF(I10=\"\",\"\",I10)","v":""}]
[null,null,null,null,null,null,null,null,null,null,null,null,null,null,null,null,null,null,null,null,null,null,null,null,null,null,null,null,null,null,null,null,null,null,null,null,null,null,null,null,null,null,null,null,"氏名",null,"（フリガナ）",null,null,null,null,null,null,{"$f":"IF(所得税源泉徴収簿!AU1=\"\",\"\",所得税源泉徴収簿!AU1)","v":""},null,null,null,null,null,null,null,null,null,null,null,null,null,null,null,null,null,null,null,null,null,null,null,null,null,null,null,null,null,null,null,null,null,null,null,null,null,null,null,null,null,null,null,null,null,null,null,null,null,null,null,null,null,null,null,null,null,null,null,null,null,null,null,null,null,null,null,null,"氏名",null,"（フリガナ）",null,null,null,null,null,null,{"$f":"IF(BB11=\"\",\"\",BB11)","v":""}]
[null,null,null,null,null,null,null,null,{"$f":"IF(所得税源泉徴収簿!S5=\"\",\"\",所得税源泉徴収簿!S5)","v":""},null,null,null,null,null,null,null,null,null,null,null,null,null,null,null,null,null,null,null,null,null,null,null,null,null,null,null,null,null,null,null,null,null,null,null,null,null,null,null,null,null,null,null,null,null,null,null,null,null,null,null,null,null,null,null,null,null,null,null,null,null,null,null,null,null,null,null,null,null,null,null,null,null,null,null,null,null,{"$f":"IF(I12=\"\",\"\",I12)","v":""}]
[null,null,null,null,null,null,null,null,null,null,null,null,null,null,null,null,null,null,null,null,null,null,null,null,null,null,null,null,null,null,null,null,null,null,null,null,null,null,null,null,null,null,null,null,null,null,{"$f":"IF(所得税源泉徴収簿!AR3=\"\",\"\",所得税源泉徴収簿!AR3)","v":""},null,null,null,null,null,null,null,null,null,null,null,null,null,null,null,null,null,null,null,null,null,null,null,null,null,null,null,null,null,null,null,null,null,null,null,null,null,null,null,null,null,null,null,null,null,null,null,null,null,null,null,null,null,null,null,null,null,null,null,null,null,null,null,null,null,null,null,null,null,null,null,null,null,null,null,null,null,{"$f":"IF(AU13=\"\",\"\",AU13)","v":""}]
[null,null,null,null,null,null,null,null,null,null,null,null,null,null,null,null,null,null,null,null,null,null,null,null,null,null,null,null,null,null,null,null,null,null,null,null,null,null,null,null,null,null,null,null,null,null,null,null,null,null,null,null,null,null,null,null,null,null,null,null,null,null,null,null,null,null,null,null,null,null,null,null,null,null,null,null,null,null,null,null,null,null,null,null,null,null,{"$f":"IF(I14=\"\",\"\",I14)","v":""}]
[]
[null,null,"種  別",null,null,null,null,null,null,null,null,null,null,null,null,"支 払 金 額",null,null,null,null,null,null,null,null,null,null,null,null,null,null,"給与所得控除後の金額",null,null,null,null,null,null,null,null,null,null,null,null,null,null,"所得控除の額の合計額",null,null,null,null,null,null,null,null,null,null,null,null,null,null,"源泉徴収税額",null,null,null,null,null,null,null,null,null,null,null,null,null,null,null,null,null,null,null,"種  別",null,null,null,null,null,null,null,null,null,null,null,null,"支 払 金 額",null,null,null,null,null,null,null,null,null,null,null,null,null,null,"給与所得控除後の金額",null,null,null,null,null,null,null,null,null,null,null,null,null,null,"所得控除の額の合計額",null,null,null,null,null,null,null,null,null,null,null,null,null,null,"源泉徴収税額"]
[]
["(",null,null,null,null,null,null,null,null,null,null,null,null,null,null,"内",null,null,null,null,null,null,null,null,null,null,null,null,null,"円",null,null,null,null,null,null,null,null,null,null,null,null,null,null,"円",null,null,null,null,null,null,null,null,null,null,null,null,null,null,"円","内",null,null,null,null,null,null,null,null,null,null,null,null,null,"円",null,null,null,"(",null,null,null,null,null,null,null,null,null,null,null,null,null,null,"内",null,null,null,null,null,null,null,null,null,null,null,null,null,"円",null,null,null,null,null,null,null,null,null,null,null,null,null,null,"円",null,null,null,null,null,null,null,null,null,null,null,null,null,null,"円","内",null,null,null,null,null,null,null,null,null,null,null,null,null,"円"]
[null,null,"給与・賞与",null,null,null,null,null,null,null,null,null,null,null,null,{"$f":"所得税源泉徴収簿!AT43","v":0},null,null,null,null,null,null,null,null,null,null,null,null,null,null,{"$f":"所得税源泉徴収簿!AT46","v":0},null,null,null,null,null,null,null,null,null,null,null,null,null,null,{"$f":"所得税源泉徴収簿!AT70","v":0},null,null,null,null,null,null,null,null,null,null,null,null,null,null,{"$f":"所得税源泉徴収簿!BB84","v":0},null,null,null,null,null,null,null,null,null,null,null,null,null,null,null,null,null,null,null,"給料・賞与",null,null,null,null,null,null,null,null,null,null,null,null,{"$f":"IF(P19=\"\",\"\",P19)","v":0},null,null,null,null,null,null,null,null,null,null,null,null,null,null,{"$f":"IF(AE19=\"\",\"\",AE19)","v":0},null,null,null,null,null,null,null,null,null,null,null,null,null,null,{"$f":"IF(AT19=\"\",\"\",AT19)","v":0},null,null,null,null,null,null,null,null,null,null,null,null,null,null,{"$f":"IF(BI19=\"\",\"\",BI19)","v":0}]
["個人別明細書",null,null,null,null,null,null,null,null,null,null,null,null,null,null,null,null,null,null,null,null,null,null,null,null,null,null,null,null,null,null,null,null,null,null,null,null,null,null,null,null,null,null,null,null,null,null,null,null,null,null,null,null,null,null,null,null,null,null,null,null,null,null,null,null,null,null,null,null,null,null,null,null,null,null,null,null,null,"個人別明細書"]
[]
[null,null,"控 除 対 象\n配 偶 者",null,null,null,null,null,null,null,null,null,null,null,"配偶者特別\n控除の額",null,null,null,null,null,null,null,null,null,"控 除 対 象 扶 養 親 族 の 数\n( 配 偶 者 を 除 く 。 )",null,null,null,null,null,null,null,null,null,null,null,null,null,null,null,null,null,null,null,null,null,null,null,null,null,null,"16歳未満\n扶養親族\nの数",null,null,null,null,"障 害 者 の 数\n( 本 人 を 除 く 。 )",null,null,null,null,null,null,null,null,null,null,null,null,null,null,"非居住者\nである\n親族の数",null,null,null,null,null,null,null,null,"控 除 対 象\n配 偶 者",null,null,null,null,null,null,null,null,null,null,null,"配偶者特別\n控除の額",null,null,null,null,null,null,null,null,null,"控 除 対 象 扶 養 親 族 の 数\n( 配 偶 者 を 除 く 。 )",null,null,null,null,null,null,null,null,null,null,null,null,null,null,null,null,null,null,null,null,null,null,null,null,null,null,"16歳未満\n扶養親族\nの数",null,null,null,null,"障 害 者 の 数\n( 本 人 を 除 く 。 )",null,null,null,null,null,null,null,null,null,null,null,null,null,null,"非居住者\nである\n親族の数"]
[null,null,null,null,null,null,null,null,null,null,"老人",null,null,null,null,null,null,null,null,null,null,null,null,null,null,null,null,null,null,null,null,null,null,null,null,null,null,null,null,null,null,null,null,null,null,null,null,null,null,null,null,null,null,null,null,null,null,null,null,null,null,null,null,null,null,null,null,null,null,null,null,null,null,null,null,null,null,null,null,null,null,null,null,null,null,null,null,null,"老人"]
[null,null,null,null,null,null,null,null,null,null,null,null,null,null,null,null,null,null,null,null,null,null,null,null,"特  定",null,null,null,null,null,null,null,"老   人",null,null,null,null,null,null,null,null,null,null,"そ の 他",null,null,null,null,null,null,null,null,null,null,null,null,"特  別",null,null,null,null,null,null,null,null,null,"その他",null,null,null,null,null,null,null,null,null,null,null,null,null,null,null,null,null,null,null,null,null,null,null,null,null,null,null,null,null,null,null,null,null,null,null,"特  定",null,null,null,null,null,null,null,"老   人",null,null,null,null,null,null,null,null,null,null,"そ の 他",null,null,null,null,null,null,null,null,null,null,null,null,"特  別",null,null,null,null,null,null,null,null,null,"その他"]
[null,null,"有",null,null,null,"従有",null,null,null,null,null,null,null,null,null,null,null,null,null,null,null,null,"円",null,null,null,null,"人",null,"従","人",null,null,"内",null,null,null,null,"人",null,"従","人",null,null,null,null,"人",null,"従","人",null,null,null,null,"人",null,null,null,null,"内",null,null,null,null,"人",null,null,null,null,"人",null,null,null,"人",null,null,null,null,null,"有",null,null,null,"従有",null,null,null,null,null,null,null,null,null,null,null,null,null,null,null,null,"円",null,null,null,null,"人",null,"従","人",null,null,"内",null,null,null,null,"人",null,"従","人",null,null,null,null,"人",null,"従","人",null,null,null,null,"人",null,null,null,null,"内",null,null,null,null,"人",null,null,null,null,"人",null,null,null,"人"]
[null,null,null,null,null,null,{"$f":"IF(所得税源泉徴収簿!BI26=\"無\",\"＊\",\"\")","v":""},null,null,null,null,null,null,null,{"$f":"所得税源泉徴収簿!AT64","v":0},null,null,null,null,null,null,null,null,null,null,null,null,null,null,null,null,null,null,null,null,null,null,null,null,null,null,null,null,null,null,null,null,null,null,null,null,null,null,null,null,null,null,null,null,null,null,null,null,null,null,null,null,null,null,null,null,null,null,null,null,null,null,null,null,null,{"$f":"IF(C26=\"\",\"\",C26)","v":""},null,null,null,{"$f":"IF(G26=\"\",\"\",G26)","v":""},null,null,null,{"$f":"IF(K26=\"\",\"\",K26)","v":""},null,null,null,{"$f":"IF(O26=\"\",\"\",O26)","v":0},null,null,null,null,null,null,null,null,null,{"$f":"IF(Y26=\"\",\"\",Y26)","v":""},null,null,null,null,{"$f":"IF(AD26=\"\",\"\",AD26)","v":""},null,null,{"$f":"IF(AG26=\"\",\"\",AG26)","v":""},null,null,{"$f":"IF(AJ26=\"\",\"\",AJ26)","v":""},null,null,null,null,{"$f":"IF(AO26=\"\",\"\",AO26)","v":""},null,null,{"$f":"IF(AR26=\"\",\"\",AR26)","v":""},null,null,null,null,{"$f":"IF(AW26=\"\",\"\",AW26)","v":""},null,null,{"$f":"IF(AZ26=\"\",\"\",AZ26)","v":""},null,null,null,null,{"$f":"IF(BE26=\"\",\"\",BE26)","v":""},null,null,null,null,{"$f":"IF(BJ26=\"\",\"\",BJ26)","v":""},null,null,null,null,{"$f":"IF(BO26=\"\",\"\",BO26)","v":""},null,null,null,null,{"$f":"IF(BT26=\"\",\"\",BT26)","v":""}]
[]
[]
[null,null,"社会保険料等の金額",null,null,null,null,null,null,null,null,null,null,null,null,null,null,null,null,null,null,"生命保険料の控除額",null,null,null,null,null,null,null,null,null,null,null,null,null,null,null,null,null,"地震保険料の控除額",null,null,null,null,null,null,null,null,null,null,null,null,null,null,null,null,null,"住宅借入金等特別控除の額",null,null,null,null,null,null,null,null,null,null,null,null,null,null,null,null,null,null,null,null,null,null,"社会保険料等の金額",null,null,null,null,null,null,null,null,null,null,null,null,null,null,null,null,null,null,"生命保険料の控除額",null,null,null,null,null,null,null,null,null,null,null,null,null,null,null,null,null,"地震保険料の控除額",null,null,null,null,null,null,null,null,null,null,null,null,null,null,null,null,null,"住宅借入金等特別控除の額"]
["(",null,null,null,null,null,null,null,null,null,null,null,null,null,null,null,null,null,null,null,null,null,null,null,null,null,null,null,null,null,null,null,null,null,null,null,null,null,null,null,null,null,null,null,null,null,null,null,null,null,null,null,null,null,null,null,null,null,null,null,null,null,null,null,null,null,null,null,null,null,null,null,null,null,null,null,null,null,"("]
[null,null,"内",null,null,null,null,null,null,null,null,null,null,null,null,null,null,null,null,null,"円",null,null,null,null,null,null,null,null,null,null,null,null,null,null,null,null,null,"円",null,null,null,null,null,null,null,null,null,null,null,null,null,null,null,null,null,"円",null,null,null,null,null,null,null,null,null,null,null,null,null,null,null,null,null,"円",null,null,null,null,null,"内",null,null,null,null,null,null,null,null,null,null,null,null,null,null,null,null,null,"円",null,null,null,null,null,null,null,null,null,null,null,null,null,null,null,null,null,"円",null,null,null,null,null,null,null,null,null,null,null,null,null,null,null,null,null,"円",null,null,null,null,null,null,null,null,null,null,null,null,null,null,null,null,null,"円"]
[null,null,{"$f":"所得税源泉徴収簿!AT49+所得税源泉徴収簿!AT52+所得税源泉徴収簿!AT55","v":0},null,null,null,null,null,null,null,null,null,null,null,null,null,null,null,null,null,null,{"$f":"所得税源泉徴収簿!AT58","v":0},null,null,null,null,null,null,null,null,null,null,null,null,null,null,null,null,null,{"$f":"所得税源泉徴収簿!AT61","v":0},null,null,null,null,null,null,null,null,null,null,null,null,null,null,null,null,null,{"$f":"所得税源泉徴収簿!BB77","v":0},null,null,null,null,null,null,null,null,null,null,null,null,null,null,null,null,null,null,null,null,null,null,{"$f":"IF(C32=\"\",\"\",C32)","v":0},null,null,null,null,null,null,null,null,null,null,null,null,null,null,null,null,null,null,{"$f":"IF(V32=\"\",\"\",V32)","v":0},null,null,null,null,null,null,null,null,null,null,null,null,null,null,null,null,null,{"$f":"IF(AN32=\"\",\"\",AN32)","v":0},null,null,null,null,null,null,null,null,null,null,null,null,null,null,null,null,null,{"$f":"IF(BF32=\"\",\"\",BF32)","v":0}]
[]
[]
[null,null,"(摘要)",null,null,null,null,null,null,null,null,null,null,null,null,null,null,null,null,null,null,null,null,null,null,null,null,null,null,null,null,null,null,null,null,null,null,null,null,null,null,null,null,null,null,null,null,null,null,null,null,null,null,null,null,null,null,null,null,null,null,null,null,null,null,null,null,null,null,null,null,null,null,null,null,null,null,null,null,null,"(摘要)",null,null,null,{"$f":"IF(G35=\"\",\"\",G35)","v":""}]
[]
[null,null,null,null,null,null,null,null,null,null,null,null,null,null,null,null,null,null,null,null,null,null,null,null,null,null,null,null,null,null,null,null,null,null,null,null,null,null,null,null,null,null,null,null,null,null,null,null,null,null,null,null,null,null,null,null,null,null,null,null,null,null,null,null,null,null,null,null,null,null,null,null,null,null,null,null,null,null,null,null,{"$f":"IF(C37=\"\",\"\",C37)","v":""}]
[]
[null,null,null,null,null,null,null,null,null,null,null,null,null,null,null,null,null,null,null,null,null,null,null,null,null,null,null,null,null,null,null,null,null,null,null,null,null,null,null,null,null,null,null,null,null,null,null,null,null,null,null,null,null,null,null,null,null,null,null,null,null,null,null,null,null,null,null,null,null,null,null,null,null,null,null,null,null,null,null,null,{"$f":"IF(C39=\"\",\"\",C39)","v":""}]
[]
[null,null,null,null,null,null,null,null,null,null,null,null,null,null,null,null,null,null,null,null,null,null,null,null,null,null,null,null,null,null,null,null,null,null,null,null,null,null,null,null,null,null,null,null,null,null,null,null,null,null,null,null,null,null,null,null,null,null,null,null,null,null,null,null,null,null,null,null,null,null,null,null,null,null,null,null,null,null,null,null,{"$f":"IF(C41=\"\",\"\",C41)","v":""}]
[]
[null,null,"額の内訳","料の控除","生命保険","新生命保険\n料の金額",null,null,null,null,null,null,null,null,null,null,null,null,"円","旧生命保険\n料の金額",null,null,null,null,null,null,null,null,null,null,null,null,"円","介護医療保\n険料の金額",null,null,null,null,null,null,null,null,null,null,null,null,"円","新個人年金\n保険料の金額",null,null,null,null,null,null,null,null,null,null,null,null,"円","旧個人年金\n保険料の金額",null,null,null,null,null,null,null,null,null,null,null,null,"円",null,null,null,null,null,"額の内訳","料の控除","生命保険","新生命保険\n料の金額",null,null,null,null,null,null,null,null,null,null,null,null,"円","旧生命保険\n料の金額",null,null,null,null,null,null,null,null,null,null,null,null,"円","介護医療保\n険料の金額",null,null,null,null,null,null,null,null,null,null,null,null,"円","新個人年金\n保険料の金額",null,null,null,null,null,null,null,null,null,null,null,null,"円","旧個人年金\n保険料の金額",null,null,null,null,null,null,null,null,null,null,null,null,"円"]
[null,null,null,null,null,null,null,null,null,null,null,null,null,null,null,null,null,null,null,null,null,null,null,null,null,null,null,null,null,null,null,null,null,null,null,null,null,null,null,null,null,null,null,null,null,null,null,null,null,null,null,null,null,null,null,null,null,null,null,null,null,null,null,null,null,null,null,null,null,null,null,null,null,null,null,null,null,null,null,null,null,null,null,null,null,null,null,null,null,null,{"$f":"IF(M44=\"\",\"\",M44)","v":""},null,null,null,null,null,null,null,null,null,null,null,null,null,{"$f":"IF(AA44=\"\",\"\",AA44)","v":""},null,null,null,null,null,null,null,null,null,null,null,null,null,{"$f":"IF(AO44=\"\",\"\",AO44)","v":""},null,null,null,null,null,null,null,null,null,null,null,null,null,{"$f":"IF(BC44=\"\",\"\",BC44)","v":""},null,null,null,null,null,null,null,null,null,null,null,null,null,{"$f":"IF(BQ44=\"\",\"\",BQ44)","v":""}]
[]
[]
[]
[null,null,"の額の内訳","等特別控除","住宅借入金","住宅借入金\n等特別控除\n適用数",null,null,null,null,null,null,null,null,null,null,null,null,null,"居住開始年\n月日(1回目)",null,null,null,null,null,null,null,null,null,null,null,"年",null,null,null,"月",null,null,null,"日","住宅借入金等\n特別控除区分\n(1回目)",null,null,null,null,null,null,null,null,null,null,null,null,null,"住宅借入金等\n年末残高(1回目)",null,null,null,null,null,null,null,null,null,null,null,null,null,null,null,null,null,null,null,"円",null,null,null,null,null,"の額の内訳","等特別控除","住宅借入金","住宅借入金\n等特別控除\n適用数",null,null,null,null,null,null,null,null,null,null,null,null,null,"居住開始年\n月日(1回目)",null,null,null,null,null,null,null,null,null,null,null,"年",null,null,null,"月",null,null,null,"日","住宅借入金等\n特別控除区分\n(1回目)",null,null,null,null,null,null,null,null,null,null,null,null,null,"住宅借入金等\n年末残高(1回目)",null,null,null,null,null,null,null,null,null,null,null,null,null,null,null,null,null,null,null,"円"]
[null,null,null,null,null,null,null,null,null,null,null,null,null,null,null,null,null,null,null,null,null,null,null,null,null,null,null,null,null,null,null,null,null,null,null,null,null,null,null,null,null,null,null,null,null,null,null,null,null,null,null,null,null,null,null,null,null,null,null,null,null,null,null,null,null,null,null,null,null,null,null,null,null,null,null,null,null,null,null,null,null,null,null,null,null,null,null,null,null,null,{"$f":"IF(M49=\"\",\"\",M49)","v":""},null,null,null,null,null,null,null,null,null,null,null,null,null,{"$f":"IF(AA49=\"\",\"\",AA49)","v":""},null,null,null,null,null,{"$f":"IF(AG49=\"\",\"\",AG49)","v":""},null,null,null,{"$f":"IF(AK49=\"\",\"\",AK49)","v":""},null,null,null,null,null,null,null,null,null,null,{"$f":"IF(AV49=\"\",\"\",AV49)","v":""},null,null,null,null,null,null,null,null,null,null,null,null,null,{"$f":"IF(BJ49=\"\",\"\",BJ49)","v":""}]
[]
[]
[]
[null,null,null,null,null,"住宅借入金\n等特別控除\n可能額",null,null,null,null,null,null,null,null,null,null,null,null,"円","居住開始年\n月日(2回目)",null,null,null,null,null,null,null,null,null,null,null,"年",null,null,null,"月",null,null,null,"日","住宅借入金等\n特別控除区分\n(2回目)",null,null,null,null,null,null,null,null,null,null,null,null,null,"住宅借入金等\n年末残高(2回目)",null,null,null,null,null,null,null,null,null,null,null,null,null,null,null,null,null,null,null,"円",null,null,null,null,null,null,null,null,"住宅借入金\n等特別控除\n可能額",null,null,null,null,null,null,null,null,null,null,null,null,"円","居住開始年\n月日(2回目)",null,null,null,null,null,null,null,null,null,null,null,"年",null,null,null,"月",null,null,null,"日","住宅借入金等\n特別控除区分\n(2回目)",null,null,null,null,null,null,null,null,null,null,null,null,null,"住宅借入金等\n年末残高(2回目)",null,null,null,null,null,null,null,null,null,null,null,null,null,null,null,null,null,null,null,"円"]
[null,null,null,null,null,null,null,null,null,null,null,null,null,null,null,null,null,null,null,null,null,null,null,null,null,null,null,null,null,null,null,null,null,null,null,null,null,null,null,null,null,null,null,null,null,null,null,null,null,null,null,null,null,null,null,null,null,null,null,null,null,null,null,null,null,null,null,null,null,null,null,null,null,null,null,null,null,null,null,null,null,null,null,null,null,null,null,null,null,null,{"$f":"IF(M54=\"\",\"\",M54)","v":""},null,null,null,null,null,null,null,null,null,null,null,null,null,{"$f":"IF(AA54=\"\",\"\",AA54)","v":""},null,null,null,null,null,{"$f":"IF(AG54=\"\",\"\",AG54)","v":""},null,null,null,{"$f":"IF(AK54=\"\",\"\",AK54)","v":""},null,null,null,null,null,null,null,null,null,null,{"$f":"IF(AV54=\"\",\"\",AV54)","v":""},null,null,null,null,null,null,null,null,null,null,null,null,null,{"$f":"IF(BJ54=\"\",\"\",BJ54)","v":""}]
[]
[]
[]
[null,null,"控除対象配偶者",null,null,"(フリガナ)",null,null,null,null,null,null,null,null,null,null,null,null,null,null,null,null,null,null,null,null,null,null,null,"区分",null,null,null,null,null,"配偶者の\n合計所得",null,null,null,null,null,null,null,null,null,null,null,"円","国民年金\n保険料等\nの金額",null,null,null,null,null,null,null,null,null,null,null,"円","旧長期\n損害保険\n料の金額",null,null,null,null,null,null,null,null,null,null,null,null,"円",null,null,null,null,null,"控除対象配偶者",null,null,"(フリガナ)",null,null,null,null,null,{"$f":"IF(L58=\"\",\"\",L58)","v":""},null,null,null,null,null,null,null,null,null,null,null,null,null,null,null,null,null,"区分",null,{"$f":"IF(AF58=\"\",\"\",AF58)","v":""},null,null,null,"配偶者の\n合計所得",null,null,null,null,null,null,null,null,null,null,null,"円","国民年金\n保険料等\nの金額",null,null,null,null,null,null,null,null,null,null,null,"円","旧長期\n損害保険\n料の金額",null,null,null,null,null,null,null,null,null,null,null,null,"円"]
[null,null,null,null,null,null,null,null,null,null,null,null,null,null,null,null,null,null,null,null,null,null,null,null,null,null,null,null,null,null,null,null,null,null,null,null,null,null,null,null,null,{"$f":"所得税源泉徴収簿!BB48","v":0},null,null,null,null,null,null,null,null,null,null,null,null,null,null,null,null,null,null,null,null,null,null,null,null,null,{"$f":"所得税源泉徴収簿!BB52","v":0},null,null,null,null,null,null,null,null,null,null,null,null,null,null,null,null,null,null,null,null,null,null,null,null,null,null,null,null,null,null,null,null,null,null,null,null,null,null,null,null,null,null,null,null,null,null,null,null,null,null,null,{"$f":"IF(AP59=\"\",\"\",AP59)","v":0},null,null,null,null,null,null,null,null,null,null,null,null,{"$f":"IF(BC59=\"\",\"\",BC59)","v":""},null,null,null,null,null,null,null,null,null,null,null,null,{"$f":"IF(BP59=\"\",\"\",BP59)","v":0}]
[null,null,null,null,null,"氏名",null,null,null,null,null,null,null,null,null,null,null,null,null,null,null,null,null,null,null,null,null,null,null,null,null,null,null,null,null,null,null,null,null,null,null,null,null,null,null,null,null,null,null,null,null,null,null,null,null,null,null,null,null,null,null,null,null,null,null,null,null,null,null,null,null,null,null,null,null,null,null,null,null,null,null,null,null,"氏名",null,null,null,null,null,{"$f":"IF(L60=\"\",\"\",L60)","v":""}]
[]
[]
[null,null,null,null,null,"個人番号",null,null,null,null,null,null,null,null,null,null,null,null,null,null,null,null,null,null,null,null,null,null,null,null,null,null,null,null,null,null,null,null,null,null,null,null,null,null,null,null,null,null,null,null,null,null,null,null,null,null,null,null,null,null,null,null,null,null,null,null,null,null,null,null,null,null,null,null,null,null,null,null,null,null,null,null,null,"個人番号",null,null,null,null,null,{"$f":"IF(L63=\"\",\"\",L63)","v":""},null,{"$f":"IF(N63=\"\",\"\",N63)","v":""},null,{"$f":"IF(P63=\"\",\"\",P63)","v":""},null,{"$f":"IF(R63=\"\",\"\",R63)","v":""},null,{"$f":"IF(T63=\"\",\"\",T63)","v":""},null,{"$f":"IF(V63=\"\",\"\",V63)","v":""},null,{"$f":"IF(X63=\"\",\"\",X63)","v":""},null,{"$f":"IF(Z63=\"\",\"\",Z63)","v":""},null,{"$f":"IF(AB63=\"\",\"\",AB63)","v":""},null,{"$f":"IF(AD63=\"\",\"\",AD63)","v":""},null,{"$f":"IF(AF63=\"\",\"\",AF63)","v":""},null,{"$f":"IF(AH63=\"\",\"\",AH63)","v":""}]
[]
[]
[null,null,"控除対象扶養親族",null,1,"(フリガナ)",null,null,null,null,null,null,null,null,null,null,null,null,null,null,null,null,null,null,null,null,null,null,null,"区分",null,null,null,null,null,"16歳未満の扶養親族",null,1,"(フリガナ)",null,null,null,null,null,null,null,null,null,null,null,null,null,null,null,null,null,null,null,null,null,null,null,"区分",null,null,null,null,null,"5人目以降の\n控除対象扶養\n親族の個人番号",null,null,null,null,null,null,null,null,null,null,null,"控除対象扶養親族",null,1,"(フリガナ)",null,null,null,null,null,{"$f":"IF(L66=\"\",\"\",L66)","v":""},null,null,null,null,null,null,null,null,null,null,null,null,null,null,null,null,null,"区分",null,{"$f":"IF(AF66=\"\",\"\",AF66)","v":""},null,null,null,"16歳未満の扶養親族",null,1,"(フリガナ)",null,null,null,null,null,{"$f":"IF(AS66=\"\",\"\",AS66)","v":""},null,null,null,null,null,null,null,null,null,null,null,null,null,null,null,null,null,"区分",null,{"$f":"IF(BM66=\"\",\"\",BM66)","v":""},null,null,null,"5人目以降の\n控除対象扶養\n親族の個人番号"]
[]
[null,null,null,null,null,"氏名",null,null,null,null,null,null,null,null,null,null,null,null,null,null,null,null,null,null,null,null,null,null,null,null,null,null,null,null,null,null,null,null,"氏名",null,null,null,null,null,null,null,null,null,null,null,null,null,null,null,null,null,null,null,null,null,null,null,null,null,null,null,null,null,null,null,null,null,null,null,null,null,null,null,null,null,null,null,null,"氏名",null,null,null,null,null,{"$f":"IF(L68=\"\",\"\",L68)","v":""},null,null,null,null,null,null,null,null,null,null,null,null,null,null,null,null,null,null,null,null,null,null,null,null,null,null,"氏名",null,null,null,null,null,{"$f":"IF(AS68=\"\",\"\",AS68)","v":""}]
[null,null,null,null,null,null,null,null,null,null,null,null,null,null,null,null,null,null,null,null,null,null,null,null,null,null,null,null,null,null,null,null,null,null,null,null,null,null,null,null,null,null,null,null,null,null,null,null,null,null,null,null,null,null,null,null,null,null,null,null,null,null,null,null,null,null,null,null,null,null,null,null,null,null,null,null,null,null,null,null,null,null,null,null,null,null,null,null,null,null,null,null,null,null,null,null,null,null,null,null,null,null,null,null,null,null,null,null,null,null,null,null,null,null,null,null,null,null,null,null,null,null,null,null,null,null,null,null,null,null,null,null,null,null,null,null,null,null,null,null,null,null,null,null,null,null,{"$f":"IF(BQ69=\"\",\"\",BQ69)","v":""}]
[]
[null,null,null,null,null,"個人番号",null,null,null,null,null,null,null,null,null,null,null,null,null,null,null,null,null,null,null,null,null,null,null,null,null,null,null,null,null,null,null,null,"個人番号",null,null,null,null,null,null,null,null,null,null,null,null,null,null,null,null,null,null,null,null,null,null,null,null,null,null,null,null,null,null,null,null,null,null,null,null,null,null,null,null,null,null,null,null,"個人番号",null,null,null,null,null,{"$f":"IF(L71=\"\",\"\",L71)","v":""},null,{"$f":"IF(N71=\"\",\"\",N71)","v":""},null,{"$f":"IF(P71=\"\",\"\",P71)","v":""},null,{"$f":"IF(R71=\"\",\"\",R71)","v":""},null,{"$f":"IF(T71=\"\",\"\",T71)","v":""},null,{"$f":"IF(V71=\"\",\"\",V71)","v":""},null,{"$f":"IF(X71=\"\",\"\",X71)","v":""},null,{"$f":"IF(Z71=\"\",\"\",Z71)","v":""},null,{"$f":"IF(AB71=\"\",\"\",AB71)","v":""},null,{"$f":"IF(AD71=\"\",\"\",AD71)","v":""},null,{"$f":"IF(AF71=\"\",\"\",AF71)","v":""},null,{"$f":"IF(AH71=\"\",\"\",AH71)","v":""},null,null,null,null,"個人番号",null,null,null,null,null,{"$f":"IF(AS71=\"\",\"\",AS71)","v":""},null,{"$f":"IF(AU71=\"\",\"\",AU71)","v":""},null,{"$f":"IF(AW71=\"\",\"\",AW71)","v":""},null,{"$f":"IF(AY71=\"\",\"\",AY71)","v":""},null,{"$f":"IF(BA71=\"\",\"\",BA71)","v":""},null,{"$f":"IF(BC71=\"\",\"\",BC71)","v":""},null,{"$f":"IF(BE71=\"\",\"\",BE71)","v":""},null,{"$f":"IF(BG71=\"\",\"\",BG71)","v":""},null,{"$f":"IF(BI71=\"\",\"\",BI71)","v":""},null,{"$f":"IF(BK71=\"\",\"\",BK71)","v":""},null,{"$f":"IF(BM71=\"\",\"\",BM71)","v":""},null,{"$f":"IF(BO71=\"\",\"\",BO71)","v":""}]
[]
[]
[null,null,null,null,2,"(フリガナ)",null,null,null,null,null,null,null,null,null,null,null,null,null,null,null,null,null,null,null,null,null,null,null,"区分",null,null,null,null,null,null,null,2,"(フリガナ)",null,null,null,null,null,null,null,null,null,null,null,null,null,null,null,null,null,null,null,null,null,null,null,"区分",null,null,null,null,null,null,null,null,null,null,null,null,null,null,null,null,null,null,null,2,"(フリガナ)",null,null,null,null,null,{"$f":"IF(L74=\"\",\"\",L74)","v":""},null,null,null,null,null,null,null,null,null,null,null,null,null,null,null,null,null,"区分",null,{"$f":"IF(AF74=\"\",\"\",AF74)","v":""},null,null,null,null,null,2,"(フリガナ)",null,null,null,null,null,{"$f":"IF(AS74=\"\",\"\",AS74)","v":""},null,null,null,null,null,null,null,null,null,null,null,null,null,null,null,null,null,"区分",null,{"$f":"IF(BM74=\"\",\"\",BM74)","v":""}]
[]
["五○○万円を超える者等に使用してください。","支払金額が法人役員一五○万円・一般の受給者",null,null,null,"氏名",null,null,null,null,null,null,null,null,null,null,null,null,null,null,null,null,null,null,null,null,null,null,null,null,null,null,null,null,null,null,null,null,"氏名",null,null,null,null,null,null,null,null,null,null,null,null,null,null,null,null,null,null,null,null,null,null,null,null,null,null,null,null,null,null,null,null,null,null,null,null,null,null,null,null,null,null,null,null,"氏名",null,null,null,null,null,{"$f":"IF(L76=\"\",\"\",L76)","v":""},null,null,null,null,null,null,null,null,null,null,null,null,null,null,null,null,null,null,null,null,null,null,null,null,null,null,"氏名",null,null,null,null,null,{"$f":"IF(AS76=\"\",\"\",AS76)","v":""}]
[]
[]
[null,null,null,null,null,"個人番号",null,null,null,null,null,null,null,null,null,null,null,null,null,null,null,null,null,null,null,null,null,null,null,null,null,null,null,null,null,null,null,null,"個人番号",null,null,null,null,null,null,null,null,null,null,null,null,null,null,null,null,null,null,null,null,null,null,null,null,null,null,null,null,null,null,null,null,null,null,null,null,null,null,null,null,null,null,null,null,"個人番号",null,null,null,null,null,{"$f":"IF(L79=\"\",\"\",L79)","v":""},null,{"$f":"IF(N79=\"\",\"\",N79)","v":""},null,{"$f":"IF(P79=\"\",\"\",P79)","v":""},null,{"$f":"IF(R79=\"\",\"\",R79)","v":""},null,{"$f":"IF(T79=\"\",\"\",T79)","v":""},null,{"$f":"IF(V79=\"\",\"\",V79)","v":""},null,{"$f":"IF(X79=\"\",\"\",X79)","v":""},null,{"$f":"IF(Z79=\"\",\"\",Z79)","v":""},null,{"$f":"IF(AB79=\"\",\"\",AB79)","v":""},null,{"$f":"IF(AD79=\"\",\"\",AD79)","v":""},null,{"$f":"IF(AF79=\"\",\"\",AF79)","v":""},null,{"$f":"IF(AH79=\"\",\"\",AH79)","v":""},null,null,null,null,"個人番号",null,null,null,null,null,{"$f":"IF(AS79=\"\",\"\",AS79)","v":""},null,{"$f":"IF(AU79=\"\",\"\",AU79)","v":""},null,{"$f":"IF(AW79=\"\",\"\",AW79)","v":""},null,{"$f":"IF(AY79=\"\",\"\",AY79)","v":""},null,{"$f":"IF(BA79=\"\",\"\",BA79)","v":""},null,{"$f":"IF(BC79=\"\",\"\",BC79)","v":""},null,{"$f":"IF(BE79=\"\",\"\",BE79)","v":""},null,{"$f":"IF(BG79=\"\",\"\",BG79)","v":""},null,{"$f":"IF(BI79=\"\",\"\",BI79)","v":""},null,{"$f":"IF(BK79=\"\",\"\",BK79)","v":""},null,{"$f":"IF(BM79=\"\",\"\",BM79)","v":""},null,{"$f":"IF(BO79=\"\",\"\",BO79)","v":""}]
[]
[]
[null,null,null,null,3,"(フリガナ)",null,null,null,null,null,null,null,null,null,null,null,null,null,null,null,null,null,null,null,null,null,null,null,"区分",null,null,null,null,null,null,null,3,"(フリガナ)",null,null,null,null,null,null,null,null,null,null,null,null,null,null,null,null,null,null,null,null,null,null,null,"区分",null,null,null,null,null,null,null,null,null,null,null,null,null,null,null,null,null,null,null,3,"(フリガナ)",null,null,null,null,null,{"$f":"IF(L82=\"\",\"\",L82)","v":""},null,null,null,null,null,null,null,null,null,null,null,null,null,null,null,null,null,"区分",null,{"$f":"IF(AF82=\"\",\"\",AF82)","v":""},null,null,null,null,null,3,"(フリガナ)",null,null,null,null,null,{"$f":"IF(AS82=\"\",\"\",AS82)","v":""},null,null,null,null,null,null,null,null,null,null,null,null,null,null,null,null,null,"区分",null,{"$f":"IF(BM82=\"\",\"\",BM82)","v":""}]
[]
[null,null,null,null,null,"氏名",null,null,null,null,null,null,null,null,null,null,null,null,null,null,null,null,null,null,null,null,null,null,null,null,null,null,null,null,null,null,null,null,"氏名",null,null,null,null,null,null,null,null,null,null,null,null,null,null,null,null,null,null,null,null,null,null,null,null,null,null,null,null,null,"5人目以降の\n16歳未満の扶養\n親族の個人番号",null,null,null,null,null,null,null,null,null,null,null,null,null,null,"氏名",null,null,null,null,null,{"$f":"IF(L84=\"\",\"\",L84)","v":""},null,null,null,null,null,null,null,null,null,null,null,null,null,null,null,null,null,null,null,null,null,null,null,null,null,null,"氏名",null,null,null,null,null,{"$f":"IF(AS84=\"\",\"\",AS84)","v":""},null,null,null,null,null,null,null,null,null,null,null,null,null,null,null,null,null,null,null,null,null,null,null,"5人目以降の\n16歳未満の扶養\n親族の個人番号"]
[]
[]
[null,null,null,null,null,"個人番号",null,null,null,null,null,null,null,null,null,null,null,null,null,null,null,null,null,null,null,null,null,null,null,null,null,null,null,null,null,null,null,null,"個人番号",null,null,null,null,null,null,null,null,null,null,null,null,null,null,null,null,null,null,null,null,null,null,null,null,null,null,null,null,null,null,null,null,null,null,null,null,null,null,null,null,null,null,null,null,"個人番号",null,null,null,null,null,{"$f":"IF(L87=\"\",\"\",L87)","v":""},null,{"$f":"IF(N87=\"\",\"\",N87)","v":""},null,{"$f":"IF(P87=\"\",\"\",P87)","v":""},null,{"$f":"IF(R87=\"\",\"\",R87)","v":""},null,{"$f":"IF(T87=\"\",\"\",T87)","v":""},null,{"$f":"IF(V87=\"\",\"\",V87)","v":""},null,{"$f":"IF(X87=\"\",\"\",X87)","v":""},null,{"$f":"IF(Z87=\"\",\"\",Z87)","v":""},null,{"$f":"IF(AB87=\"\",\"\",AB87)","v":""},null,{"$f":"IF(AD87=\"\",\"\",AD87)","v":""},null,{"$f":"IF(AF87=\"\",\"\",AF87)","v":""},null,{"$f":"IF(AH87=\"\",\"\",AH87)","v":""},null,null,null,null,"個人番号",null,null,null,null,null,{"$f":"IF(AS87=\"\",\"\",AS87)","v":""},null,{"$f":"IF(AU87=\"\",\"\",AU87)","v":""},null,{"$f":"IF(AW87=\"\",\"\",AW87)","v":""},null,{"$f":"IF(AY87=\"\",\"\",AY87)","v":""},null,{"$f":"IF(BA87=\"\",\"\",BA87)","v":""},null,{"$f":"IF(BC87=\"\",\"\",BC87)","v":""},null,{"$f":"IF(BE87=\"\",\"\",BE87)","v":""},null,{"$f":"IF(BG87=\"\",\"\",BG87)","v":""},null,{"$f":"IF(BI87=\"\",\"\",BI87)","v":""},null,{"$f":"IF(BK87=\"\",\"\",BK87)","v":""},null,{"$f":"IF(BM87=\"\",\"\",BM87)","v":""},null,{"$f":"IF(BO87=\"\",\"\",BO87)","v":""},null,{"$f":"IF(BQ87=\"\",\"\",BQ87)","v":""}]
[]
[]
[null,null,null,null,4,"(フリガナ)",null,null,null,null,null,null,null,null,null,null,null,null,null,null,null,null,null,null,null,null,null,null,null,"区分",null,null,null,null,null,null,null,4,"(フリガナ)",null,null,null,null,null,null,null,null,null,null,null,null,null,null,null,null,null,null,null,null,null,null,null,"区分",null,null,null,null,null,null,null,null,null,null,null,null,null,null,null,null,null,null,null,4,"(フリガナ)",null,null,null,null,null,{"$f":"IF(L90=\"\",\"\",L90)","v":""},null,null,null,null,null,null,null,null,null,null,null,null,null,null,null,null,null,"区分",null,{"$f":"IF(AF90=\"\",\"\",AF90)","v":""},null,null,null,null,null,4,"(フリガナ)",null,null,null,null,null,{"$f":"IF(AS90=\"\",\"\",AS90)","v":""},null,null,null,null,null,null,null,null,null,null,null,null,null,null,null,null,null,"区分",null,{"$f":"IF(BM90=\"\",\"\",BM90)","v":""}]
[]
[null,null,null,null,null,"氏名",null,null,null,null,null,null,null,null,null,null,null,null,null,null,null,null,null,null,null,null,null,null,null,null,null,null,null,null,null,null,null,null,"氏名",null,null,null,null,null,null,null,null,null,null,null,null,null,null,null,null,null,null,null,null,null,null,null,null,null,null,null,null,null,null,null,null,null,null,null,null,null,null,null,null,null,null,null,null,"氏名",null,null,null,null,null,{"$f":"IF(L92=\"\",\"\",L92)","v":""},null,null,null,null,null,null,null,null,null,null,null,null,null,null,null,null,null,null,null,null,null,null,null,null,null,null,"氏名",null,null,null,null,null,{"$f":"IF(AS92=\"\",\"\",AS92)","v":""}]
[]
[]
[null,null,null,null,null,"個人番号",null,null,null,null,null,null,null,null,null,null,null,null,null,null,null,null,null,null,null,null,null,null,null,null,null,null,null,null,null,null,null,null,"個人番号",null,null,null,null,null,null,null,null,null,null,null,null,null,null,null,null,null,null,null,null,null,null,null,null,null,null,null,null,null,null,null,null,null,null,null,null,null,null,null,null,null,null,null,null,"個人番号",null,null,null,null,null,{"$f":"IF(L95=\"\",\"\",L95)","v":""},null,{"$f":"IF(N95=\"\",\"\",N95)","v":""},null,{"$f":"IF(P95=\"\",\"\",P95)","v":""},null,{"$f":"IF(R95=\"\",\"\",R95)","v":""},null,{"$f":"IF(T95=\"\",\"\",T95)","v":""},null,{"$f":"IF(V95=\"\",\"\",V95)","v":""},null,{"$f":"IF(X95=\"\",\"\",X95)","v":""},null,{"$f":"IF(Z95=\"\",\"\",Z95)","v":""},null,{"$f":"IF(AB95=\"\",\"\",AB95)","v":""},null,{"$f":"IF(AD95=\"\",\"\",AD95)","v":""},null,{"$f":"IF(AF95=\"\",\"\",AF95)","v":""},null,{"$f":"IF(AH95=\"\",\"\",AH95)","v":""},null,null,null,null,"個人番号",null,null,null,null,null,{"$f":"IF(AS95=\"\",\"\",AS95)","v":""},null,{"$f":"IF(AU95=\"\",\"\",AU95)","v":""},null,{"$f":"IF(AW95=\"\",\"\",AW95)","v":""},null,{"$f":"IF(AY95=\"\",\"\",AY95)","v":""},null,{"$f":"IF(BA95=\"\",\"\",BA95)","v":""},null,{"$f":"IF(BC95=\"\",\"\",BC95)","v":""},null,{"$f":"IF(BE95=\"\",\"\",BE95)","v":""},null,{"$f":"IF(BG95=\"\",\"\",BG95)","v":""},null,{"$f":"IF(BI95=\"\",\"\",BI95)","v":""},null,{"$f":"IF(BK95=\"\",\"\",BK95)","v":""},null,{"$f":"IF(BM95=\"\",\"\",BM95)","v":""},null,{"$f":"IF(BO95=\"\",\"\",BO95)","v":""}]
[]
[]
[null,null,"未成年者",null,null,"外国人",null,null,"死亡退職",null,null,"災害者",null,null,"乙欄",null,null,"本人が障害者",null,null,null,null,null,null,null,"寡婦 勤労学生",null,null,null,null,null,null,null,"寡夫",null,null,"勤労学生",null,null,"中 途 就 ・ 退 職",null,null,null,null,null,null,null,null,null,null,null,null,null,null,"受 給 者 生 年 月 日",null,null,null,null,null,null,null,null,null,null,null,null,null,null,null,null,null,null,null,null,null,null,null,null,null,"未成年者",null,null,"外国人",null,null,"死亡退職",null,null,"災害者",null,null,"乙欄",null,null,"本人が障害者",null,null,null,null,null,null,null,"寡婦 勤労学生",null,null,null,null,null,null,null,"寡夫",null,null,"勤労学生",null,null,"中 途 就 ・ 退 職",null,null,null,null,null,null,null,null,null,null,null,null,null,null,"受 給 者 生 年 月 日"]
[]
[null,null,null,null,null,null,null,null,null,null,null,null,null,null,null,null,null,"特別",null,null,null,"その他",null,null,null,"一般",null,null,null,"特別",null,null,null,null,null,null,null,null,null,"就職",null,null,"退職",null,null,"年",null,null,"月",null,null,"日",null,null,"明",null,null,"大",null,null,"昭",null,null,"平",null,null,"年",null,null,"月",null,null,"日",null,null,null,null,null,null,null,null,null,null,null,null,null,null,null,null,null,null,null,null,null,null,"特別",null,null,null,"その他",null,null,null,"一般",null,null,null,"特別",null,null,null,null,null,null,null,null,null,"就職",null,null,"退職",null,null,"年",null,null,"月",null,null,"日",null,null,"明",null,null,"大",null,null,"昭",null,null,"平",null,null,"年",null,null,"月",null,null,"日"]
["(",null,null,null,null,null,null,null,null,null,null,null,null,null,null,null,null,null,null,null,null,null,null,null,null,null,null,null,null,null,null,null,null,null,null,null,null,null,null,null,null,null,null,null,null,null,null,null,null,null,null,null,null,null,null,null,null,null,null,null,null,null,null,null,null,null,null,null,null,null,null,null,null,null,null,null,null,null,"("]
[]
["市区町村提出用",null,null,null,null,null,null,null,null,null,null,null,null,null,null,null,null,null,null,null,null,null,null,null,null,null,null,null,null,null,null,null,null,null,null,null,null,null,null,null,null,null,null,null,null,31,null,null,null,null,null,null,null,null,{"$f":"IF(所得税源泉徴収簿!AU5=\"明治\",\"＊\",\"\")","v":""},null,null,{"$f":"IF(所得税源泉徴収簿!AU5=\"大正\",\"＊\",\"\")","v":""},null,null,{"$f":"IF(所得税源泉徴収簿!AU5=\"昭和\",\"＊\",\"\")","v":"＊"},null,null,{"$f":"IF(所得税源泉徴収簿!AU5=\"平成\",\"＊\",\"\")","v":""},null,null,{"$f":"所得税源泉徴収簿!AW5","v":0},null,null,{"$f":"所得税源泉徴収簿!AY5","v":0},null,null,{"$f":"所得税源泉徴収簿!BA5","v":0},null,null,null,null,null,"市区町村提出用",null,{"$f":"IF(C103=\"\",\"\",C103)","v":""},null,null,{"$f":"IF(F103=\"\",\"\",F103)","v":""},null,null,{"$f":"IF(I103=\"\",\"\",I103)","v":""},null,null,{"$f":"IF(L103=\"\",\"\",L103)","v":""},null,null,{"$f":"IF(O103=\"\",\"\",O103)","v":""},null,null,{"$f":"IF(R103=\"\",\"\",R103)","v":""},null,null,null,{"$f":"IF(V103=\"\",\"\",V103)","v":""},null,null,null,{"$f":"IF(Z103=\"\",\"\",Z103)","v":""},null,null,null,{"$f":"IF(AD103=\"\",\"\",AD103)","v":""},null,null,null,{"$f":"IF(AH103=\"\",\"\",AH103)","v":""},null,null,{"$f":"IF(AK103=\"\",\"\",AK103)","v":""},null,null,{"$f":"IF(AN103=\"\",\"\",AN103)","v":""},null,null,{"$f":"IF(AQ103=\"\",\"\",AQ103)","v":""},null,null,{"$f":"IF(AT103=\"\",\"\",AT103)","v":31},null,null,{"$f":"IF(AW103=\"\",\"\",AW103)","v":""},null,null,{"$f":"IF(AZ103=\"\",\"\",AZ103)","v":""},null,null,{"$f":"IF(BC103=\"\",\"\",BC103)","v":""},null,null,{"$f":"IF(BF103=\"\",\"\",BF103)","v":""},null,null,{"$f":"IF(BI103=\"\",\"\",BI103)","v":"＊"},null,null,{"$f":"IF(BL103=\"\",\"\",BL103)","v":""},null,null,{"$f":"IF(BO103=\"\",\"\",BO103)","v":0},null,null,{"$f":"IF(BR103=\"\",\"\",BR103)","v":0},null,null,{"$f":"IF(BU103=\"\",\"\",BU103)","v":0}]
[]
[null,null,"支払者",null,null,"個人番号又は\n法人番号",null,null,null,null,null,null,null,null,null,null,null,null,null,null,null,null,null,null,null,null,null,null,null,null,null,null,null,null,null,null,null,null,null,null," (右詰で記載してください。)",null,null,null,null,null,null,null,null,null,null,null,null,null,null,null,null,null,null,null,null,null,null,null,null,null,null,null,null,null,null,null,null,null,null,null,null,null,null,null,"支払者",null,null,"個人番号又は\n法人番号",null,null,null,null,null,null,null,null,{"$f":"IF(O105=\"\",\"\",O105)","v":""},null,{"$f":"IF(Q105=\"\",\"\",Q105)","v":""},null,{"$f":"IF(S105=\"\",\"\",S105)","v":""},null,{"$f":"IF(U105=\"\",\"\",U105)","v":""},null,{"$f":"IF(W105=\"\",\"\",W105)","v":""},null,{"$f":"IF(Y105=\"\",\"\",Y105)","v":""},null,{"$f":"IF(AA105=\"\",\"\",AA105)","v":""},null,{"$f":"IF(AC105=\"\",\"\",AC105)","v":""},null,{"$f":"IF(AE105=\"\",\"\",AE105)","v":""},null,{"$f":"IF(AG105=\"\",\"\",AG105)","v":""},null,{"$f":"IF(AI105=\"\",\"\",AI105)","v":""},null,{"$f":"IF(AK105=\"\",\"\",AK105)","v":""},null,{"$f":"IF(AM105=\"\",\"\",AM105)","v":""},null," (右詰で記載してください。)"]
[]
[]
[null,null,null,null,null,"住所(居所)\n又は所在地",null,null,null,null,null,null,null,null,null,null,null,null,null,null,null,null,null,null,null,null,null,null,null,null,null,null,null,null,null,null,null,null,null,null,null,null,null,null,null,null,null,null,null,null,null,null,null,null,null,null,null,null,null,null,null,null,null,null,null,null,null,null,null,null,null,null,null,null,null,null,null,null,null,null,null,null,null,"住所(居所)\n又は所在地",null,null,null,null,null,null,null,null,{"$f":"IF(O108=\"\",\"\",O108)","v":""}]
[]
[]
[]
[null,null,null,null,null,"氏名又は名称",null,null,null,null,null,null,null,null,null,null,null,null,null,null,null,null,null,null,null,null,null,null,null,null,null,null,null,null,null,null,null,null,null,null,null,null,null,null,null,null,null,null,null,null,null,null,null,null,null,null,null,null,null,null,null,null,null,null,null,null,null,null,null,null,null,null,null,null,null,null,null,null,null,null,null,null,null,"氏名又は名称",null,null,null,null,null,null,null,null,{"$f":"IF(O112=\"\",\"\",O112)","v":""}]
["）",null,null,null,null,null,null,null,null,null,null,null,null,null,null,null,null,null,null,null,null,null,null,null,null,null,null,null,null,null,null,null,null,null,null,null,null,null,null,null,null,null,null,null,null,null,null,null,null,null,null,null,"（電話）",null,null,null,null,null,null,null,null,null,null,null,null,null,null,null,null,null,null,null,null,null,null,null,null,null,"）",null,null,null,null,null,null,null,null,null,null,null,null,null,null,null,null,null,null,null,null,null,null,null,null,null,null,null,null,null,null,null,null,null,null,null,null,null,null,null,null,null,null,null,null,null,null,null,null,null,null,null,"（電話）",null,null,null,{"$f":"IF(BE113=\"\",\"\",BE113)","v":""}]
[]
[]
[null,null,null,null,null,"（摘要）に前職分の加算額、支払者等を記入してください。                      ",null,null,null,null,null,null,null,null,null,null,null,null,null,null,null,null,null,null,null,null,null,null,null,null,null,null,null,null,null,null,null,null,null,null,null,null,null,null,null,null,null,null,null,null,null,null,null,null,null,null,null,null,null,null,null,null,null,null,null,null,null,null,null,null,null,null,null,null,null,null,null,null,null,null,null,null,null,"（摘要）に前職分の加算額、支払者等を記入してください。                      "]
[]
[]
[]
[]
[]
[]
[null,null,null,null,null,null,null,null,null,null,null,null,null,null,null,null,null,"平成",null,null,null,null,null,null,null,31,null,null,null,"年分",null,null,null,null,null,null,"給与所得の源泉徴収票",null,null,null,null,null,null,null,null,null,null,null,null,null,null,null,null,null,null,null,null,null,null,null,null,null,null,null,null,null,null,null,null,null,null,null,null,null,null,null,null,null,null,null,null,null,null,null,null,null,null,null,null,null,null,null,null,null,null,"平成",null,null,null,null,null,null,null,31,null,null,null,"年分",null,null,null,null,null,null,"給与所得の源泉徴収票"]
[]
[null,null,"支 払\n\nを受け\n\nる 者",null,null,null,"住所又は居所",null,null,null,null,null,null,null,null,null,null,null,null,null,null,null,null,null,null,null,null,null,null,null,null,null,null,null,null,null,null,null,null,null,null,null,null,null,"（受給者番号）",null,null,null,null,null,null,null,{"$f":"IF(BA5=\"\",\"\",BA5)","v":""},null,null,null,null,null,null,null,null,null,null,null,null,null,null,null,null,null,null,null,null,null,null,null,null,null,null,null,"支 払\n\nを受け\n\nる 者",null,null,null,"住所又は居所",null,null,null,null,null,null,null,null,null,null,null,null,null,null,null,null,null,null,null,null,null,null,null,null,null,null,null,null,null,null,null,null,null,null,null,null,null,"（受給者番号）",null,null,null,null,null,null,null,{"$f":"IF(BA5=\"\",\"\",BA5)","v":""}]
[null,null,null,null,null,null,null,null,{"$f":"IF(I8=\"\",\"\",I8)","v":""},null,null,null,null,null,null,null,null,null,null,null,null,null,null,null,null,null,null,null,null,null,null,null,null,null,null,null,null,null,null,null,null,null,null,null,null,null,null,null,null,null,null,null,null,null,null,null,null,null,null,null,null,null,null,null,null,null,null,null,null,null,null,null,null,null,null,null,null,null,null,null,null,null,null,null,null,null,{"$f":"IF(I8=\"\",\"\",I8)","v":""}]
[null,null,null,null,null,null,null,null,null,null,null,null,null,null,null,null,null,null,null,null,null,null,null,null,null,null,null,null,null,null,null,null,null,null,null,null,null,null,null,null,null,null,null,null,"（個人番号）",null,null,null,null,null,null,{"$f":"IF(AZ7=\"\",\"\",AZ7)","v":""},null,{"$f":"IF(BB7=\"\",\"\",BB7)","v":""},null,{"$f":"IF(BD7=\"\",\"\",BD7)","v":""},null,{"$f":"IF(BF7=\"\",\"\",BF7)","v":""},null,{"$f":"IF(BH7=\"\",\"\",BH7)","v":""},null,{"$f":"IF(BJ7=\"\",\"\",BJ7)","v":""},null,{"$f":"IF(BL7=\"\",\"\",BL7)","v":""},null,{"$f":"IF(BN7=\"\",\"\",BN7)","v":""},null,{"$f":"IF(BP7=\"\",\"\",BP7)","v":""},null,{"$f":"IF(BR7=\"\",\"\",BR7)","v":""},null,{"$f":"IF(BT7=\"\",\"\",BT7)","v":""},null,{"$f":"IF(BV7=\"\",\"\",BV7)","v":""}]
[null,null,null,null,null,null,null,null,{"$f":"IF(I10=\"\",\"\",I10)","v":""},null,null,null,null,null,null,null,null,null,null,null,null,null,null,null,null,null,null,null,null,null,null,null,null,null,null,null,null,null,null,null,null,null,null,null,null,null,null,null,null,null,null,null,null,null,null,null,null,null,null,null,null,null,null,null,null,null,null,null,null,null,null,null,null,null,null,null,null,null,null,null,null,null,null,null,null,null,{"$f":"IF(I10=\"\",\"\",I10)","v":""}]
[null,null,null,null,null,null,null,null,null,null,null,null,null,null,null,null,null,null,null,null,null,null,null,null,null,null,null,null,null,null,null,null,null,null,null,null,null,null,null,null,null,null,null,null,"（役職名）",null,null,null,null,null,null,{"$f":"IF(AZ9=\"\",\"\",AZ9)","v":""},null,null,null,null,null,null,null,null,null,null,null,null,null,null,null,null,null,null,null,null,null,null,null,null,null,null,null,null,null,null,null,null,null,null,null,null,null,null,null,null,null,null,null,null,null,null,null,null,null,null,null,null,null,null,null,null,null,null,null,null,null,null,null,null,null,null,null,null,null,null,"（役職名）",null,null,null,null,null,null,{"$f":"IF(AZ9=\"\",\"\",AZ9)","v":""}]
[null,null,null,null,null,null,null,null,{"$f":"IF(I12=\"\",\"\",I12)","v":""},null,null,null,null,null,null,null,null,null,null,null,null,null,null,null,null,null,null,null,null,null,null,null,null,null,null,null,null,null,null,null,null,null,null,null,null,null,null,null,null,null,null,null,null,null,null,null,null,null,null,null,null,null,null,null,null,null,null,null,null,null,null,null,null,null,null,null,null,null,null,null,null,null,null,null,null,null,{"$f":"IF(I12=\"\",\"\",I12)","v":""}]
[null,null,null,null,null,null,null,null,null,null,null,null,null,null,null,null,null,null,null,null,null,null,null,null,null,null,null,null,null,null,null,null,null,null,null,null,null,null,null,null,null,null,null,null,"氏名",null,"（フリガナ）",null,null,null,null,null,null,{"$f":"IF(BB11=\"\",\"\",BB11)","v":""},null,null,null,null,null,null,null,null,null,null,null,null,null,null,null,null,null,null,null,null,null,null,null,null,null,null,null,null,null,null,null,null,null,null,null,null,null,null,null,null,null,null,null,null,null,null,null,null,null,null,null,null,null,null,null,null,null,null,null,null,null,null,null,null,null,null,null,null,"氏名",null,"（フリガナ）",null,null,null,null,null,null,{"$f":"IF(BB11=\"\",\"\",BB11)","v":""}]
[null,null,null,null,null,null,null,null,{"$f":"IF(I14=\"\",\"\",I14)","v":""},null,null,null,null,null,null,null,null,null,null,null,null,null,null,null,null,null,null,null,null,null,null,null,null,null,null,null,null,null,null,null,null,null,null,null,null,null,null,null,null,null,null,null,null,null,null,null,null,null,null,null,null,null,null,null,null,null,null,null,null,null,null,null,null,null,null,null,null,null,null,null,null,null,null,null,null,null,{"$f":"IF(I14=\"\",\"\",I14)","v":""}]
[null,null,null,null,null,null,null,null,null,null,null,null,null,null,null,null,null,null,null,null,null,null,null,null,null,null,null,null,null,null,null,null,null,null,null,null,null,null,null,null,null,null,null,null,null,null,{"$f":"IF(AU13=\"\",\"\",AU13)","v":""},null,null,null,null,null,null,null,null,null,null,null,null,null,null,null,null,null,null,null,null,null,null,null,null,null,null,null,null,null,null,null,null,null,null,null,null,null,null,null,null,null,null,null,null,null,null,null,null,null,null,null,null,null,null,null,null,null,null,null,null,null,null,null,null,null,null,null,null,null,null,null,null,null,null,null,null,null,{"$f":"IF(AU13=\"\",\"\",AU13)","v":""}]
[null,null,null,null,null,null,null,null,""]
[]
[null,null,"種  別",null,null,null,null,null,null,null,null,null,null,null,null,"支 払 金 額",null,null,null,null,null,null,null,null,null,null,null,null,null,null,"給与所得控除後の金額",null,null,null,null,null,null,null,null,null,null,null,null,null,null,"所得控除の額の合計額",null,null,null,null,null,null,null,null,null,null,null,null,null,null,"源泉徴収税額",null,null,null,null,null,null,null,null,null,null,null,null,null,null,null,null,null,null,null,"種  別",null,null,null,null,null,null,null,null,null,null,null,null,"支 払 金 額",null,null,null,null,null,null,null,null,null,null,null,null,null,null,"給与所得控除後の金額",null,null,null,null,null,null,null,null,null,null,null,null,null,null,"所得控除の額の合計額",null,null,null,null,null,null,null,null,null,null,null,null,null,null,"源泉徴収税額"]
[]
[null,null,null,null,null,null,null,null,null,null,null,null,null,null,null,"内",null,null,null,null,null,null,null,null,null,null,null,null,null,"円",null,null,null,null,null,null,null,null,null,null,null,null,null,null,"円",null,null,null,null,null,null,null,null,null,null,null,null,null,null,"円","内",null,null,null,null,null,null,null,null,null,null,null,null,null,"円",null,null,null,null,null,null,null,null,null,null,null,null,null,null,null,null,null,null,"内",null,null,null,null,null,null,null,null,null,null,null,null,null,"円",null,null,null,null,null,null,null,null,null,null,null,null,null,null,"円",null,null,null,null,null,null,null,null,null,null,null,null,null,null,"円","内",null,null,null,null,null,null,null,null,null,null,null,null,null,"円"]
[null,null,"給与・賞与",null,null,null,null,null,null,null,null,null,null,null,null,{"$f":"IF(P19=\"\",\"\",P19)","v":0},null,null,null,null,null,null,null,null,null,null,null,null,null,null,{"$f":"IF(AE19=\"\",\"\",AE19)","v":0},null,null,null,null,null,null,null,null,null,null,null,null,null,null,{"$f":"IF(AT19=\"\",\"\",AT19)","v":0},null,null,null,null,null,null,null,null,null,null,null,null,null,null,{"$f":"IF(BI19=\"\",\"\",BI19)","v":0},null,null,null,null,null,null,null,null,null,null,null,null,null,null,null,null,null,null,null,"給与・賞与",null,null,null,null,null,null,null,null,null,null,null,null,{"$f":"IF(P19=\"\",\"\",P19)","v":0},null,null,null,null,null,null,null,null,null,null,null,null,null,null,{"$f":"IF(AE19=\"\",\"\",AE19)","v":0},null,null,null,null,null,null,null,null,null,null,null,null,null,null,{"$f":"IF(AT19=\"\",\"\",AT19)","v":0},null,null,null,null,null,null,null,null,null,null,null,null,null,null,{"$f":"IF(BI19=\"\",\"\",BI19)","v":0}]
[]
[]
[null,null,"控 除 対 象\n配 偶 者",null,null,null,null,null,null,null,null,null,null,null,"配偶者特別\n控除の額",null,null,null,null,null,null,null,null,null,"控 除 対 象 扶 養 親 族 の 数\n( 配 偶 者 を 除 く 。 )",null,null,null,null,null,null,null,null,null,null,null,null,null,null,null,null,null,null,null,null,null,null,null,null,null,null,"16歳未満\n扶養親族\nの数",null,null,null,null,"障 害 者 の 数\n( 本 人 を 除 く 。 )",null,null,null,null,null,null,null,null,null,null,null,null,null,null,"非居住者\nである\n親族の数",null,null,null,null,null,null,null,null,"控 除 対 象\n配 偶 者",null,null,null,null,null,null,null,null,null,null,null,"配偶者特別\n控除の額",null,null,null,null,null,null,null,null,null,"控 除 対 象 扶 養 親 族 の 数\n( 配 偶 者 を 除 く 。 )",null,null,null,null,null,null,null,null,null,null,null,null,null,null,null,null,null,null,null,null,null,null,null,null,null,null,"16歳未満\n扶養親族\nの数",null,null,null,null,"障 害 者 の 数\n( 本 人 を 除 く 。 )",null,null,null,null,null,null,null,null,null,null,null,null,null,null,"非居住者\nである\n親族の数"]
[null,null,null,null,null,null,null,null,null,null,"老人",null,null,null,null,null,null,null,null,null,null,null,null,null,null,null,null,null,null,null,null,null,null,null,null,null,null,null,null,null,null,null,null,null,null,null,null,null,null,null,null,null,null,null,null,null,null,null,null,null,null,null,null,null,null,null,null,null,null,null,null,null,null,null,null,null,null,null,null,null,null,null,null,null,null,null,null,null,"老人"]
[null,null,null,null,null,null,null,null,null,null,null,null,null,null,null,null,null,null,null,null,null,null,null,null,"特  定",null,null,null,null,null,null,null,"老   人",null,null,null,null,null,null,null,null,null,null,"そ の 他",null,null,null,null,null,null,null,null,null,null,null,null,"特  別",null,null,null,null,null,null,null,null,null,"その他",null,null,null,null,null,null,null,null,null,null,null,null,null,null,null,null,null,null,null,null,null,null,null,null,null,null,null,null,null,null,null,null,null,null,null,"特  定",null,null,null,null,null,null,null,"老   人",null,null,null,null,null,null,null,null,null,null,"そ の 他",null,null,null,null,null,null,null,null,null,null,null,null,"特  別",null,null,null,null,null,null,null,null,null,"その他"]
[null,null,"有",null,null,null,"従有",null,null,null,null,null,null,null,null,null,null,null,null,null,null,null,null,"円",null,null,null,null,"人",null,"従","人",null,null,"内",null,null,null,null,"人",null,"従","人",null,null,null,null,"人",null,"従","人",null,null,null,null,"人",null,null,null,null,"内",null,null,null,null,"人",null,null,null,null,"人",null,null,null,"人",null,null,null,null,null,"有",null,null,null,"従有",null,null,null,null,null,null,null,null,null,null,null,null,null,null,null,null,"円",null,null,null,null,"人",null,"従","人",null,null,"内",null,null,null,null,"人",null,"従","人",null,null,null,null,"人",null,"従","人",null,null,null,null,"人",null,null,null,null,"内",null,null,null,null,"人",null,null,null,null,"人",null,null,null,"人"]
[null,null,{"$f":"IF(C26=\"\",\"\",C26)","v":""},null,null,null,{"$f":"IF(G26=\"\",\"\",G26)","v":""},null,null,null,{"$f":"IF(K26=\"\",\"\",K26)","v":""},null,null,null,{"$f":"IF(O26=\"\",\"\",O26)","v":0},null,null,null,null,null,null,null,null,null,{"$f":"IF(Y26=\"\",\"\",Y26)","v":""},null,null,null,null,{"$f":"IF(AD26=\"\",\"\",AD26)","v":""},null,null,{"$f":"IF(AG26=\"\",\"\",AG26)","v":""},null,null,{"$f":"IF(AJ26=\"\",\"\",AJ26)","v":""},null,null,null,null,{"$f":"IF(AO26=\"\",\"\",AO26)","v":""},null,null,{"$f":"IF(AR26=\"\",\"\",AR26)","v":""},null,null,null,null,{"$f":"IF(AW26=\"\",\"\",AW26)","v":""},null,null,{"$f":"IF(AZ26=\"\",\"\",AZ26)","v":""},null,null,null,null,{"$f":"IF(BE26=\"\",\"\",BE26)","v":""},null,null,null,null,{"$f":"IF(BJ26=\"\",\"\",BJ26)","v":""},null,null,null,null,{"$f":"IF(BO26=\"\",\"\",BO26)","v":""},null,null,null,null,{"$f":"IF(BT26=\"\",\"\",BT26)","v":""},null,null,null,null,null,null,null,null,{"$f":"IF(C26=\"\",\"\",C26)","v":""},null,null,null,{"$f":"IF(G26=\"\",\"\",G26)","v":""},null,null,null,{"$f":"IF(K26=\"\",\"\",K26)","v":""},null,null,null,{"$f":"IF(O26=\"\",\"\",O26)","v":0},null,null,null,null,null,null,null,null,null,{"$f":"IF(Y26=\"\",\"\",Y26)","v":""},null,null,null,null,{"$f":"IF(AD26=\"\",\"\",AD26)","v":""},null,null,{"$f":"IF(AG26=\"\",\"\",AG26)","v":""},null,null,{"$f":"IF(AJ26=\"\",\"\",AJ26)","v":""},null,null,null,null,{"$f":"IF(AO26=\"\",\"\",AO26)","v":""},null,null,{"$f":"IF(AR26=\"\",\"\",AR26)","v":""},null,null,null,null,{"$f":"IF(AW26=\"\",\"\",AW26)","v":""},null,null,{"$f":"IF(AZ26=\"\",\"\",AZ26)","v":""},null,null,null,null,{"$f":"IF(BE26=\"\",\"\",BE26)","v":""},null,null,null,null,{"$f":"IF(BJ26=\"\",\"\",BJ26)","v":""},null,null,null,null,{"$f":"IF(BO26=\"\",\"\",BO26)","v":""},null,null,null,null,{"$f":"IF(BT26=\"\",\"\",BT26)","v":""}]
[]
[]
[null,null,"社会保険料等の金額",null,null,null,null,null,null,null,null,null,null,null,null,null,null,null,null,null,null,"生命保険料の控除額",null,null,null,null,null,null,null,null,null,null,null,null,null,null,null,null,null,"地震保険料の控除額",null,null,null,null,null,null,null,null,null,null,null,null,null,null,null,null,null,"住宅借入金等特別控除の額",null,null,null,null,null,null,null,null,null,null,null,null,null,null,null,null,null,null,null,null,null,null,"社会保険料等の金額",null,null,null,null,null,null,null,null,null,null,null,null,null,null,null,null,null,null,"生命保険料の控除額",null,null,null,null,null,null,null,null,null,null,null,null,null,null,null,null,null,"地震保険料の控除額",null,null,null,null,null,null,null,null,null,null,null,null,null,null,null,null,null,"住宅借入金等特別控除の額"]
[]
[null,null,"内",null,null,null,null,null,null,null,null,null,null,null,null,null,null,null,null,null,"円",null,null,null,null,null,null,null,null,null,null,null,null,null,null,null,null,null,"円",null,null,null,null,null,null,null,null,null,null,null,null,null,null,null,null,null,"円",null,null,null,null,null,null,null,null,null,null,null,null,null,null,null,null,null,"円",null,null,null,null,null,"内",null,null,null,null,null,null,null,null,null,null,null,null,null,null,null,null,null,"円",null,null,null,null,null,null,null,null,null,null,null,null,null,null,null,null,null,"円",null,null,null,null,null,null,null,null,null,null,null,null,null,null,null,null,null,"円",null,null,null,null,null,null,null,null,null,null,null,null,null,null,null,null,null,"円"]
[null,null,{"$f":"IF(C32=\"\",\"\",C32)","v":0},null,null,null,null,null,null,null,null,null,null,null,null,null,null,null,null,null,null,{"$f":"IF(V32=\"\",\"\",V32)","v":0},null,null,null,null,null,null,null,null,null,null,null,null,null,null,null,null,null,{"$f":"IF(AN32=\"\",\"\",AN32)","v":0},null,null,null,null,null,null,null,null,null,null,null,null,null,null,null,null,null,{"$f":"IF(BF32=\"\",\"\",BF32)","v":0},null,null,null,null,null,null,null,null,null,null,null,null,null,null,null,null,null,null,null,null,null,null,{"$f":"IF(C32=\"\",\"\",C32)","v":0},null,null,null,null,null,null,null,null,null,null,null,null,null,null,null,null,null,null,{"$f":"IF(V32=\"\",\"\",V32)","v":0},null,null,null,null,null,null,null,null,null,null,null,null,null,null,null,null,null,{"$f":"IF(AN32=\"\",\"\",AN32)","v":0},null,null,null,null,null,null,null,null,null,null,null,null,null,null,null,null,null,{"$f":"IF(BF32=\"\",\"\",BF32)","v":0}]
[]
[]
[null,null,"(摘要)",null,null,null,{"$f":"IF(G35=\"\",\"\",G35)","v":""},null,null,null,null,null,null,null,null,null,null,null,null,null,null,null,null,null,null,null,null,null,null,null,null,null,null,null,null,null,null,null,null,null,null,null,null,null,null,null,null,null,null,null,null,null,null,null,null,null,null,null,null,null,null,null,null,null,null,null,null,null,null,null,null,null,null,null,null,null,null,null,null,null,"(摘要)",null,null,null,{"$f":"IF(G35=\"\",\"\",G35)","v":""}]
[]
[null,null,{"$f":"IF(C37=\"\",\"\",C37)","v":""},null,null,null,null,null,null,null,null,null,null,null,null,null,null,null,null,null,null,null,null,null,null,null,null,null,null,null,null,null,null,null,null,null,null,null,null,null,null,null,null,null,null,null,null,null,null,null,null,null,null,null,null,null,null,null,null,null,null,null,null,null,null,null,null,null,null,null,null,null,null,null,null,null,null,null,null,null,{"$f":"IF(C37=\"\",\"\",C37)","v":""}]
[]
[null,null,{"$f":"IF(C39=\"\",\"\",C39)","v":""},null,null,null,null,null,null,null,null,null,null,null,null,null,null,null,null,null,null,null,null,null,null,null,null,null,null,null,null,null,null,null,null,null,null,null,null,null,null,null,null,null,null,null,null,null,null,null,null,null,null,null,null,null,null,null,null,null,null,null,null,null,null,null,null,null,null,null,null,null,null,null,null,null,null,null,null,null,{"$f":"IF(C39=\"\",\"\",C39)","v":""}]
[]
[null,null,{"$f":"IF(C41=\"\",\"\",C41)","v":""},null,null,null,null,null,null,null,null,null,null,null,null,null,null,null,null,null,null,null,null,null,null,null,null,null,null,null,null,null,null,null,null,null,null,null,null,null,null,null,null,null,null,null,null,null,null,null,null,null,null,null,null,null,null,null,null,null,null,null,null,null,null,null,null,null,null,null,null,null,null,null,null,null,null,null,null,null,{"$f":"IF(C41=\"\",\"\",C41)","v":""}]
[]
[null,null,"額の内訳","料の控除","生命保険","新生命保険\n料の金額",null,null,null,null,null,null,null,null,null,null,null,null,"円","旧生命保険\n料の金額",null,null,null,null,null,null,null,null,null,null,null,null,"円","介護医療保\n険料の金額",null,null,null,null,null,null,null,null,null,null,null,null,"円","新個人年金\n保険料の金額",null,null,null,null,null,null,null,null,null,null,null,null,"円","旧個人年金\n保険料の金額",null,null,null,null,null,null,null,null,null,null,null,null,"円",null,null,null,null,null,"額の内訳","料の控除","生命保険","新生命保険\n料の金額",null,null,null,null,null,null,null,null,null,null,null,null,"円","旧生命保険\n料の金額",null,null,null,null,null,null,null,null,null,null,null,null,"円","介護医療保\n険料の金額",null,null,null,null,null,null,null,null,null,null,null,null,"円","新個人年金\n保険料の金額",null,null,null,null,null,null,null,null,null,null,null,null,"円","旧個人年金\n保険料の金額",null,null,null,null,null,null,null,null,null,null,null,null,"円"]
[null,null,null,null,null,null,null,null,null,null,null,null,{"$f":"IF(M44=\"\",\"\",M44)","v":""},null,null,null,null,null,null,null,null,null,null,null,null,null,{"$f":"IF(AA44=\"\",\"\",AA44)","v":""},null,null,null,null,null,null,null,null,null,null,null,null,null,{"$f":"IF(AO44=\"\",\"\",AO44)","v":""},null,null,null,null,null,null,null,null,null,null,null,null,null,{"$f":"IF(BC44=\"\",\"\",BC44)","v":""},null,null,null,null,null,null,null,null,null,null,null,null,null,{"$f":"IF(BQ44=\"\",\"\",BQ44)","v":""},null,null,null,null,null,null,null,null,null,null,null,null,null,null,null,null,null,null,null,null,null,{"$f":"IF(M44=\"\",\"\",M44)","v":""},null,null,null,null,null,null,null,null,null,null,null,null,null,{"$f":"IF(AA44=\"\",\"\",AA44)","v":""},null,null,null,null,null,null,null,null,null,null,null,null,null,{"$f":"IF(AO44=\"\",\"\",AO44)","v":""},null,null,null,null,null,null,null,null,null,null,null,null,null,{"$f":"IF(BC44=\"\",\"\",BC44)","v":""},null,null,null,null,null,null,null,null,null,null,null,null,null,{"$f":"IF(BQ44=\"\",\"\",BQ44)","v":""}]
[]
[]
[]
[null,null,"の額の内訳","等特別控除","住宅借入金","住宅借入金\n等特別控除\n適用数",null,null,null,null,null,null,null,null,null,null,null,null,null,"居住開始年\n月日(1回目)",null,null,null,null,null,null,null,null,null,null,null,"年",null,null,null,"月",null,null,null,"日","住宅借入金等\n特別控除区分\n(1回目)",null,null,null,null,null,null,null,null,null,null,null,null,null,"住宅借入金等\n年末残高(1回目)",null,null,null,null,null,null,null,null,null,null,null,null,null,null,null,null,null,null,null,"円",null,null,null,null,null,"の額の内訳","等特別控除","住宅借入金","住宅借入金\n等特別控除\n適用数",null,null,null,null,null,null,null,null,null,null,null,null,null,"居住開始年\n月日(1回目)",null,null,null,null,null,null,null,null,null,null,null,"年",null,null,null,"月",null,null,null,"日","住宅借入金等\n特別控除区分\n(1回目)",null,null,null,null,null,null,null,null,null,null,null,null,null,"住宅借入金等\n年末残高(1回目)",null,null,null,null,null,null,null,null,null,null,null,null,null,null,null,null,null,null,null,"円"]
[null,null,null,null,null,null,null,null,null,null,null,null,{"$f":"IF(M49=\"\",\"\",M49)","v":""},null,null,null,null,null,null,null,null,null,null,null,null,null,{"$f":"IF(AA49=\"\",\"\",AA49)","v":""},null,null,null,null,null,{"$f":"IF(AG49=\"\",\"\",AG49)","v":""},null,null,null,{"$f":"IF(AK49=\"\",\"\",AK49)","v":""},null,null,null,null,null,null,null,null,null,null,{"$f":"IF(AV49=\"\",\"\",AV49)","v":""},null,null,null,null,null,null,null,null,null,null,null,null,null,{"$f":"IF(BJ49=\"\",\"\",BJ49)","v":""},null,null,null,null,null,null,null,null,null,null,null,null,null,null,null,null,null,null,null,null,null,null,null,null,null,null,null,null,{"$f":"IF(M49=\"\",\"\",M49)","v":""},null,null,null,null,null,null,null,null,null,null,null,null,null,{"$f":"IF(AA49=\"\",\"\",AA49)","v":""},null,null,null,null,null,{"$f":"IF(AG49=\"\",\"\",AG49)","v":""},null,null,null,{"$f":"IF(AK49=\"\",\"\",AK49)","v":""},null,null,null,null,null,null,null,null,null,null,{"$f":"IF(AV49=\"\",\"\",AV49)","v":""},null,null,null,null,null,null,null,null,null,null,null,null,null,{"$f":"IF(BJ49=\"\",\"\",BJ49)","v":""}]
[]
[]
[]
[null,null,null,null,null,"住宅借入金\n等特別控除\n可能額",null,null,null,null,null,null,null,null,null,null,null,null,"円","居住開始年\n月日(2回目)",null,null,null,null,null,null,null,null,null,null,null,"年",null,null,null,"月",null,null,null,"日","住宅借入金等\n特別控除区分\n(2回目)",null,null,null,null,null,null,null,null,null,null,null,null,null,"住宅借入金等\n年末残高(2回目)",null,null,null,null,null,null,null,null,null,null,null,null,null,null,null,null,null,null,null,"円",null,null,null,null,null,null,null,null,"住宅借入金\n等特別控除\n可能額",null,null,null,null,null,null,null,null,null,null,null,null,"円","居住開始年\n月日(2回目)",null,null,null,null,null,null,null,null,null,null,null,"年",null,null,null,"月",null,null,null,"日","住宅借入金等\n特別控除区分\n(2回目)",null,null,null,null,null,null,null,null,null,null,null,null,null,"住宅借入金等\n年末残高(2回目)",null,null,null,null,null,null,null,null,null,null,null,null,null,null,null,null,null,null,null,"円"]
[null,null,null,null,null,null,null,null,null,null,null,null,{"$f":"IF(M54=\"\",\"\",M54)","v":""},null,null,null,null,null,null,null,null,null,null,null,null,null,{"$f":"IF(AA54=\"\",\"\",AA54)","v":""},null,null,null,null,null,{"$f":"IF(AG54=\"\",\"\",AG54)","v":""},null,null,null,{"$f":"IF(AK54=\"\",\"\",AK54)","v":""},null,null,null,null,null,null,null,null,null,null,{"$f":"IF(AV54=\"\",\"\",AV54)","v":""},null,null,null,null,null,null,null,null,null,null,null,null,null,{"$f":"IF(BJ54=\"\",\"\",BJ54)","v":""},null,null,null,null,null,null,null,null,null,null,null,null,null,null,null,null,null,null,null,null,null,null,null,null,null,null,null,null,{"$f":"IF(M54=\"\",\"\",M54)","v":""},null,null,null,null,null,null,null,null,null,null,null,null,null,{"$f":"IF(AA54=\"\",\"\",AA54)","v":""},null,null,null,null,null,{"$f":"IF(AG54=\"\",\"\",AG54)","v":""},null,null,null,{"$f":"IF(AK54=\"\",\"\",AK54)","v":""},null,null,null,null,null,null,null,null,null,null,{"$f":"IF(AV54=\"\",\"\",AV54)","v":""},null,null,null,null,null,null,null,null,null,null,null,null,null,{"$f":"IF(BJ54=\"\",\"\",BJ54)","v":""}]
[]
[]
[]
[null,null,"控除対象配偶者",null,null,"(フリガナ)",null,null,null,null,null,{"$f":"IF(L58=\"\",\"\",L58)","v":""},null,null,null,null,null,null,null,null,null,null,null,null,null,null,null,null,null,"区分",null,{"$f":"IF(AF58=\"\",\"\",AF58)","v":""},null,null,null,"配偶者の\n合計所得",null,null,null,null,null,null,null,null,null,null,null,"円","国民年金\n保険料等\nの金額",null,null,null,null,null,null,null,null,null,null,null,"円","旧長期\n損害保険\n料の金額",null,null,null,null,null,null,null,null,null,null,null,null,"円",null,null,null,null,null,"控除対象配偶者",null,null,"(フリガナ)",null,null,null,null,null,{"$f":"IF(L58=\"\",\"\",L58)","v":""},null,null,null,null,null,null,null,null,null,null,null,null,null,null,null,null,null,"区分",null,{"$f":"IF(AF58=\"\",\"\",AF58)","v":""},null,null,null,"配偶者の\n合計所得",null,null,null,null,null,null,null,null,null,null,null,"円","国民年金\n保険料等\nの金額",null,null,null,null,null,null,null,null,null,null,null,"円","旧長期\n損害保険\n料の金額",null,null,null,null,null,null,null,null,null,null,null,null,"円"]
[null,null,null,null,null,null,null,null,null,null,null,null,null,null,null,null,null,null,null,null,null,null,null,null,null,null,null,null,null,null,null,null,null,null,null,null,null,null,null,null,null,{"$f":"IF(AP59=\"\",\"\",AP59)","v":0},null,null,null,null,null,null,null,null,null,null,null,null,{"$f":"IF(BC59=\"\",\"\",BC59)","v":""},null,null,null,null,null,null,null,null,null,null,null,null,{"$f":"IF(BP59=\"\",\"\",BP59)","v":0},null,null,null,null,null,null,null,null,null,null,null,null,null,null,null,null,null,null,null,null,null,null,null,null,null,null,null,null,null,null,null,null,null,null,null,null,null,null,null,null,null,null,null,null,null,null,null,null,null,null,null,{"$f":"IF(AP59=\"\",\"\",AP59)","v":0},null,null,null,null,null,null,null,null,null,null,null,null,{"$f":"IF(BC59=\"\",\"\",BC59)","v":""},null,null,null,null,null,null,null,null,null,null,null,null,{"$f":"IF(BP59=\"\",\"\",BP59)","v":0}]
[null,null,null,null,null,"氏名",null,null,null,null,null,{"$f":"IF(L60=\"\",\"\",L60)","v":""},null,null,null,null,null,null,null,null,null,null,null,null,null,null,null,null,null,null,null,null,null,null,null,null,null,null,null,null,null,null,null,null,null,null,null,null,null,null,null,null,null,null,null,null,null,null,null,null,null,null,null,null,null,null,null,null,null,null,null,null,null,null,null,null,null,null,null,null,null,null,null,"氏名",null,null,null,null,null,{"$f":"IF(L60=\"\",\"\",L60)","v":""}]
[]
[]
[null,null,null,null,null,"個人番号",null,null,null,null,null,{"$f":"IF(L63=\"\",\"\",L63)","v":""},null,{"$f":"IF(N63=\"\",\"\",N63)","v":""},null,{"$f":"IF(P63=\"\",\"\",P63)","v":""},null,{"$f":"IF(R63=\"\",\"\",R63)","v":""},null,{"$f":"IF(T63=\"\",\"\",T63)","v":""},null,{"$f":"IF(V63=\"\",\"\",V63)","v":""},null,{"$f":"IF(X63=\"\",\"\",X63)","v":""},null,{"$f":"IF(Z63=\"\",\"\",Z63)","v":""},null,{"$f":"IF(AB63=\"\",\"\",AB63)","v":""},null,{"$f":"IF(AD63=\"\",\"\",AD63)","v":""},null,{"$f":"IF(AF63=\"\",\"\",AF63)","v":""},null,{"$f":"IF(AH63=\"\",\"\",AH63)","v":""}]
[]
[]
[null,null,"控除対象扶養親族",null,1,"(フリガナ)",null,null,null,null,null,{"$f":"IF(L66=\"\",\"\",L66)","v":""},null,null,null,null,null,null,null,null,null,null,null,null,null,null,null,null,null,"区分",null,{"$f":"IF(AF66=\"\",\"\",AF66)","v":""},null,null,null,"16歳未満の扶養親族",null,1,"(フリガナ)",null,null,null,null,null,{"$f":"IF(AS66=\"\",\"\",AS66)","v":""},null,null,null,null,null,null,null,null,null,null,null,null,null,null,null,null,null,"区分",null,{"$f":"IF(BM66=\"\",\"\",BM66)","v":""},null,null,null,"（備考）",null,null,null,null,null,null,null,null,null,null,null,"控除対象扶養親族",null,1,"(フリガナ)",null,null,null,null,null,{"$f":"IF(L66=\"\",\"\",L66)","v":""},null,null,null,null,null,null,null,null,null,null,null,null,null,null,null,null,null,"区分",null,{"$f":"IF(AF66=\"\",\"\",AF66)","v":""},null,null,null,"16歳未満の扶養親族",null,1,"(フリガナ)",null,null,null,null,null,{"$f":"IF(AS66=\"\",\"\",AS66)","v":""},null,null,null,null,null,null,null,null,null,null,null,null,null,null,null,null,null,"区分",null,{"$f":"IF(BM66=\"\",\"\",BM66)","v":""}]
[]
[null,null,null,null,null,"氏名",null,null,null,null,null,{"$f":"IF(L68=\"\",\"\",L68)","v":""},null,null,null,null,null,null,null,null,null,null,null,null,null,null,null,null,null,null,null,null,null,null,null,null,null,null,"氏名",null,null,null,null,null,{"$f":"IF(AS68=\"\",\"\",AS68)","v":""},null,null,null,null,null,null,null,null,null,null,null,null,null,null,null,null,null,null,null,null,null,null,null,null,null,null,null,null,null,null,null,null,null,null,null,null,null,null,"氏名",null,null,null,null,null,{"$f":"IF(L68=\"\",\"\",L68)","v":""},null,null,null,null,null,null,null,null,null,null,null,null,null,null,null,null,null,null,null,null,null,null,null,null,null,null,"氏名",null,null,null,null,null,{"$f":"IF(AS68=\"\",\"\",AS68)","v":""}]
[]
[]
[null,null,null,null,null,"個人番号",null,null,null,null,null,{"$f":"IF(L71=\"\",\"\",L71)","v":""},null,{"$f":"IF(N71=\"\",\"\",N71)","v":""},null,{"$f":"IF(P71=\"\",\"\",P71)","v":""},null,{"$f":"IF(R71=\"\",\"\",R71)","v":""},null,{"$f":"IF(T71=\"\",\"\",T71)","v":""},null,{"$f":"IF(V71=\"\",\"\",V71)","v":""},null,{"$f":"IF(X71=\"\",\"\",X71)","v":""},null,{"$f":"IF(Z71=\"\",\"\",Z71)","v":""},null,{"$f":"IF(AB71=\"\",\"\",AB71)","v":""},null,{"$f":"IF(AD71=\"\",\"\",AD71)","v":""},null,{"$f":"IF(AF71=\"\",\"\",AF71)","v":""},null,{"$f":"IF(AH71=\"\",\"\",AH71)","v":""}]
[]
[]
[null,null,null,null,2,"(フリガナ)",null,null,null,null,null,{"$f":"IF(L74=\"\",\"\",L74)","v":""},null,null,null,null,null,null,null,null,null,null,null,null,null,null,null,null,null,"区分",null,{"$f":"IF(AF74=\"\",\"\",AF74)","v":""},null,null,null,null,null,2,"(フリガナ)",null,null,null,null,null,{"$f":"IF(AS74=\"\",\"\",AS74)","v":""},null,null,null,null,null,null,null,null,null,null,null,null,null,null,null,null,null,"区分",null,{"$f":"IF(BM74=\"\",\"\",BM74)","v":""},null,null,null,null,null,null,null,null,null,null,null,null,null,null,null,null,null,2,"(フリガナ)",null,null,null,null,null,{"$f":"IF(L74=\"\",\"\",L74)","v":""},null,null,null,null,null,null,null,null,null,null,null,null,null,null,null,null,null,"区分",null,{"$f":"IF(AF74=\"\",\"\",AF74)","v":""},null,null,null,null,null,2,"(フリガナ)",null,null,null,null,null,{"$f":"IF(AS74=\"\",\"\",AS74)","v":""},null,null,null,null,null,null,null,null,null,null,null,null,null,null,null,null,null,"区分",null,{"$f":"IF(BM74=\"\",\"\",BM74)","v":""}]
[]
[null,null,null,null,null,"氏名",null,null,null,null,null,{"$f":"IF(L76=\"\",\"\",L76)","v":""},null,null,null,null,null,null,null,null,null,null,null,null,null,null,null,null,null,null,null,null,null,null,null,null,null,null,"氏名",null,null,null,null,null,{"$f":"IF(AS76=\"\",\"\",AS76)","v":""},null,null,null,null,null,null,null,null,null,null,null,null,null,null,null,null,null,null,null,null,null,null,null,null,null,null,null,null,null,null,null,null,null,null,null,null,null,null,"氏名",null,null,null,null,null,{"$f":"IF(L76=\"\",\"\",L76)","v":""},null,null,null,null,null,null,null,null,null,null,null,null,null,null,null,null,null,null,null,null,null,null,null,null,null,null,"氏名",null,null,null,null,null,{"$f":"IF(AS76=\"\",\"\",AS76)","v":""}]
[]
[]
[null,null,null,null,null,"個人番号",null,null,null,null,null,{"$f":"IF(L79=\"\",\"\",L79)","v":""},null,{"$f":"IF(N79=\"\",\"\",N79)","v":""},null,{"$f":"IF(P79=\"\",\"\",P79)","v":""},null,{"$f":"IF(R79=\"\",\"\",R79)","v":""},null,{"$f":"IF(T79=\"\",\"\",T79)","v":""},null,{"$f":"IF(V79=\"\",\"\",V79)","v":""},null,{"$f":"IF(X79=\"\",\"\",X79)","v":""},null,{"$f":"IF(Z79=\"\",\"\",Z79)","v":""},null,{"$f":"IF(AB79=\"\",\"\",AB79)","v":""},null,{"$f":"IF(AD79=\"\",\"\",AD79)","v":""},null,{"$f":"IF(AF79=\"\",\"\",AF79)","v":""},null,{"$f":"IF(AH79=\"\",\"\",AH79)","v":""}]
[]
[]
[null,null,null,null,3,"(フリガナ)",null,null,null,null,null,{"$f":"IF(L82=\"\",\"\",L82)","v":""},null,null,null,null,null,null,null,null,null,null,null,null,null,null,null,null,null,"区分",null,{"$f":"IF(AF82=\"\",\"\",AF82)","v":""},null,null,null,null,null,3,"(フリガナ)",null,null,null,null,null,{"$f":"IF(AS82=\"\",\"\",AS82)","v":""},null,null,null,null,null,null,null,null,null,null,null,null,null,null,null,null,null,"区分",null,{"$f":"IF(BM82=\"\",\"\",BM82)","v":""},null,null,null,null,null,null,null,null,null,null,null,null,null,null,null,null,null,3,"(フリガナ)",null,null,null,null,null,{"$f":"IF(L82=\"\",\"\",L82)","v":""},null,null,null,null,null,null,null,null,null,null,null,null,null,null,null,null,null,"区分",null,{"$f":"IF(AF82=\"\",\"\",AF82)","v":""},null,null,null,null,null,3,"(フリガナ)",null,null,null,null,null,{"$f":"IF(AS82=\"\",\"\",AS82)","v":""},null,null,null,null,null,null,null,null,null,null,null,null,null,null,null,null,null,"区分",null,{"$f":"IF(BM82=\"\",\"\",BM82)","v":""}]
[]
[null,null,null,null,null,"氏名",null,null,null,null,null,{"$f":"IF(L84=\"\",\"\",L84)","v":""},null,null,null,null,null,null,null,null,null,null,null,null,null,null,null,null,null,null,null,null,null,null,null,null,null,null,"氏名",null,null,null,null,null,{"$f":"IF(AS84=\"\",\"\",AS84)","v":""},null,null,null,null,null,null,null,null,null,null,null,null,null,null,null,null,null,null,null,null,null,null,null,null,null,null,null,null,null,null,null,null,null,null,null,null,null,null,"氏名",null,null,null,null,null,{"$f":"IF(L84=\"\",\"\",L84)","v":""},null,null,null,null,null,null,null,null,null,null,null,null,null,null,null,null,null,null,null,null,null,null,null,null,null,null,"氏名",null,null,null,null,null,{"$f":"IF(AS84=\"\",\"\",AS84)","v":""}]
[]
[]
[null,null,null,null,null,"個人番号",null,null,null,null,null,{"$f":"IF(L87=\"\",\"\",L87)","v":""},null,{"$f":"IF(N87=\"\",\"\",N87)","v":""},null,{"$f":"IF(P87=\"\",\"\",P87)","v":""},null,{"$f":"IF(R87=\"\",\"\",R87)","v":""},null,{"$f":"IF(T87=\"\",\"\",T87)","v":""},null,{"$f":"IF(V87=\"\",\"\",V87)","v":""},null,{"$f":"IF(X87=\"\",\"\",X87)","v":""},null,{"$f":"IF(Z87=\"\",\"\",Z87)","v":""},null,{"$f":"IF(AB87=\"\",\"\",AB87)","v":""},null,{"$f":"IF(AD87=\"\",\"\",AD87)","v":""},null,{"$f":"IF(AF87=\"\",\"\",AF87)","v":""},null,{"$f":"IF(AH87=\"\",\"\",AH87)","v":""}]
[]
[]
[null,null,null,null,4,"(フリガナ)",null,null,null,null,null,{"$f":"IF(L90=\"\",\"\",L90)","v":""},null,null,null,null,null,null,null,null,null,null,null,null,null,null,null,null,null,"区分",null,{"$f":"IF(AF90=\"\",\"\",AF90)","v":""},null,null,null,null,null,4,"(フリガナ)",null,null,null,null,null,{"$f":"IF(AS90=\"\",\"\",AS90)","v":""},null,null,null,null,null,null,null,null,null,null,null,null,null,null,null,null,null,"区分",null,{"$f":"IF(BM90=\"\",\"\",BM90)","v":""},null,null,null,null,null,null,null,null,null,null,null,null,null,null,null,null,null,4,"(フリガナ)",null,null,null,null,null,{"$f":"IF(L90=\"\",\"\",L90)","v":""},null,null,null,null,null,null,null,null,null,null,null,null,null,null,null,null,null,"区分",null,{"$f":"IF(AF90=\"\",\"\",AF90)","v":""},null,null,null,null,null,4,"(フリガナ)",null,null,null,null,null,{"$f":"IF(AS90=\"\",\"\",AS90)","v":""},null,null,null,null,null,null,null,null,null,null,null,null,null,null,null,null,null,"区分",null,{"$f":"IF(BM90=\"\",\"\",BM90)","v":""}]
[]
[null,null,null,null,null,"氏名",null,null,null,null,null,{"$f":"IF(L92=\"\",\"\",L92)","v":""},null,null,null,null,null,null,null,null,null,null,null,null,null,null,null,null,null,null,null,null,null,null,null,null,null,null,"氏名",null,null,null,null,null,{"$f":"IF(AS92=\"\",\"\",AS92)","v":""},null,null,null,null,null,null,null,null,null,null,null,null,null,null,null,null,null,null,null,null,null,null,null,null,null,null,null,null,null,null,null,null,null,null,null,null,null,null,"氏名",null,null,null,null,null,{"$f":"IF(L92=\"\",\"\",L92)","v":""},null,null,null,null,null,null,null,null,null,null,null,null,null,null,null,null,null,null,null,null,null,null,null,null,null,null,"氏名",null,null,null,null,null,{"$f":"IF(AS92=\"\",\"\",AS92)","v":""}]
[]
[]
[null,null,null,null,null,"個人番号",null,null,null,null,null,{"$f":"IF(L95=\"\",\"\",L95)","v":""},null,{"$f":"IF(N95=\"\",\"\",N95)","v":""},null,{"$f":"IF(P95=\"\",\"\",P95)","v":""},null,{"$f":"IF(R95=\"\",\"\",R95)","v":""},null,{"$f":"IF(T95=\"\",\"\",T95)","v":""},null,{"$f":"IF(V95=\"\",\"\",V95)","v":""},null,{"$f":"IF(X95=\"\",\"\",X95)","v":""},null,{"$f":"IF(Z95=\"\",\"\",Z95)","v":""},null,{"$f":"IF(AB95=\"\",\"\",AB95)","v":""},null,{"$f":"IF(AD95=\"\",\"\",AD95)","v":""},null,{"$f":"IF(AF95=\"\",\"\",AF95)","v":""},null,{"$f":"IF(AH95=\"\",\"\",AH95)","v":""}]
[]
[]
[null,null,"未成年者",null,null,"外国人",null,null,"死亡退職",null,null,"災害者",null,null,"乙欄",null,null,"本人が障害者",null,null,null,null,null,null,null,"寡婦 勤労学生",null,null,null,null,null,null,null,"寡夫",null,null,"勤労学生",null,null,"中 途 就 ・ 退 職",null,null,null,null,null,null,null,null,null,null,null,null,null,null,"受 給 者 生 年 月 日",null,null,null,null,null,null,null,null,null,null,null,null,null,null,null,null,null,null,null,null,null,null,null,null,null,"未成年者",null,null,"外国人",null,null,"死亡退職",null,null,"災害者",null,null,"乙欄",null,null,"本人が障害者",null,null,null,null,null,null,null,"寡婦 勤労学生",null,null,null,null,null,null,null,"寡夫",null,null,"勤労学生",null,null,"中 途 就 ・ 退 職",null,null,null,null,null,null,null,null,null,null,null,null,null,null,"受 給 者 生 年 月 日"]
[]
[null,null,null,null,null,null,null,null,null,null,null,null,null,null,null,null,null,"特別",null,null,null,"その他",null,null,null,"一般",null,null,null,"特別",null,null,null,null,null,null,null,null,null,"就職",null,null,"退職",null,null,"年",null,null,"月",null,null,"日",null,null,"明",null,null,"大",null,null,"昭",null,null,"平",null,null,"年",null,null,"月",null,null,"日",null,null,null,null,null,null,null,null,null,null,null,null,null,null,null,null,null,null,null,null,null,null,"特別",null,null,null,"その他",null,null,null,"一般",null,null,null,"特別",null,null,null,null,null,null,null,null,null,"就職",null,null,"退職",null,null,"年",null,null,"月",null,null,"日",null,null,"明",null,null,"大",null,null,"昭",null,null,"平",null,null,"年",null,null,"月",null,null,"日"]
["）",null,null,null,null,null,null,null,null,null,null,null,null,null,null,null,null,null,null,null,null,null,null,null,null,null,null,null,null,null,null,null,null,null,null,null,null,null,null,null,null,null,null,null,null,null,null,null,null,null,null,null,null,null,null,null,null,null,null,null,null,null,null,null,null,null,null,null,null,null,null,null,null,null,null,null,null,null,"）"]
[]
["税務署提出用",null,{"$f":"IF(C103=\"\",\"\",C103)","v":""},null,null,{"$f":"IF(F103=\"\",\"\",F103)","v":""},null,null,{"$f":"IF(I103=\"\",\"\",I103)","v":""},null,null,{"$f":"IF(L103=\"\",\"\",L103)","v":""},null,null,{"$f":"IF(O103=\"\",\"\",O103)","v":""},null,null,{"$f":"IF(R103=\"\",\"\",R103)","v":""},null,null,null,{"$f":"IF(V103=\"\",\"\",V103)","v":""},null,null,null,{"$f":"IF(Z103=\"\",\"\",Z103)","v":""},null,null,null,{"$f":"IF(AD103=\"\",\"\",AD103)","v":""},null,null,null,{"$f":"IF(AH103=\"\",\"\",AH103)","v":""},null,null,{"$f":"IF(AK103=\"\",\"\",AK103)","v":""},null,null,{"$f":"IF(AN103=\"\",\"\",AN103)","v":""},null,null,{"$f":"IF(AQ103=\"\",\"\",AQ103)","v":""},null,null,{"$f":"IF(AT103=\"\",\"\",AT103)","v":31},null,null,{"$f":"IF(AW103=\"\",\"\",AW103)","v":""},null,null,{"$f":"IF(AZ103=\"\",\"\",AZ103)","v":""},null,null,{"$f":"IF(BC103=\"\",\"\",BC103)","v":""},null,null,{"$f":"IF(BF103=\"\",\"\",BF103)","v":""},null,null,{"$f":"IF(BI103=\"\",\"\",BI103)","v":"＊"},null,null,{"$f":"IF(BL103=\"\",\"\",BL103)","v":""},null,null,{"$f":"IF(BO103=\"\",\"\",BO103)","v":0},null,null,{"$f":"IF(BR103=\"\",\"\",BR103)","v":0},null,null,{"$f":"IF(BU103=\"\",\"\",BU103)","v":0},null,null,null,null,null,"受給者交付用",null,{"$f":"IF(C103=\"\",\"\",C103)","v":""},null,null,{"$f":"IF(F103=\"\",\"\",F103)","v":""},null,null,{"$f":"IF(I103=\"\",\"\",I103)","v":""},null,null,{"$f":"IF(L103=\"\",\"\",L103)","v":""},null,null,{"$f":"IF(O103=\"\",\"\",O103)","v":""},null,null,{"$f":"IF(R103=\"\",\"\",R103)","v":""},null,null,null,{"$f":"IF(V103=\"\",\"\",V103)","v":""},null,null,null,{"$f":"IF(Z103=\"\",\"\",Z103)","v":""},null,null,null,{"$f":"IF(AD103=\"\",\"\",AD103)","v":""},null,null,null,{"$f":"IF(AH103=\"\",\"\",AH103)","v":""},null,null,{"$f":"IF(AK103=\"\",\"\",AK103)","v":""},null,null,{"$f":"IF(AN103=\"\",\"\",AN103)","v":""},null,null,{"$f":"IF(AQ103=\"\",\"\",AQ103)","v":""},null,null,{"$f":"IF(AT103=\"\",\"\",AT103)","v":31},null,null,{"$f":"IF(AW103=\"\",\"\",AW103)","v":""},null,null,{"$f":"IF(AZ103=\"\",\"\",AZ103)","v":""},null,null,{"$f":"IF(BC103=\"\",\"\",BC103)","v":""},null,null,{"$f":"IF(BF103=\"\",\"\",BF103)","v":""},null,null,{"$f":"IF(BI103=\"\",\"\",BI103)","v":"＊"},null,null,{"$f":"IF(BL103=\"\",\"\",BL103)","v":""},null,null,{"$f":"IF(BO103=\"\",\"\",BO103)","v":0},null,null,{"$f":"IF(BR103=\"\",\"\",BR103)","v":0},null,null,{"$f":"IF(BU103=\"\",\"\",BU103)","v":0}]
[]
[null,null,"支払者",null,null,"個人番号又は\n法人番号",null,null,null,null,null,null,null,null,{"$f":"IF(O105=\"\",\"\",O105)","v":""},null,{"$f":"IF(Q105=\"\",\"\",Q105)","v":""},null,{"$f":"IF(S105=\"\",\"\",S105)","v":""},null,{"$f":"IF(U105=\"\",\"\",U105)","v":""},null,{"$f":"IF(W105=\"\",\"\",W105)","v":""},null,{"$f":"IF(Y105=\"\",\"\",Y105)","v":""},null,{"$f":"IF(AA105=\"\",\"\",AA105)","v":""},null,{"$f":"IF(AC105=\"\",\"\",AC105)","v":""},null,{"$f":"IF(AE105=\"\",\"\",AE105)","v":""},null,{"$f":"IF(AG105=\"\",\"\",AG105)","v":""},null,{"$f":"IF(AI105=\"\",\"\",AI105)","v":""},null,{"$f":"IF(AK105=\"\",\"\",AK105)","v":""},null,{"$f":"IF(AM105=\"\",\"\",AM105)","v":""},null," (右詰で記載してください。)",null,null,null,null,null,null,null,null,null,null,null,null,null,null,null,null,null,null,null,null,null,null,null,null,null,null,null,null,null,null,null,null,null,null,null,null,null,null,null,"支払者"]
[]
[]
[null,null,null,null,null,"住所(居所)\n又は所在地",null,null,null,null,null,null,null,null,{"$f":"IF(O108=\"\",\"\",O108)","v":""},null,null,null,null,null,null,null,null,null,null,null,null,null,null,null,null,null,null,null,null,null,null,null,null,null,null,null,null,null,null,null,null,null,null,null,null,null,null,null,null,null,null,null,null,null,null,null,null,null,null,null,null,null,null,null,null,null,null,null,null,null,null,null,null,null,null,null,null,"住所(居所)\n又は所在地",null,null,null,null,null,null,null,null,{"$f":"IF(O108=\"\",\"\",O108)","v":""}]
[]
[]
[]
[null,null,null,null,null,"氏名又は名称",null,null,null,null,null,null,null,null,{"$f":"IF(O112=\"\",\"\",O112)","v":""},null,null,null,null,null,null,null,null,null,null,null,null,null,null,null,null,null,null,null,null,null,null,null,null,null,null,null,null,null,null,null,null,null,null,null,null,null,null,null,null,null,null,null,null,null,null,null,null,null,null,null,null,null,null,null,null,null,null,null,null,null,null,null,null,null,null,null,null,"氏名又は名称",null,null,null,null,null,null,null,null,{"$f":"IF(O112=\"\",\"\",O112)","v":""}]
["）",null,null,null,null,null,null,null,null,null,null,null,null,null,null,null,null,null,null,null,null,null,null,null,null,null,null,null,null,null,null,null,null,null,null,null,null,null,null,null,null,null,null,null,null,null,null,null,null,null,null,null,"（電話）",null,null,null,{"$f":"IF(BE113=\"\",\"\",BE113)","v":""},null,null,null,null,null,null,null,null,null,null,null,null,null,null,null,null,null,null,null,null,null,"）",null,null,null,null,null,null,null,null,null,null,null,null,null,null,null,null,null,null,null,null,null,null,null,null,null,null,null,null,null,null,null,null,null,null,null,null,null,null,null,null,null,null,null,null,null,null,null,null,null,null,null,"（電話）",null,null,null,{"$f":"IF(BE113=\"\",\"\",BE113)","v":""}]
[]
[null,null,"署番号",null,null,null,null,null,null,null,null,null,null,null,null,null,null,null,null,"整理番号"]

{"sheet":"賞与の税額表","index":3,"n_rows":50,"n_cols":20,"rows_kept":50,"cut":false,"hidden":false,"merged":[[46,1,46,19],[47,1,47,19],[48,1,48,19],[49,1,49,19],[50,1,50,19],[45,1,45,19],[34,1,34,19],[35,1,35,20],[36,1,36,19],[37,1,37,19],[38,1,38,19],[39,1,39,19],[40,1,40,19],[41,1,41,19],[42,1,42,19],[43,1,43,19],[44,1,44,19],[33,1,33,19],[4,12,4,13],[4,14,4,15],[4,16,4,17],[5,1,6,1],[5,2,6,17],[5,18,5,19],[6,18,6,19],[14,18,14,19],[28,18,28,19],[29,18,29,19],[31,1,31,19],[32,1,32,19],[0,1,0,19],[1,1,1,19],[2,2,2,17],[2,18,4,19],[3,2,3,17],[4,2,4,3],[4,4,4,5],[4,6,4,7],[4,8,4,9],[4,10,4,11]]}
[null,"賞与に対する源泉徴収税額の算出率の表(平成31年(2019年)分)"]
[null,"（平成24年 3 月31日財務省告示第115号別表第三(平成29年3月31日財務省告示第95号改正)）"]
[null,"　","甲",null,null,null,null,null,null,null,null,null,null,null,null,null,null,null,"乙"]
[null," 賞与の金","扶              養              親              族              等              の              数"]
[null," 額に乗ず","0      人",null,"1      人",null,"2      人",null,"3      人",null,"4      人",null,"5      人",null,"6      人",null,"7  人  以  上"]
[null," べき率","前  月  の  社  会  保  険  料  等  控   除   後   の   給   与   等   の   金   額",null,null,null,null,null,null,null,null,null,null,null,null,null,null,null,"前月の社会保険料等"]
[null,null,null,null,null,null,null,null,null,null,null,null,null,null,null,null,null,null,"控除後の給与等の金額"]
[null," ","以  上","率","以  上","率","以  上","率","以  上","率","以  上","率","以  上","率","以  上","率","以  上","率","以  上","未  満"]
[null,"％","千円","千円","千円","千円","千円","千円","千円","千円","千円","千円","千円","千円","千円","千円","千円","千円","千円","千円"]
[null,0,0,0,0,0,0,0,0,0,0,0,0,0,0,0,0,0]
[null,2.0419999999999998,68,2.0419999999999998,94,2.0419999999999998,133,2.0419999999999998,171,2.0419999999999998,210,2.0419999999999998,243,2.0419999999999998,275,2.0419999999999998,308,2.0419999999999998]
[null,4.0839999999999996,79,4.0839999999999996,243,4.0839999999999996,269,4.0839999999999996,295,4.0839999999999996,300,4.0839999999999996,300,4.0839999999999996,333,4.0839999999999996,372,4.0839999999999996]
[null,6.1260000000000003,252,6.1260000000000003,282,6.1260000000000003,312,6.1260000000000003,345,6.1260000000000003,378,6.1260000000000003,406,6.1260000000000003,431,6.1260000000000003,456,6.1260000000000003]
[null,8.1679999999999993,300,8.1679999999999993,338,8.1679999999999993,369,8.1679999999999993,398,8.1679999999999993,424,8.1679999999999993,450,8.1679999999999993,476,8.1679999999999993,502,8.1679999999999993]
[null,10.210000000000001,334,10.210000000000001,365,10.210000000000001,393,10.210000000000001,417,10.210000000000001,444,10.210000000000001,472,10.210000000000001,499,10.210000000000001,527,10.210000000000001,"     241千円未満"]
[null,12.252000000000001,363,12.252000000000001,394,12.252000000000001,420,12.252000000000001,445,12.252000000000001,470,12.252000000000001,496,12.252000000000001,525,12.252000000000001,553,12.252000000000001]
[null,14.294,395,14.294,422,14.294,450,14.294,477,14.294,504,14.294,531,14.294,559,14.294,588,14.294]
[null,16.335999999999999,426,16.335999999999999,455,16.335999999999999,484,16.335999999999999,513,16.335999999999999,543,16.335999999999999,574,16.335999999999999,604,16.335999999999999,632,16.335999999999999]
[null,18.378,550,18.378,550,18.378,550,18.378,557,18.378,592,18.378,622,18.378,652,18.378,683,18.378]
[null,20.420000000000002,668,20.420000000000002,689,20.420000000000002,708,20.420000000000002,724,20.420000000000002,739,20.420000000000002,754,20.420000000000002,769,20.420000000000002,784,20.420000000000002,241,301]
[null,22.462,713,22.462,734,22.462,755,22.462,776,22.462,797,22.462,818,22.462,840,22.462,862,22.462]
[null,24.504000000000001,745,24.504000000000001,767,24.504000000000001,789,24.504000000000001,811,24.504000000000001,833,24.504000000000001,856,24.504000000000001,879,24.504000000000001,902,24.504000000000001]
[null,26.545999999999999,779,26.545999999999999,802,26.545999999999999,825,26.545999999999999,849,26.545999999999999,874,26.545999999999999,898,26.545999999999999,922,26.545999999999999,947,26.545999999999999]
[null,28.588000000000001,823,28.588000000000001,846,28.588000000000001,870,28.588000000000001,894,28.588000000000001,919,28.588000000000001,945,28.588000000000001,970,28.588000000000001,996,28.588000000000001]
[null,30.63,877,30.63,903,30.63,928,30.63,954,30.63,979,30.63,1005,30.63,1034,30.63,1062,30.63,301,531]
[null,32.671999999999997,940,32.671999999999997,968,32.671999999999997,995,32.671999999999997,1025,32.671999999999997,1056,32.671999999999997,1086,32.671999999999997,1116,32.671999999999997,1147,32.671999999999997," "," "]
[null,35.734999999999999,1328,35.734999999999999,1352,35.734999999999999,1376,35.734999999999999,1401,35.734999999999999,1425,35.734999999999999,1450,35.734999999999999,1474,35.734999999999999,1498,35.734999999999999]
[null,38.798000000000002,1540,38.798000000000002,1568,38.798000000000002,1596,38.798000000000002,1624,38.798000000000002,1653,38.798000000000002,1681,38.798000000000002,1709,38.798000000000002,1738,38.798000000000002,531,1138]
[null,41.860999999999997,2667,41.860999999999997,2691,41.860999999999997,2715,41.860999999999997,2738,41.860999999999997,2762,41.860999999999997,2786,41.860999999999997,2810,41.860999999999997,2833,41.860999999999997]
[null,45.945,3556,45.945,3588,45.945,3620,45.945,3651,45.945,3683,45.945,3715,45.945,3746,45.945,3778,45.945,"     1,138千円以上"]
[]
[null,"(注) この表において「扶（注）この表において「扶養親族等」とは、源泉控除対象配偶者及び控除対象扶養親族をいいます。養親族等」とは、控除対象配偶者及び控除対象扶養親族をいいます。"]
[null,"　また、「賞与の金額に乗ずべき率」の賞与の金額とは、賞与の金額から控除される社会保険料等の金額がある場合 には、その社会保険料等控除後の金額をいいます。"]
[null," （備考）賞与の金額に乗ずべき率の求め方は、次のとおりです。"]
[null,"　１　「給与所得者の扶養控除等申告書」（以下この表において「扶養控除等申告書」といいます。）の提出があった人 （4に該当する場合を除きます。）"]
[null," 　　⑴　まず、その人の前月中の給与等（賞与を除きます。以下この表において同じです。）の金額から、その給与等の 金額から控除される社会保険料等の金額（以下この表において「前月中の社会保険料等の金額」といいます。）を 控除した金額を求めます。"]
[null," 　　⑵　次に、扶養控除等申告書により申告された扶養親族等（扶養親族等が国外居住親族である場合には、親族に該当 する旨を証する書類が扶養控除等申告書等に添付され、又は当該書類が扶養控除等申告書の提出の際に提示された 扶養親族等に限ります。）の数"]
[null," と⑴により求めた金額とに応じて甲欄の「前月の社会保険料等控除後の給与等の金額」 欄の該当する行を求めます。"]
[null," 　　⑶　⑵により求めた行と「賞与の金額に乗ずべき率」欄との交わるところに記載されている率を求めます。これが求 める率です。 　2　１の場合において、扶養控除等申告書にその人が障害者（特別障害者を含みます。）、寡婦（特別の寡婦を含みま す。）、寡夫又は勤労学生に該当する旨の記載があるときは、扶養親"]
[null,"　2　１の場合において、扶養控除等申告書にその人が障害者（特別障害者を含みます。）、寡婦（特別の寡婦を含みます。）、寡夫又は勤労学生に該当する旨の記載があるときは、扶養親族等の数にこれらの一に該当するごとに１人を加算した数を、扶養控除等申告書に"]
[null," その人の同一生計配偶者又は扶養親族のうちに障害者（特別障害者を含みます。）又は同居特別障害者（障害者（特別障害者を含みます。）又は同居特別障害者が国外居住親族である場合には、親族に該当する旨を証する書類が扶養控除等申告書に添付され、又は当該書類が"]
[null," 扶養控除等申告書の提出の際に提示された障害者（特別障害者を含みます。）又は同居特別障害者に限ります。）に該当する人がいる旨の記載があるときは、扶養親族等の数にこれらの一に該当するごとに１人を加算した数を、それぞれ扶養親族等の数とします。"]
[null,"　3　扶養控除等申告書の提出がない人（「従たる給与についての扶養控除等申告書」の提出があった人を含み、4に該 当する場合を除きます。）"]
[null," 　　⑴　その人の前月中の給与等の金額から前月中の社会保険料等の金額を控除した金額を求めます。"]
[null," 　　⑵　⑴により求めた金額に応じて乙欄の「前月の社会保険料等控除後の給与等の金額」欄の該当する行を求めます。"]
[null," 　　⑶　⑵により求めた行と「賞与の金額に乗ずべき率」欄との交わるところに記載されている率を求めます。これが求 める率です。 "]
[null,"　4　前月中の給与等の金額がない場合や前月中の給与等の金額が前月中の社会保険料等の金額以下である場合又はその 賞与の金額（その金額から控除される社会保険料等の金額がある場合には、その控除後の金額）が前月中の給与等の 金額から前月中の社会保険料等の"]
[null," 金額を控除した金額の10倍に相当する金額を超える場合には、この表によらず、平 成24年3月31日財務省告示第115号（平成29年３月31日財務省告示第95号改正）第3項第1号イ⑵若しくはロ⑵又は第 2号の規定により、月額表を使って税額を計算します。 "]
[null,"　5　1から4までの場合において、その人の受ける給与等の支給期が月の整数倍の期間ごとと定められているときは、その賞与の支払の直前に支払を受けた若しくは支払を受けるべき給与等の金額又はその給与等の金額から控除される 社会保険料等の金額をその倍数で"]
[null," 除して計算した金額を、それぞれ前月中の給与等の金額又はその金額から控除され る社会保険料等の金額とみなします。"]